BEGIN:VCALENDAR
VERSION:2.0
PRODID:-//Immanuel Woden Valley Lutheran Church - Lyons, ACT - ECPv6.15.14//NONSGML v1.0//EN
CALSCALE:GREGORIAN
METHOD:PUBLISH
X-ORIGINAL-URL:https://woden.lutheran.org.au
X-WR-CALDESC:Events for Immanuel Woden Valley Lutheran Church - Lyons, ACT
REFRESH-INTERVAL;VALUE=DURATION:PT1H
X-Robots-Tag:noindex
X-PUBLISHED-TTL:PT1H
BEGIN:VTIMEZONE
TZID:Australia/Sydney
BEGIN:STANDARD
TZOFFSETFROM:+1100
TZOFFSETTO:+1000
TZNAME:AEST
DTSTART:20240406T160000
END:STANDARD
BEGIN:DAYLIGHT
TZOFFSETFROM:+1000
TZOFFSETTO:+1100
TZNAME:AEDT
DTSTART:20241005T160000
END:DAYLIGHT
BEGIN:STANDARD
TZOFFSETFROM:+1100
TZOFFSETTO:+1000
TZNAME:AEST
DTSTART:20250405T160000
END:STANDARD
BEGIN:DAYLIGHT
TZOFFSETFROM:+1000
TZOFFSETTO:+1100
TZNAME:AEDT
DTSTART:20251004T160000
END:DAYLIGHT
BEGIN:STANDARD
TZOFFSETFROM:+1100
TZOFFSETTO:+1000
TZNAME:AEST
DTSTART:20260404T160000
END:STANDARD
BEGIN:DAYLIGHT
TZOFFSETFROM:+1000
TZOFFSETTO:+1100
TZNAME:AEDT
DTSTART:20261003T160000
END:DAYLIGHT
END:VTIMEZONE
BEGIN:VEVENT
DTSTART;TZID=Australia/Sydney:20251113T100000
DTEND;TZID=Australia/Sydney:20251113T123000
DTSTAMP:20260425T204303
CREATED:20250703T014710Z
LAST-MODIFIED:20250929T041457Z
UID:10004238-1763028000-1763037000@woden.lutheran.org.au
SUMMARY:Thursday Morning Bible Study
DESCRIPTION:This is a bible study group to explore God’s word and come together for a time of fellowship.
URL:https://woden.lutheran.org.au/event/thursday-morning-bible-study-2/2025-11-13/
LOCATION:Immanuel Woden Valley Church Hall\, 37 Burnie St\, Lyons\, ACT\, 2606\, Australia
CATEGORIES:Bible Study Group,Fellowship
ATTACH;FMTTYPE=image/jpeg:https://woden.lutheran.org.au/wp-content/uploads/2019/06/prayer.jpg
ORGANIZER;CN="Heather Noller":MAILTO:heather.noller@gmail.com
GEO:-35.343238;149.0813496
X-APPLE-STRUCTURED-LOCATION;VALUE=URI;X-ADDRESS=Immanuel Woden Valley Church Hall 37 Burnie St Lyons ACT 2606 Australia;X-APPLE-RADIUS=500;X-TITLE=37 Burnie St:geo:149.0813496,-35.343238
END:VEVENT
BEGIN:VEVENT
DTSTART;TZID=Australia/Sydney:20251116T090000
DTEND;TZID=Australia/Sydney:20251116T100000
DTSTAMP:20260425T204303
CREATED:20251111T014423Z
LAST-MODIFIED:20260114T025919Z
UID:10003693-1763283600-1763287200@woden.lutheran.org.au
SUMMARY:Traditional Service with Livestream
DESCRIPTION:The 9.00am service is more traditional liturgical service with a spoken or sung liturgy. Hymns and songs are accompanied by an organist or pianist.
URL:https://woden.lutheran.org.au/event/traditional-service-with-livestream-7-2-2/2025-11-16/
LOCATION:Immanuel Woden Valley Lutheran Church\, 37 Burnie St\, Lyons\, ACT\, 2606\, Australia
CATEGORIES:Fellowship,Worship
ATTACH;FMTTYPE=image/jpeg:https://woden.lutheran.org.au/wp-content/uploads/2021/10/2dd0bab5d85664f86920adae085a5466_-australian-capital-territory-lyons-immanuel-woden-valley-lutheran-church-02-6282-1195html-e1657854624415.jpg
GEO:-35.343238;149.0813496
X-APPLE-STRUCTURED-LOCATION;VALUE=URI;X-ADDRESS=Immanuel Woden Valley Lutheran Church 37 Burnie St Lyons ACT 2606 Australia;X-APPLE-RADIUS=500;X-TITLE=37 Burnie St:geo:149.0813496,-35.343238
END:VEVENT
BEGIN:VEVENT
DTSTART;TZID=Australia/Sydney:20251116T103000
DTEND;TZID=Australia/Sydney:20251116T113000
DTSTAMP:20260425T204303
CREATED:20251111T014357Z
LAST-MODIFIED:20260114T025833Z
UID:10003953-1763289000-1763292600@woden.lutheran.org.au
SUMMARY:Contemporary Service with Livestream
DESCRIPTION:The 10.30am service is a more relaxed\, contemporary style. The music is led by a band and singers.
URL:https://woden.lutheran.org.au/event/contemporary-service-with-livestream-6-2-2/2025-11-16/
LOCATION:Immanuel Woden Valley Lutheran Church\, 37 Burnie St\, Lyons\, ACT\, 2606\, Australia
CATEGORIES:Fellowship,Worship
ATTACH;FMTTYPE=image/jpeg:https://woden.lutheran.org.au/wp-content/uploads/2021/10/2dd0bab5d85664f86920adae085a5466_-australian-capital-territory-lyons-immanuel-woden-valley-lutheran-church-02-6282-1195html-e1657854624415.jpg
GEO:-35.343238;149.0813496
X-APPLE-STRUCTURED-LOCATION;VALUE=URI;X-ADDRESS=Immanuel Woden Valley Lutheran Church 37 Burnie St Lyons ACT 2606 Australia;X-APPLE-RADIUS=500;X-TITLE=37 Burnie St:geo:149.0813496,-35.343238
END:VEVENT
END:VCALENDAR