BEGIN:VCALENDAR
VERSION:2.0
PRODID:-//Immanuel Woden Valley Lutheran Church - Lyons, ACT - ECPv6.15.14//NONSGML v1.0//EN
CALSCALE:GREGORIAN
METHOD:PUBLISH
X-ORIGINAL-URL:https://woden.lutheran.org.au
X-WR-CALDESC:Events for Immanuel Woden Valley Lutheran Church - Lyons, ACT
REFRESH-INTERVAL;VALUE=DURATION:PT1H
X-Robots-Tag:noindex
X-PUBLISHED-TTL:PT1H
BEGIN:VTIMEZONE
TZID:Australia/Sydney
BEGIN:STANDARD
TZOFFSETFROM:+1100
TZOFFSETTO:+1000
TZNAME:AEST
DTSTART:20240406T160000
END:STANDARD
BEGIN:DAYLIGHT
TZOFFSETFROM:+1000
TZOFFSETTO:+1100
TZNAME:AEDT
DTSTART:20241005T160000
END:DAYLIGHT
BEGIN:STANDARD
TZOFFSETFROM:+1100
TZOFFSETTO:+1000
TZNAME:AEST
DTSTART:20250405T160000
END:STANDARD
BEGIN:DAYLIGHT
TZOFFSETFROM:+1000
TZOFFSETTO:+1100
TZNAME:AEDT
DTSTART:20251004T160000
END:DAYLIGHT
BEGIN:STANDARD
TZOFFSETFROM:+1100
TZOFFSETTO:+1000
TZNAME:AEST
DTSTART:20260404T160000
END:STANDARD
BEGIN:DAYLIGHT
TZOFFSETFROM:+1000
TZOFFSETTO:+1100
TZNAME:AEDT
DTSTART:20261003T160000
END:DAYLIGHT
END:VTIMEZONE
BEGIN:VEVENT
DTSTART;TZID=Australia/Sydney:20251214T090000
DTEND;TZID=Australia/Sydney:20251214T100000
DTSTAMP:20260425T204303
CREATED:20251111T014423Z
LAST-MODIFIED:20260114T025919Z
UID:10003697-1765702800-1765706400@woden.lutheran.org.au
SUMMARY:Traditional Service with Livestream
DESCRIPTION:The 9.00am service is more traditional liturgical service with a spoken or sung liturgy. Hymns and songs are accompanied by an organist or pianist.
URL:https://woden.lutheran.org.au/event/traditional-service-with-livestream-7-2-2/2025-12-14/
LOCATION:Immanuel Woden Valley Lutheran Church\, 37 Burnie St\, Lyons\, ACT\, 2606\, Australia
CATEGORIES:Fellowship,Worship
ATTACH;FMTTYPE=image/jpeg:https://woden.lutheran.org.au/wp-content/uploads/2021/10/2dd0bab5d85664f86920adae085a5466_-australian-capital-territory-lyons-immanuel-woden-valley-lutheran-church-02-6282-1195html-e1657854624415.jpg
GEO:-35.343238;149.0813496
X-APPLE-STRUCTURED-LOCATION;VALUE=URI;X-ADDRESS=Immanuel Woden Valley Lutheran Church 37 Burnie St Lyons ACT 2606 Australia;X-APPLE-RADIUS=500;X-TITLE=37 Burnie St:geo:149.0813496,-35.343238
END:VEVENT
BEGIN:VEVENT
DTSTART;TZID=Australia/Sydney:20251214T160000
DTEND;TZID=Australia/Sydney:20251214T180000
DTSTAMP:20260425T204303
CREATED:20251111T022544Z
LAST-MODIFIED:20251111T022544Z
UID:10004840-1765728000-1765735200@woden.lutheran.org.au
SUMMARY:Lyons Community Christmas Celebration
DESCRIPTION:Gathering in the park behind Lyons Shops. \n\n4pm Activities\n5pm Nativity and Carols\n5:30 BBQ dinner – sausage sizzle provided\n\nInvite your friends and family to share in the celebration of Christ’s birth and embrace the spirit of Christmas! \nEveryone is welcome.
URL:https://woden.lutheran.org.au/event/lyons-community-christmas-celebration/
LOCATION:Family Christmas Celebration – Lyon Shops\, 5 Lyons Place\, Lyons\, ACT\, Australia
CATEGORIES:Fellowship
ATTACH;FMTTYPE=image/png:https://woden.lutheran.org.au/wp-content/uploads/2025/11/IWV-Community-Christmas-Celebration-Website-Facebook-post-Facebook-Post.png
GEO:-35.339302;149.076475
X-APPLE-STRUCTURED-LOCATION;VALUE=URI;X-ADDRESS=Family Christmas Celebration – Lyon Shops 5 Lyons Place Lyons ACT Australia;X-APPLE-RADIUS=500;X-TITLE=5 Lyons Place\, Lyons:geo:149.076475,-35.339302
END:VEVENT
END:VCALENDAR