BEGIN:VCALENDAR
VERSION:2.0
PRODID:-//Immanuel Woden Valley Lutheran Church - Lyons, ACT - ECPv6.15.14//NONSGML v1.0//EN
CALSCALE:GREGORIAN
METHOD:PUBLISH
X-WR-CALNAME:Immanuel Woden Valley Lutheran Church - Lyons, ACT
X-ORIGINAL-URL:https://woden.lutheran.org.au
X-WR-CALDESC:Events for Immanuel Woden Valley Lutheran Church - Lyons, ACT
REFRESH-INTERVAL;VALUE=DURATION:PT1H
X-Robots-Tag:noindex
X-PUBLISHED-TTL:PT1H
BEGIN:VTIMEZONE
TZID:Australia/Sydney
BEGIN:STANDARD
TZOFFSETFROM:+1100
TZOFFSETTO:+1000
TZNAME:AEST
DTSTART:20180331T160000
END:STANDARD
BEGIN:DAYLIGHT
TZOFFSETFROM:+1000
TZOFFSETTO:+1100
TZNAME:AEDT
DTSTART:20181006T160000
END:DAYLIGHT
BEGIN:STANDARD
TZOFFSETFROM:+1100
TZOFFSETTO:+1000
TZNAME:AEST
DTSTART:20190406T160000
END:STANDARD
BEGIN:DAYLIGHT
TZOFFSETFROM:+1000
TZOFFSETTO:+1100
TZNAME:AEDT
DTSTART:20191005T160000
END:DAYLIGHT
BEGIN:STANDARD
TZOFFSETFROM:+1100
TZOFFSETTO:+1000
TZNAME:AEST
DTSTART:20200404T160000
END:STANDARD
BEGIN:DAYLIGHT
TZOFFSETFROM:+1000
TZOFFSETTO:+1100
TZNAME:AEDT
DTSTART:20201003T160000
END:DAYLIGHT
END:VTIMEZONE
BEGIN:VTIMEZONE
TZID:UTC
BEGIN:STANDARD
TZOFFSETFROM:+0000
TZOFFSETTO:+0000
TZNAME:UTC
DTSTART:20180101T000000
END:STANDARD
END:VTIMEZONE
BEGIN:VEVENT
DTSTART;TZID=Australia/Sydney:20191004T063000
DTEND;TZID=Australia/Sydney:20191004T080000
DTSTAMP:20260424T025900
CREATED:20180819T050512Z
LAST-MODIFIED:20201001T022014Z
UID:10001256-1570170600-1570176000@woden.lutheran.org.au
SUMMARY:Blokes Breakfast
DESCRIPTION:Come along and join the blokes from our church for a great breakfast\, (cooked by the men themselves!!)\, and an inspirational study diving into God’s Word\, before heading off to work! \nWhat a great way to start the day!!
URL:https://woden.lutheran.org.au/event/blokes-breakfast/2019-10-04/
LOCATION:Immanuel Woden Valley Church Hall\, 37 Burnie St\, Lyons\, ACT\, 2606\, Australia
CATEGORIES:Fellowship
ATTACH;FMTTYPE=image/jpeg:https://woden.lutheran.org.au/wp-content/uploads/2018/08/p10153031.jpg
ORGANIZER;CN="Contact Office":MAILTO:office@immanuellutheran.org.au
GEO:-35.343238;149.0813496
X-APPLE-STRUCTURED-LOCATION;VALUE=URI;X-ADDRESS=Immanuel Woden Valley Church Hall 37 Burnie St Lyons ACT 2606 Australia;X-APPLE-RADIUS=500;X-TITLE=37 Burnie St:geo:149.0813496,-35.343238
END:VEVENT
BEGIN:VEVENT
DTSTART;TZID=Australia/Sydney:20191004T063000
DTEND;TZID=Australia/Sydney:20191004T200000
DTSTAMP:20260424T025900
CREATED:20180915T094935Z
LAST-MODIFIED:20180915T094935Z
UID:10000056-1570170600-1570219200@woden.lutheran.org.au
SUMMARY:Blokes Breakfast
DESCRIPTION:This is a great way to catch up with the blokes of the congregation.  Enjoy breakfast (cooked by the men themselves!!) and a study lead by Pastor.  What a great way to start your day!
URL:https://woden.lutheran.org.au/event/blokes-breakfast-2/2019-10-04/
LOCATION:Immanuel Woden Valley Church Hall\, 37 Burnie St\, Lyons\, ACT\, 2606\, Australia
CATEGORIES:Fellowship
ATTACH;FMTTYPE=image/jpeg:https://woden.lutheran.org.au/wp-content/uploads/2018/08/p10153031.jpg
GEO:-35.343238;149.0813496
X-APPLE-STRUCTURED-LOCATION;VALUE=URI;X-ADDRESS=Immanuel Woden Valley Church Hall 37 Burnie St Lyons ACT 2606 Australia;X-APPLE-RADIUS=500;X-TITLE=37 Burnie St:geo:149.0813496,-35.343238
END:VEVENT
BEGIN:VEVENT
DTSTART;TZID=Australia/Sydney:20191007T093000
DTEND;TZID=Australia/Sydney:20191007T113000
DTSTAMP:20260424T025900
CREATED:20190211T083425Z
LAST-MODIFIED:20190917T023506Z
UID:10000371-1570440600-1570447800@woden.lutheran.org.au
SUMMARY:No Playgroup during school holidays
DESCRIPTION:Playgroup is designed for children 0-5 year\, at 9:30 am in a Safe Area. \nYou are welcome to come half an hour earlier and join in with the “Young Mum’s Bible Study” \nPlease contact Helen McLean on: 0414 216 523 if you are interested in volunteering or would like further information.
URL:https://woden.lutheran.org.au/event/playgroup-9-30am-and-bible-study-for-young-mums-9-00am-2019-10-07/
LOCATION:Immanuel Woden Valley Church Hall\, 37 Burnie St\, Lyons\, ACT\, 2606\, Australia
CATEGORIES:Fellowship
ATTACH;FMTTYPE=image/png:https://woden.lutheran.org.au/wp-content/uploads/2018/08/Playgroup-Logo-for-website-1.png
GEO:-35.343238;149.0813496
X-APPLE-STRUCTURED-LOCATION;VALUE=URI;X-ADDRESS=Immanuel Woden Valley Church Hall 37 Burnie St Lyons ACT 2606 Australia;X-APPLE-RADIUS=500;X-TITLE=37 Burnie St:geo:149.0813496,-35.343238
END:VEVENT
BEGIN:VEVENT
DTSTART;TZID=Australia/Sydney:20191011T063000
DTEND;TZID=Australia/Sydney:20191011T080000
DTSTAMP:20260424T025900
CREATED:20180819T050512Z
LAST-MODIFIED:20201001T022014Z
UID:10001257-1570775400-1570780800@woden.lutheran.org.au
SUMMARY:Blokes Breakfast
DESCRIPTION:Come along and join the blokes from our church for a great breakfast\, (cooked by the men themselves!!)\, and an inspirational study diving into God’s Word\, before heading off to work! \nWhat a great way to start the day!!
URL:https://woden.lutheran.org.au/event/blokes-breakfast/2019-10-11/
LOCATION:Immanuel Woden Valley Church Hall\, 37 Burnie St\, Lyons\, ACT\, 2606\, Australia
CATEGORIES:Fellowship
ATTACH;FMTTYPE=image/jpeg:https://woden.lutheran.org.au/wp-content/uploads/2018/08/p10153031.jpg
ORGANIZER;CN="Contact Office":MAILTO:office@immanuellutheran.org.au
GEO:-35.343238;149.0813496
X-APPLE-STRUCTURED-LOCATION;VALUE=URI;X-ADDRESS=Immanuel Woden Valley Church Hall 37 Burnie St Lyons ACT 2606 Australia;X-APPLE-RADIUS=500;X-TITLE=37 Burnie St:geo:149.0813496,-35.343238
END:VEVENT
BEGIN:VEVENT
DTSTART;TZID=Australia/Sydney:20191011T063000
DTEND;TZID=Australia/Sydney:20191011T200000
DTSTAMP:20260424T025900
CREATED:20180915T094935Z
LAST-MODIFIED:20180915T094935Z
UID:10000057-1570775400-1570824000@woden.lutheran.org.au
SUMMARY:Blokes Breakfast
DESCRIPTION:This is a great way to catch up with the blokes of the congregation.  Enjoy breakfast (cooked by the men themselves!!) and a study lead by Pastor.  What a great way to start your day!
URL:https://woden.lutheran.org.au/event/blokes-breakfast-2/2019-10-11/
LOCATION:Immanuel Woden Valley Church Hall\, 37 Burnie St\, Lyons\, ACT\, 2606\, Australia
CATEGORIES:Fellowship
ATTACH;FMTTYPE=image/jpeg:https://woden.lutheran.org.au/wp-content/uploads/2018/08/p10153031.jpg
GEO:-35.343238;149.0813496
X-APPLE-STRUCTURED-LOCATION;VALUE=URI;X-ADDRESS=Immanuel Woden Valley Church Hall 37 Burnie St Lyons ACT 2606 Australia;X-APPLE-RADIUS=500;X-TITLE=37 Burnie St:geo:149.0813496,-35.343238
END:VEVENT
BEGIN:VEVENT
DTSTART;TZID=Australia/Sydney:20191013T103000
DTEND;TZID=Australia/Sydney:20191013T120000
DTSTAMP:20260424T025900
CREATED:20190526T091946Z
LAST-MODIFIED:20190526T091946Z
UID:10001946-1570962600-1570968000@woden.lutheran.org.au
SUMMARY:Worship Service
DESCRIPTION:
URL:https://woden.lutheran.org.au/event/worship-service-4/2019-10-13/
LOCATION:Immanuel Woden Valley Lutheran Church\, 37 Burnie St\, Lyons\, ACT\, 2606\, Australia
CATEGORIES:Worship
GEO:-35.343238;149.0813496
X-APPLE-STRUCTURED-LOCATION;VALUE=URI;X-ADDRESS=Immanuel Woden Valley Lutheran Church 37 Burnie St Lyons ACT 2606 Australia;X-APPLE-RADIUS=500;X-TITLE=37 Burnie St:geo:149.0813496,-35.343238
END:VEVENT
BEGIN:VEVENT
DTSTART;TZID=Australia/Sydney:20191014T093000
DTEND;TZID=Australia/Sydney:20191014T113000
DTSTAMP:20260424T025900
CREATED:20190211T083425Z
LAST-MODIFIED:20190211T083529Z
UID:10000354-1571045400-1571052600@woden.lutheran.org.au
SUMMARY:Playgroup - 9.30am (and Bible Study for Young Mums - 9.00am)
DESCRIPTION:Playgroup is designed for children 0-5 year\, at 9:30 am in a Safe Area. \nYou are welcome to come half an hour earlier and join in with the “Young Mum’s Bible Study” \nPlease contact Helen McLean on: 0414 216 523 if you are interested in volunteering or would like further information.
URL:https://woden.lutheran.org.au/event/playgroup-9-30am-and-bible-study-for-young-mums-9-00am/2019-10-14/
LOCATION:Immanuel Woden Valley Church Hall\, 37 Burnie St\, Lyons\, ACT\, 2606\, Australia
CATEGORIES:Fellowship
ATTACH;FMTTYPE=image/png:https://woden.lutheran.org.au/wp-content/uploads/2018/08/Playgroup-Logo-for-website-1.png
GEO:-35.343238;149.0813496
X-APPLE-STRUCTURED-LOCATION;VALUE=URI;X-ADDRESS=Immanuel Woden Valley Church Hall 37 Burnie St Lyons ACT 2606 Australia;X-APPLE-RADIUS=500;X-TITLE=37 Burnie St:geo:149.0813496,-35.343238
END:VEVENT
BEGIN:VEVENT
DTSTART;TZID=Australia/Sydney:20191017T100000
DTEND;TZID=Australia/Sydney:20191017T140000
DTSTAMP:20260424T025900
CREATED:20190917T023040Z
LAST-MODIFIED:20191119T014040Z
UID:10000892-1571306400-1571320800@woden.lutheran.org.au
SUMMARY:Thursday Morning Fellowship
DESCRIPTION:Come along for a time of fellowship in the meeting room followed by lunch in the church hall. \nAll welcome!
URL:https://woden.lutheran.org.au/event/thursday-morning-fellowship-4/2019-10-17/
LOCATION:ACT
CATEGORIES:Fellowship
ATTACH;FMTTYPE=image/jpeg:https://woden.lutheran.org.au/wp-content/uploads/2018/09/IMG_6632.jpg
END:VEVENT
BEGIN:VEVENT
DTSTART;TZID=Australia/Sydney:20191018T063000
DTEND;TZID=Australia/Sydney:20191018T080000
DTSTAMP:20260424T025900
CREATED:20180819T050512Z
LAST-MODIFIED:20201001T022014Z
UID:10001258-1571380200-1571385600@woden.lutheran.org.au
SUMMARY:Blokes Breakfast
DESCRIPTION:Come along and join the blokes from our church for a great breakfast\, (cooked by the men themselves!!)\, and an inspirational study diving into God’s Word\, before heading off to work! \nWhat a great way to start the day!!
URL:https://woden.lutheran.org.au/event/blokes-breakfast/2019-10-18/
LOCATION:Immanuel Woden Valley Church Hall\, 37 Burnie St\, Lyons\, ACT\, 2606\, Australia
CATEGORIES:Fellowship
ATTACH;FMTTYPE=image/jpeg:https://woden.lutheran.org.au/wp-content/uploads/2018/08/p10153031.jpg
ORGANIZER;CN="Contact Office":MAILTO:office@immanuellutheran.org.au
GEO:-35.343238;149.0813496
X-APPLE-STRUCTURED-LOCATION;VALUE=URI;X-ADDRESS=Immanuel Woden Valley Church Hall 37 Burnie St Lyons ACT 2606 Australia;X-APPLE-RADIUS=500;X-TITLE=37 Burnie St:geo:149.0813496,-35.343238
END:VEVENT
BEGIN:VEVENT
DTSTART;TZID=Australia/Sydney:20191018T063000
DTEND;TZID=Australia/Sydney:20191018T200000
DTSTAMP:20260424T025900
CREATED:20180915T094935Z
LAST-MODIFIED:20180915T094935Z
UID:10000058-1571380200-1571428800@woden.lutheran.org.au
SUMMARY:Blokes Breakfast
DESCRIPTION:This is a great way to catch up with the blokes of the congregation.  Enjoy breakfast (cooked by the men themselves!!) and a study lead by Pastor.  What a great way to start your day!
URL:https://woden.lutheran.org.au/event/blokes-breakfast-2/2019-10-18/
LOCATION:Immanuel Woden Valley Church Hall\, 37 Burnie St\, Lyons\, ACT\, 2606\, Australia
CATEGORIES:Fellowship
ATTACH;FMTTYPE=image/jpeg:https://woden.lutheran.org.au/wp-content/uploads/2018/08/p10153031.jpg
GEO:-35.343238;149.0813496
X-APPLE-STRUCTURED-LOCATION;VALUE=URI;X-ADDRESS=Immanuel Woden Valley Church Hall 37 Burnie St Lyons ACT 2606 Australia;X-APPLE-RADIUS=500;X-TITLE=37 Burnie St:geo:149.0813496,-35.343238
END:VEVENT
BEGIN:VEVENT
DTSTART;TZID=Australia/Sydney:20191020T103000
DTEND;TZID=Australia/Sydney:20191020T120000
DTSTAMP:20260424T025900
CREATED:20190526T091946Z
LAST-MODIFIED:20190526T091946Z
UID:10001947-1571567400-1571572800@woden.lutheran.org.au
SUMMARY:Worship Service
DESCRIPTION:
URL:https://woden.lutheran.org.au/event/worship-service-4/2019-10-20/
LOCATION:Immanuel Woden Valley Lutheran Church\, 37 Burnie St\, Lyons\, ACT\, 2606\, Australia
CATEGORIES:Worship
GEO:-35.343238;149.0813496
X-APPLE-STRUCTURED-LOCATION;VALUE=URI;X-ADDRESS=Immanuel Woden Valley Lutheran Church 37 Burnie St Lyons ACT 2606 Australia;X-APPLE-RADIUS=500;X-TITLE=37 Burnie St:geo:149.0813496,-35.343238
END:VEVENT
BEGIN:VEVENT
DTSTART;TZID=Australia/Sydney:20191021T093000
DTEND;TZID=Australia/Sydney:20191021T113000
DTSTAMP:20260424T025900
CREATED:20190211T083425Z
LAST-MODIFIED:20190211T083529Z
UID:10000355-1571650200-1571657400@woden.lutheran.org.au
SUMMARY:Playgroup - 9.30am (and Bible Study for Young Mums - 9.00am)
DESCRIPTION:Playgroup is designed for children 0-5 year\, at 9:30 am in a Safe Area. \nYou are welcome to come half an hour earlier and join in with the “Young Mum’s Bible Study” \nPlease contact Helen McLean on: 0414 216 523 if you are interested in volunteering or would like further information.
URL:https://woden.lutheran.org.au/event/playgroup-9-30am-and-bible-study-for-young-mums-9-00am/2019-10-21/
LOCATION:Immanuel Woden Valley Church Hall\, 37 Burnie St\, Lyons\, ACT\, 2606\, Australia
CATEGORIES:Fellowship
ATTACH;FMTTYPE=image/png:https://woden.lutheran.org.au/wp-content/uploads/2018/08/Playgroup-Logo-for-website-1.png
GEO:-35.343238;149.0813496
X-APPLE-STRUCTURED-LOCATION;VALUE=URI;X-ADDRESS=Immanuel Woden Valley Church Hall 37 Burnie St Lyons ACT 2606 Australia;X-APPLE-RADIUS=500;X-TITLE=37 Burnie St:geo:149.0813496,-35.343238
END:VEVENT
BEGIN:VEVENT
DTSTART;TZID=Australia/Sydney:20191024T100000
DTEND;TZID=Australia/Sydney:20191024T140000
DTSTAMP:20260424T025900
CREATED:20190917T023040Z
LAST-MODIFIED:20191119T014040Z
UID:10000893-1571911200-1571925600@woden.lutheran.org.au
SUMMARY:Thursday Morning Fellowship
DESCRIPTION:Come along for a time of fellowship in the meeting room followed by lunch in the church hall. \nAll welcome!
URL:https://woden.lutheran.org.au/event/thursday-morning-fellowship-4/2019-10-24/
LOCATION:ACT
CATEGORIES:Fellowship
ATTACH;FMTTYPE=image/jpeg:https://woden.lutheran.org.au/wp-content/uploads/2018/09/IMG_6632.jpg
END:VEVENT
BEGIN:VEVENT
DTSTART;TZID=Australia/Sydney:20191025T063000
DTEND;TZID=Australia/Sydney:20191025T080000
DTSTAMP:20260424T025900
CREATED:20180819T050512Z
LAST-MODIFIED:20201001T022014Z
UID:10001259-1571985000-1571990400@woden.lutheran.org.au
SUMMARY:Blokes Breakfast
DESCRIPTION:Come along and join the blokes from our church for a great breakfast\, (cooked by the men themselves!!)\, and an inspirational study diving into God’s Word\, before heading off to work! \nWhat a great way to start the day!!
URL:https://woden.lutheran.org.au/event/blokes-breakfast/2019-10-25/
LOCATION:Immanuel Woden Valley Church Hall\, 37 Burnie St\, Lyons\, ACT\, 2606\, Australia
CATEGORIES:Fellowship
ATTACH;FMTTYPE=image/jpeg:https://woden.lutheran.org.au/wp-content/uploads/2018/08/p10153031.jpg
ORGANIZER;CN="Contact Office":MAILTO:office@immanuellutheran.org.au
GEO:-35.343238;149.0813496
X-APPLE-STRUCTURED-LOCATION;VALUE=URI;X-ADDRESS=Immanuel Woden Valley Church Hall 37 Burnie St Lyons ACT 2606 Australia;X-APPLE-RADIUS=500;X-TITLE=37 Burnie St:geo:149.0813496,-35.343238
END:VEVENT
BEGIN:VEVENT
DTSTART;TZID=Australia/Sydney:20191025T063000
DTEND;TZID=Australia/Sydney:20191025T200000
DTSTAMP:20260424T025900
CREATED:20180915T094935Z
LAST-MODIFIED:20180915T094935Z
UID:10000059-1571985000-1572033600@woden.lutheran.org.au
SUMMARY:Blokes Breakfast
DESCRIPTION:This is a great way to catch up with the blokes of the congregation.  Enjoy breakfast (cooked by the men themselves!!) and a study lead by Pastor.  What a great way to start your day!
URL:https://woden.lutheran.org.au/event/blokes-breakfast-2/2019-10-25/
LOCATION:Immanuel Woden Valley Church Hall\, 37 Burnie St\, Lyons\, ACT\, 2606\, Australia
CATEGORIES:Fellowship
ATTACH;FMTTYPE=image/jpeg:https://woden.lutheran.org.au/wp-content/uploads/2018/08/p10153031.jpg
GEO:-35.343238;149.0813496
X-APPLE-STRUCTURED-LOCATION;VALUE=URI;X-ADDRESS=Immanuel Woden Valley Church Hall 37 Burnie St Lyons ACT 2606 Australia;X-APPLE-RADIUS=500;X-TITLE=37 Burnie St:geo:149.0813496,-35.343238
END:VEVENT
BEGIN:VEVENT
DTSTART;TZID=Australia/Sydney:20191027T103000
DTEND;TZID=Australia/Sydney:20191027T120000
DTSTAMP:20260424T025900
CREATED:20190526T091946Z
LAST-MODIFIED:20190526T091946Z
UID:10001948-1572172200-1572177600@woden.lutheran.org.au
SUMMARY:Worship Service
DESCRIPTION:
URL:https://woden.lutheran.org.au/event/worship-service-4/2019-10-27/
LOCATION:Immanuel Woden Valley Lutheran Church\, 37 Burnie St\, Lyons\, ACT\, 2606\, Australia
CATEGORIES:Worship
GEO:-35.343238;149.0813496
X-APPLE-STRUCTURED-LOCATION;VALUE=URI;X-ADDRESS=Immanuel Woden Valley Lutheran Church 37 Burnie St Lyons ACT 2606 Australia;X-APPLE-RADIUS=500;X-TITLE=37 Burnie St:geo:149.0813496,-35.343238
END:VEVENT
BEGIN:VEVENT
DTSTART;TZID=Australia/Sydney:20191028T093000
DTEND;TZID=Australia/Sydney:20191028T113000
DTSTAMP:20260424T025900
CREATED:20190211T083425Z
LAST-MODIFIED:20190211T083529Z
UID:10000356-1572255000-1572262200@woden.lutheran.org.au
SUMMARY:Playgroup - 9.30am (and Bible Study for Young Mums - 9.00am)
DESCRIPTION:Playgroup is designed for children 0-5 year\, at 9:30 am in a Safe Area. \nYou are welcome to come half an hour earlier and join in with the “Young Mum’s Bible Study” \nPlease contact Helen McLean on: 0414 216 523 if you are interested in volunteering or would like further information.
URL:https://woden.lutheran.org.au/event/playgroup-9-30am-and-bible-study-for-young-mums-9-00am/2019-10-28/
LOCATION:Immanuel Woden Valley Church Hall\, 37 Burnie St\, Lyons\, ACT\, 2606\, Australia
CATEGORIES:Fellowship
ATTACH;FMTTYPE=image/png:https://woden.lutheran.org.au/wp-content/uploads/2018/08/Playgroup-Logo-for-website-1.png
GEO:-35.343238;149.0813496
X-APPLE-STRUCTURED-LOCATION;VALUE=URI;X-ADDRESS=Immanuel Woden Valley Church Hall 37 Burnie St Lyons ACT 2606 Australia;X-APPLE-RADIUS=500;X-TITLE=37 Burnie St:geo:149.0813496,-35.343238
END:VEVENT
BEGIN:VEVENT
DTSTART;TZID=Australia/Sydney:20191031T100000
DTEND;TZID=Australia/Sydney:20191031T140000
DTSTAMP:20260424T025900
CREATED:20190917T023040Z
LAST-MODIFIED:20191119T014040Z
UID:10000894-1572516000-1572530400@woden.lutheran.org.au
SUMMARY:Thursday Morning Fellowship
DESCRIPTION:Come along for a time of fellowship in the meeting room followed by lunch in the church hall. \nAll welcome!
URL:https://woden.lutheran.org.au/event/thursday-morning-fellowship-4/2019-10-31/
LOCATION:ACT
CATEGORIES:Fellowship
ATTACH;FMTTYPE=image/jpeg:https://woden.lutheran.org.au/wp-content/uploads/2018/09/IMG_6632.jpg
END:VEVENT
BEGIN:VEVENT
DTSTART;TZID=Australia/Sydney:20191101T063000
DTEND;TZID=Australia/Sydney:20191101T080000
DTSTAMP:20260424T025900
CREATED:20180819T050512Z
LAST-MODIFIED:20201001T022014Z
UID:10001260-1572589800-1572595200@woden.lutheran.org.au
SUMMARY:Blokes Breakfast
DESCRIPTION:Come along and join the blokes from our church for a great breakfast\, (cooked by the men themselves!!)\, and an inspirational study diving into God’s Word\, before heading off to work! \nWhat a great way to start the day!!
URL:https://woden.lutheran.org.au/event/blokes-breakfast/2019-11-01/
LOCATION:Immanuel Woden Valley Church Hall\, 37 Burnie St\, Lyons\, ACT\, 2606\, Australia
CATEGORIES:Fellowship
ATTACH;FMTTYPE=image/jpeg:https://woden.lutheran.org.au/wp-content/uploads/2018/08/p10153031.jpg
ORGANIZER;CN="Contact Office":MAILTO:office@immanuellutheran.org.au
GEO:-35.343238;149.0813496
X-APPLE-STRUCTURED-LOCATION;VALUE=URI;X-ADDRESS=Immanuel Woden Valley Church Hall 37 Burnie St Lyons ACT 2606 Australia;X-APPLE-RADIUS=500;X-TITLE=37 Burnie St:geo:149.0813496,-35.343238
END:VEVENT
BEGIN:VEVENT
DTSTART;TZID=Australia/Sydney:20191101T063000
DTEND;TZID=Australia/Sydney:20191101T200000
DTSTAMP:20260424T025900
CREATED:20180915T094935Z
LAST-MODIFIED:20180915T094935Z
UID:10000060-1572589800-1572638400@woden.lutheran.org.au
SUMMARY:Blokes Breakfast
DESCRIPTION:This is a great way to catch up with the blokes of the congregation.  Enjoy breakfast (cooked by the men themselves!!) and a study lead by Pastor.  What a great way to start your day!
URL:https://woden.lutheran.org.au/event/blokes-breakfast-2/2019-11-01/
LOCATION:Immanuel Woden Valley Church Hall\, 37 Burnie St\, Lyons\, ACT\, 2606\, Australia
CATEGORIES:Fellowship
ATTACH;FMTTYPE=image/jpeg:https://woden.lutheran.org.au/wp-content/uploads/2018/08/p10153031.jpg
GEO:-35.343238;149.0813496
X-APPLE-STRUCTURED-LOCATION;VALUE=URI;X-ADDRESS=Immanuel Woden Valley Church Hall 37 Burnie St Lyons ACT 2606 Australia;X-APPLE-RADIUS=500;X-TITLE=37 Burnie St:geo:149.0813496,-35.343238
END:VEVENT
BEGIN:VEVENT
DTSTART;TZID=Australia/Sydney:20191103T103000
DTEND;TZID=Australia/Sydney:20191103T120000
DTSTAMP:20260424T025900
CREATED:20190526T091946Z
LAST-MODIFIED:20190707T111231Z
UID:10001961-1572777000-1572782400@woden.lutheran.org.au
SUMMARY:Worship Service
DESCRIPTION:
URL:https://woden.lutheran.org.au/event/worship-service-4-2019-11-03/
LOCATION:Immanuel Woden Valley Lutheran Church\, 37 Burnie St\, Lyons\, ACT\, 2606\, Australia
CATEGORIES:Worship
GEO:-35.343238;149.0813496
X-APPLE-STRUCTURED-LOCATION;VALUE=URI;X-ADDRESS=Immanuel Woden Valley Lutheran Church 37 Burnie St Lyons ACT 2606 Australia;X-APPLE-RADIUS=500;X-TITLE=37 Burnie St:geo:149.0813496,-35.343238
END:VEVENT
BEGIN:VEVENT
DTSTART;TZID=Australia/Sydney:20191104T093000
DTEND;TZID=Australia/Sydney:20191104T113000
DTSTAMP:20260424T025900
CREATED:20190211T083425Z
LAST-MODIFIED:20190211T083529Z
UID:10000357-1572859800-1572867000@woden.lutheran.org.au
SUMMARY:Playgroup - 9.30am (and Bible Study for Young Mums - 9.00am)
DESCRIPTION:Playgroup is designed for children 0-5 year\, at 9:30 am in a Safe Area. \nYou are welcome to come half an hour earlier and join in with the “Young Mum’s Bible Study” \nPlease contact Helen McLean on: 0414 216 523 if you are interested in volunteering or would like further information.
URL:https://woden.lutheran.org.au/event/playgroup-9-30am-and-bible-study-for-young-mums-9-00am/2019-11-04/
LOCATION:Immanuel Woden Valley Church Hall\, 37 Burnie St\, Lyons\, ACT\, 2606\, Australia
CATEGORIES:Fellowship
ATTACH;FMTTYPE=image/png:https://woden.lutheran.org.au/wp-content/uploads/2018/08/Playgroup-Logo-for-website-1.png
GEO:-35.343238;149.0813496
X-APPLE-STRUCTURED-LOCATION;VALUE=URI;X-ADDRESS=Immanuel Woden Valley Church Hall 37 Burnie St Lyons ACT 2606 Australia;X-APPLE-RADIUS=500;X-TITLE=37 Burnie St:geo:149.0813496,-35.343238
END:VEVENT
BEGIN:VEVENT
DTSTART;TZID=Australia/Sydney:20191107T100000
DTEND;TZID=Australia/Sydney:20191107T140000
DTSTAMP:20260424T025900
CREATED:20190917T023040Z
LAST-MODIFIED:20191119T014040Z
UID:10000895-1573120800-1573135200@woden.lutheran.org.au
SUMMARY:Thursday Morning Fellowship
DESCRIPTION:Come along for a time of fellowship in the meeting room followed by lunch in the church hall. \nAll welcome!
URL:https://woden.lutheran.org.au/event/thursday-morning-fellowship-4/2019-11-07/
LOCATION:ACT
CATEGORIES:Fellowship
ATTACH;FMTTYPE=image/jpeg:https://woden.lutheran.org.au/wp-content/uploads/2018/09/IMG_6632.jpg
END:VEVENT
BEGIN:VEVENT
DTSTART;TZID=Australia/Sydney:20191108T063000
DTEND;TZID=Australia/Sydney:20191108T080000
DTSTAMP:20260424T025900
CREATED:20180819T050512Z
LAST-MODIFIED:20201001T022014Z
UID:10001261-1573194600-1573200000@woden.lutheran.org.au
SUMMARY:Blokes Breakfast
DESCRIPTION:Come along and join the blokes from our church for a great breakfast\, (cooked by the men themselves!!)\, and an inspirational study diving into God’s Word\, before heading off to work! \nWhat a great way to start the day!!
URL:https://woden.lutheran.org.au/event/blokes-breakfast/2019-11-08/
LOCATION:Immanuel Woden Valley Church Hall\, 37 Burnie St\, Lyons\, ACT\, 2606\, Australia
CATEGORIES:Fellowship
ATTACH;FMTTYPE=image/jpeg:https://woden.lutheran.org.au/wp-content/uploads/2018/08/p10153031.jpg
ORGANIZER;CN="Contact Office":MAILTO:office@immanuellutheran.org.au
GEO:-35.343238;149.0813496
X-APPLE-STRUCTURED-LOCATION;VALUE=URI;X-ADDRESS=Immanuel Woden Valley Church Hall 37 Burnie St Lyons ACT 2606 Australia;X-APPLE-RADIUS=500;X-TITLE=37 Burnie St:geo:149.0813496,-35.343238
END:VEVENT
BEGIN:VEVENT
DTSTART;TZID=Australia/Sydney:20191108T063000
DTEND;TZID=Australia/Sydney:20191108T200000
DTSTAMP:20260424T025900
CREATED:20180915T094935Z
LAST-MODIFIED:20180915T094935Z
UID:10000061-1573194600-1573243200@woden.lutheran.org.au
SUMMARY:Blokes Breakfast
DESCRIPTION:This is a great way to catch up with the blokes of the congregation.  Enjoy breakfast (cooked by the men themselves!!) and a study lead by Pastor.  What a great way to start your day!
URL:https://woden.lutheran.org.au/event/blokes-breakfast-2/2019-11-08/
LOCATION:Immanuel Woden Valley Church Hall\, 37 Burnie St\, Lyons\, ACT\, 2606\, Australia
CATEGORIES:Fellowship
ATTACH;FMTTYPE=image/jpeg:https://woden.lutheran.org.au/wp-content/uploads/2018/08/p10153031.jpg
GEO:-35.343238;149.0813496
X-APPLE-STRUCTURED-LOCATION;VALUE=URI;X-ADDRESS=Immanuel Woden Valley Church Hall 37 Burnie St Lyons ACT 2606 Australia;X-APPLE-RADIUS=500;X-TITLE=37 Burnie St:geo:149.0813496,-35.343238
END:VEVENT
BEGIN:VEVENT
DTSTART;TZID=UTC:20191110T090000
DTEND;TZID=UTC:20191110T101500
DTSTAMP:20260424T025900
CREATED:20180603T165438Z
LAST-MODIFIED:20191022T003139Z
UID:10000914-1573376400-1573380900@woden.lutheran.org.au
SUMMARY:Worship Service
DESCRIPTION:
URL:https://woden.lutheran.org.au/event/worship-service-2019-11-10/
LOCATION:Immanuel Woden Valley Lutheran Church\, 37 Burnie St\, Lyons\, ACT\, 2606\, Australia
CATEGORIES:Worship
GEO:-35.343238;149.0813496
X-APPLE-STRUCTURED-LOCATION;VALUE=URI;X-ADDRESS=Immanuel Woden Valley Lutheran Church 37 Burnie St Lyons ACT 2606 Australia;X-APPLE-RADIUS=500;X-TITLE=37 Burnie St:geo:149.0813496,-35.343238
END:VEVENT
BEGIN:VEVENT
DTSTART;TZID=Australia/Sydney:20191110T103000
DTEND;TZID=Australia/Sydney:20191110T120000
DTSTAMP:20260424T025900
CREATED:20190526T091946Z
LAST-MODIFIED:20190526T091946Z
UID:10001949-1573381800-1573387200@woden.lutheran.org.au
SUMMARY:Worship Service
DESCRIPTION:
URL:https://woden.lutheran.org.au/event/worship-service-4/2019-11-10/
LOCATION:Immanuel Woden Valley Lutheran Church\, 37 Burnie St\, Lyons\, ACT\, 2606\, Australia
CATEGORIES:Worship
GEO:-35.343238;149.0813496
X-APPLE-STRUCTURED-LOCATION;VALUE=URI;X-ADDRESS=Immanuel Woden Valley Lutheran Church 37 Burnie St Lyons ACT 2606 Australia;X-APPLE-RADIUS=500;X-TITLE=37 Burnie St:geo:149.0813496,-35.343238
END:VEVENT
BEGIN:VEVENT
DTSTART;TZID=Australia/Sydney:20191111T093000
DTEND;TZID=Australia/Sydney:20191111T113000
DTSTAMP:20260424T025900
CREATED:20190211T083425Z
LAST-MODIFIED:20190211T083529Z
UID:10000358-1573464600-1573471800@woden.lutheran.org.au
SUMMARY:Playgroup - 9.30am (and Bible Study for Young Mums - 9.00am)
DESCRIPTION:Playgroup is designed for children 0-5 year\, at 9:30 am in a Safe Area. \nYou are welcome to come half an hour earlier and join in with the “Young Mum’s Bible Study” \nPlease contact Helen McLean on: 0414 216 523 if you are interested in volunteering or would like further information.
URL:https://woden.lutheran.org.au/event/playgroup-9-30am-and-bible-study-for-young-mums-9-00am/2019-11-11/
LOCATION:Immanuel Woden Valley Church Hall\, 37 Burnie St\, Lyons\, ACT\, 2606\, Australia
CATEGORIES:Fellowship
ATTACH;FMTTYPE=image/png:https://woden.lutheran.org.au/wp-content/uploads/2018/08/Playgroup-Logo-for-website-1.png
GEO:-35.343238;149.0813496
X-APPLE-STRUCTURED-LOCATION;VALUE=URI;X-ADDRESS=Immanuel Woden Valley Church Hall 37 Burnie St Lyons ACT 2606 Australia;X-APPLE-RADIUS=500;X-TITLE=37 Burnie St:geo:149.0813496,-35.343238
END:VEVENT
BEGIN:VEVENT
DTSTART;TZID=Australia/Sydney:20191114T100000
DTEND;TZID=Australia/Sydney:20191114T140000
DTSTAMP:20260424T025900
CREATED:20190917T023040Z
LAST-MODIFIED:20191119T014040Z
UID:10000896-1573725600-1573740000@woden.lutheran.org.au
SUMMARY:Thursday Morning Fellowship
DESCRIPTION:Come along for a time of fellowship in the meeting room followed by lunch in the church hall. \nAll welcome!
URL:https://woden.lutheran.org.au/event/thursday-morning-fellowship-4/2019-11-14/
LOCATION:ACT
CATEGORIES:Fellowship
ATTACH;FMTTYPE=image/jpeg:https://woden.lutheran.org.au/wp-content/uploads/2018/09/IMG_6632.jpg
END:VEVENT
BEGIN:VEVENT
DTSTART;TZID=Australia/Sydney:20191115T063000
DTEND;TZID=Australia/Sydney:20191115T080000
DTSTAMP:20260424T025900
CREATED:20180819T050512Z
LAST-MODIFIED:20201001T022014Z
UID:10001262-1573799400-1573804800@woden.lutheran.org.au
SUMMARY:Blokes Breakfast
DESCRIPTION:Come along and join the blokes from our church for a great breakfast\, (cooked by the men themselves!!)\, and an inspirational study diving into God’s Word\, before heading off to work! \nWhat a great way to start the day!!
URL:https://woden.lutheran.org.au/event/blokes-breakfast/2019-11-15/
LOCATION:Immanuel Woden Valley Church Hall\, 37 Burnie St\, Lyons\, ACT\, 2606\, Australia
CATEGORIES:Fellowship
ATTACH;FMTTYPE=image/jpeg:https://woden.lutheran.org.au/wp-content/uploads/2018/08/p10153031.jpg
ORGANIZER;CN="Contact Office":MAILTO:office@immanuellutheran.org.au
GEO:-35.343238;149.0813496
X-APPLE-STRUCTURED-LOCATION;VALUE=URI;X-ADDRESS=Immanuel Woden Valley Church Hall 37 Burnie St Lyons ACT 2606 Australia;X-APPLE-RADIUS=500;X-TITLE=37 Burnie St:geo:149.0813496,-35.343238
END:VEVENT
END:VCALENDAR