BEGIN:VCALENDAR
VERSION:2.0
PRODID:-//Immanuel Woden Valley Lutheran Church - Lyons, ACT - ECPv6.15.14//NONSGML v1.0//EN
CALSCALE:GREGORIAN
METHOD:PUBLISH
X-WR-CALNAME:Immanuel Woden Valley Lutheran Church - Lyons, ACT
X-ORIGINAL-URL:https://woden.lutheran.org.au
X-WR-CALDESC:Events for Immanuel Woden Valley Lutheran Church - Lyons, ACT
REFRESH-INTERVAL;VALUE=DURATION:PT1H
X-Robots-Tag:noindex
X-PUBLISHED-TTL:PT1H
BEGIN:VTIMEZONE
TZID:Australia/Sydney
BEGIN:STANDARD
TZOFFSETFROM:+1100
TZOFFSETTO:+1000
TZNAME:AEST
DTSTART:20180331T160000
END:STANDARD
BEGIN:DAYLIGHT
TZOFFSETFROM:+1000
TZOFFSETTO:+1100
TZNAME:AEDT
DTSTART:20181006T160000
END:DAYLIGHT
BEGIN:STANDARD
TZOFFSETFROM:+1100
TZOFFSETTO:+1000
TZNAME:AEST
DTSTART:20190406T160000
END:STANDARD
BEGIN:DAYLIGHT
TZOFFSETFROM:+1000
TZOFFSETTO:+1100
TZNAME:AEDT
DTSTART:20191005T160000
END:DAYLIGHT
BEGIN:STANDARD
TZOFFSETFROM:+1100
TZOFFSETTO:+1000
TZNAME:AEST
DTSTART:20200404T160000
END:STANDARD
BEGIN:DAYLIGHT
TZOFFSETFROM:+1000
TZOFFSETTO:+1100
TZNAME:AEDT
DTSTART:20201003T160000
END:DAYLIGHT
END:VTIMEZONE
BEGIN:VTIMEZONE
TZID:UTC
BEGIN:STANDARD
TZOFFSETFROM:+0000
TZOFFSETTO:+0000
TZNAME:UTC
DTSTART:20180101T000000
END:STANDARD
END:VTIMEZONE
BEGIN:VEVENT
DTSTART;TZID=Australia/Sydney:20191103T103000
DTEND;TZID=Australia/Sydney:20191103T120000
DTSTAMP:20260424T080739
CREATED:20190526T091946Z
LAST-MODIFIED:20190707T111231Z
UID:10001961-1572777000-1572782400@woden.lutheran.org.au
SUMMARY:Worship Service
DESCRIPTION:
URL:https://woden.lutheran.org.au/event/worship-service-4-2019-11-03/
LOCATION:Immanuel Woden Valley Lutheran Church\, 37 Burnie St\, Lyons\, ACT\, 2606\, Australia
CATEGORIES:Worship
GEO:-35.343238;149.0813496
X-APPLE-STRUCTURED-LOCATION;VALUE=URI;X-ADDRESS=Immanuel Woden Valley Lutheran Church 37 Burnie St Lyons ACT 2606 Australia;X-APPLE-RADIUS=500;X-TITLE=37 Burnie St:geo:149.0813496,-35.343238
END:VEVENT
BEGIN:VEVENT
DTSTART;TZID=Australia/Sydney:20191104T093000
DTEND;TZID=Australia/Sydney:20191104T113000
DTSTAMP:20260424T080739
CREATED:20190211T083425Z
LAST-MODIFIED:20190211T083529Z
UID:10000357-1572859800-1572867000@woden.lutheran.org.au
SUMMARY:Playgroup - 9.30am (and Bible Study for Young Mums - 9.00am)
DESCRIPTION:Playgroup is designed for children 0-5 year\, at 9:30 am in a Safe Area. \nYou are welcome to come half an hour earlier and join in with the “Young Mum’s Bible Study” \nPlease contact Helen McLean on: 0414 216 523 if you are interested in volunteering or would like further information.
URL:https://woden.lutheran.org.au/event/playgroup-9-30am-and-bible-study-for-young-mums-9-00am/2019-11-04/
LOCATION:Immanuel Woden Valley Church Hall\, 37 Burnie St\, Lyons\, ACT\, 2606\, Australia
CATEGORIES:Fellowship
ATTACH;FMTTYPE=image/png:https://woden.lutheran.org.au/wp-content/uploads/2018/08/Playgroup-Logo-for-website-1.png
GEO:-35.343238;149.0813496
X-APPLE-STRUCTURED-LOCATION;VALUE=URI;X-ADDRESS=Immanuel Woden Valley Church Hall 37 Burnie St Lyons ACT 2606 Australia;X-APPLE-RADIUS=500;X-TITLE=37 Burnie St:geo:149.0813496,-35.343238
END:VEVENT
BEGIN:VEVENT
DTSTART;TZID=Australia/Sydney:20191107T100000
DTEND;TZID=Australia/Sydney:20191107T140000
DTSTAMP:20260424T080739
CREATED:20190917T023040Z
LAST-MODIFIED:20191119T014040Z
UID:10000895-1573120800-1573135200@woden.lutheran.org.au
SUMMARY:Thursday Morning Fellowship
DESCRIPTION:Come along for a time of fellowship in the meeting room followed by lunch in the church hall. \nAll welcome!
URL:https://woden.lutheran.org.au/event/thursday-morning-fellowship-4/2019-11-07/
LOCATION:ACT
CATEGORIES:Fellowship
ATTACH;FMTTYPE=image/jpeg:https://woden.lutheran.org.au/wp-content/uploads/2018/09/IMG_6632.jpg
END:VEVENT
BEGIN:VEVENT
DTSTART;TZID=Australia/Sydney:20191108T063000
DTEND;TZID=Australia/Sydney:20191108T080000
DTSTAMP:20260424T080739
CREATED:20180819T050512Z
LAST-MODIFIED:20201001T022014Z
UID:10001261-1573194600-1573200000@woden.lutheran.org.au
SUMMARY:Blokes Breakfast
DESCRIPTION:Come along and join the blokes from our church for a great breakfast\, (cooked by the men themselves!!)\, and an inspirational study diving into God’s Word\, before heading off to work! \nWhat a great way to start the day!!
URL:https://woden.lutheran.org.au/event/blokes-breakfast/2019-11-08/
LOCATION:Immanuel Woden Valley Church Hall\, 37 Burnie St\, Lyons\, ACT\, 2606\, Australia
CATEGORIES:Fellowship
ATTACH;FMTTYPE=image/jpeg:https://woden.lutheran.org.au/wp-content/uploads/2018/08/p10153031.jpg
ORGANIZER;CN="Contact Office":MAILTO:office@immanuellutheran.org.au
GEO:-35.343238;149.0813496
X-APPLE-STRUCTURED-LOCATION;VALUE=URI;X-ADDRESS=Immanuel Woden Valley Church Hall 37 Burnie St Lyons ACT 2606 Australia;X-APPLE-RADIUS=500;X-TITLE=37 Burnie St:geo:149.0813496,-35.343238
END:VEVENT
BEGIN:VEVENT
DTSTART;TZID=Australia/Sydney:20191108T063000
DTEND;TZID=Australia/Sydney:20191108T200000
DTSTAMP:20260424T080739
CREATED:20180915T094935Z
LAST-MODIFIED:20180915T094935Z
UID:10000061-1573194600-1573243200@woden.lutheran.org.au
SUMMARY:Blokes Breakfast
DESCRIPTION:This is a great way to catch up with the blokes of the congregation.  Enjoy breakfast (cooked by the men themselves!!) and a study lead by Pastor.  What a great way to start your day!
URL:https://woden.lutheran.org.au/event/blokes-breakfast-2/2019-11-08/
LOCATION:Immanuel Woden Valley Church Hall\, 37 Burnie St\, Lyons\, ACT\, 2606\, Australia
CATEGORIES:Fellowship
ATTACH;FMTTYPE=image/jpeg:https://woden.lutheran.org.au/wp-content/uploads/2018/08/p10153031.jpg
GEO:-35.343238;149.0813496
X-APPLE-STRUCTURED-LOCATION;VALUE=URI;X-ADDRESS=Immanuel Woden Valley Church Hall 37 Burnie St Lyons ACT 2606 Australia;X-APPLE-RADIUS=500;X-TITLE=37 Burnie St:geo:149.0813496,-35.343238
END:VEVENT
BEGIN:VEVENT
DTSTART;TZID=UTC:20191110T090000
DTEND;TZID=UTC:20191110T101500
DTSTAMP:20260424T080739
CREATED:20180603T165438Z
LAST-MODIFIED:20191022T003139Z
UID:10000914-1573376400-1573380900@woden.lutheran.org.au
SUMMARY:Worship Service
DESCRIPTION:
URL:https://woden.lutheran.org.au/event/worship-service-2019-11-10/
LOCATION:Immanuel Woden Valley Lutheran Church\, 37 Burnie St\, Lyons\, ACT\, 2606\, Australia
CATEGORIES:Worship
GEO:-35.343238;149.0813496
X-APPLE-STRUCTURED-LOCATION;VALUE=URI;X-ADDRESS=Immanuel Woden Valley Lutheran Church 37 Burnie St Lyons ACT 2606 Australia;X-APPLE-RADIUS=500;X-TITLE=37 Burnie St:geo:149.0813496,-35.343238
END:VEVENT
BEGIN:VEVENT
DTSTART;TZID=Australia/Sydney:20191110T103000
DTEND;TZID=Australia/Sydney:20191110T120000
DTSTAMP:20260424T080739
CREATED:20190526T091946Z
LAST-MODIFIED:20190526T091946Z
UID:10001949-1573381800-1573387200@woden.lutheran.org.au
SUMMARY:Worship Service
DESCRIPTION:
URL:https://woden.lutheran.org.au/event/worship-service-4/2019-11-10/
LOCATION:Immanuel Woden Valley Lutheran Church\, 37 Burnie St\, Lyons\, ACT\, 2606\, Australia
CATEGORIES:Worship
GEO:-35.343238;149.0813496
X-APPLE-STRUCTURED-LOCATION;VALUE=URI;X-ADDRESS=Immanuel Woden Valley Lutheran Church 37 Burnie St Lyons ACT 2606 Australia;X-APPLE-RADIUS=500;X-TITLE=37 Burnie St:geo:149.0813496,-35.343238
END:VEVENT
BEGIN:VEVENT
DTSTART;TZID=Australia/Sydney:20191111T093000
DTEND;TZID=Australia/Sydney:20191111T113000
DTSTAMP:20260424T080739
CREATED:20190211T083425Z
LAST-MODIFIED:20190211T083529Z
UID:10000358-1573464600-1573471800@woden.lutheran.org.au
SUMMARY:Playgroup - 9.30am (and Bible Study for Young Mums - 9.00am)
DESCRIPTION:Playgroup is designed for children 0-5 year\, at 9:30 am in a Safe Area. \nYou are welcome to come half an hour earlier and join in with the “Young Mum’s Bible Study” \nPlease contact Helen McLean on: 0414 216 523 if you are interested in volunteering or would like further information.
URL:https://woden.lutheran.org.au/event/playgroup-9-30am-and-bible-study-for-young-mums-9-00am/2019-11-11/
LOCATION:Immanuel Woden Valley Church Hall\, 37 Burnie St\, Lyons\, ACT\, 2606\, Australia
CATEGORIES:Fellowship
ATTACH;FMTTYPE=image/png:https://woden.lutheran.org.au/wp-content/uploads/2018/08/Playgroup-Logo-for-website-1.png
GEO:-35.343238;149.0813496
X-APPLE-STRUCTURED-LOCATION;VALUE=URI;X-ADDRESS=Immanuel Woden Valley Church Hall 37 Burnie St Lyons ACT 2606 Australia;X-APPLE-RADIUS=500;X-TITLE=37 Burnie St:geo:149.0813496,-35.343238
END:VEVENT
BEGIN:VEVENT
DTSTART;TZID=Australia/Sydney:20191114T100000
DTEND;TZID=Australia/Sydney:20191114T140000
DTSTAMP:20260424T080739
CREATED:20190917T023040Z
LAST-MODIFIED:20191119T014040Z
UID:10000896-1573725600-1573740000@woden.lutheran.org.au
SUMMARY:Thursday Morning Fellowship
DESCRIPTION:Come along for a time of fellowship in the meeting room followed by lunch in the church hall. \nAll welcome!
URL:https://woden.lutheran.org.au/event/thursday-morning-fellowship-4/2019-11-14/
LOCATION:ACT
CATEGORIES:Fellowship
ATTACH;FMTTYPE=image/jpeg:https://woden.lutheran.org.au/wp-content/uploads/2018/09/IMG_6632.jpg
END:VEVENT
BEGIN:VEVENT
DTSTART;TZID=Australia/Sydney:20191115T063000
DTEND;TZID=Australia/Sydney:20191115T080000
DTSTAMP:20260424T080739
CREATED:20180819T050512Z
LAST-MODIFIED:20201001T022014Z
UID:10001262-1573799400-1573804800@woden.lutheran.org.au
SUMMARY:Blokes Breakfast
DESCRIPTION:Come along and join the blokes from our church for a great breakfast\, (cooked by the men themselves!!)\, and an inspirational study diving into God’s Word\, before heading off to work! \nWhat a great way to start the day!!
URL:https://woden.lutheran.org.au/event/blokes-breakfast/2019-11-15/
LOCATION:Immanuel Woden Valley Church Hall\, 37 Burnie St\, Lyons\, ACT\, 2606\, Australia
CATEGORIES:Fellowship
ATTACH;FMTTYPE=image/jpeg:https://woden.lutheran.org.au/wp-content/uploads/2018/08/p10153031.jpg
ORGANIZER;CN="Contact Office":MAILTO:office@immanuellutheran.org.au
GEO:-35.343238;149.0813496
X-APPLE-STRUCTURED-LOCATION;VALUE=URI;X-ADDRESS=Immanuel Woden Valley Church Hall 37 Burnie St Lyons ACT 2606 Australia;X-APPLE-RADIUS=500;X-TITLE=37 Burnie St:geo:149.0813496,-35.343238
END:VEVENT
BEGIN:VEVENT
DTSTART;TZID=Australia/Sydney:20191115T063000
DTEND;TZID=Australia/Sydney:20191115T200000
DTSTAMP:20260424T080739
CREATED:20180915T094935Z
LAST-MODIFIED:20180915T094935Z
UID:10000062-1573799400-1573848000@woden.lutheran.org.au
SUMMARY:Blokes Breakfast
DESCRIPTION:This is a great way to catch up with the blokes of the congregation.  Enjoy breakfast (cooked by the men themselves!!) and a study lead by Pastor.  What a great way to start your day!
URL:https://woden.lutheran.org.au/event/blokes-breakfast-2/2019-11-15/
LOCATION:Immanuel Woden Valley Church Hall\, 37 Burnie St\, Lyons\, ACT\, 2606\, Australia
CATEGORIES:Fellowship
ATTACH;FMTTYPE=image/jpeg:https://woden.lutheran.org.au/wp-content/uploads/2018/08/p10153031.jpg
GEO:-35.343238;149.0813496
X-APPLE-STRUCTURED-LOCATION;VALUE=URI;X-ADDRESS=Immanuel Woden Valley Church Hall 37 Burnie St Lyons ACT 2606 Australia;X-APPLE-RADIUS=500;X-TITLE=37 Burnie St:geo:149.0813496,-35.343238
END:VEVENT
BEGIN:VEVENT
DTSTART;TZID=Australia/Sydney:20191117T103000
DTEND;TZID=Australia/Sydney:20191117T120000
DTSTAMP:20260424T080739
CREATED:20190526T091946Z
LAST-MODIFIED:20190526T091946Z
UID:10001950-1573986600-1573992000@woden.lutheran.org.au
SUMMARY:Worship Service
DESCRIPTION:
URL:https://woden.lutheran.org.au/event/worship-service-4/2019-11-17/
LOCATION:Immanuel Woden Valley Lutheran Church\, 37 Burnie St\, Lyons\, ACT\, 2606\, Australia
CATEGORIES:Worship
GEO:-35.343238;149.0813496
X-APPLE-STRUCTURED-LOCATION;VALUE=URI;X-ADDRESS=Immanuel Woden Valley Lutheran Church 37 Burnie St Lyons ACT 2606 Australia;X-APPLE-RADIUS=500;X-TITLE=37 Burnie St:geo:149.0813496,-35.343238
END:VEVENT
BEGIN:VEVENT
DTSTART;TZID=Australia/Sydney:20191118T093000
DTEND;TZID=Australia/Sydney:20191118T113000
DTSTAMP:20260424T080739
CREATED:20190211T083425Z
LAST-MODIFIED:20190211T083529Z
UID:10000359-1574069400-1574076600@woden.lutheran.org.au
SUMMARY:Playgroup - 9.30am (and Bible Study for Young Mums - 9.00am)
DESCRIPTION:Playgroup is designed for children 0-5 year\, at 9:30 am in a Safe Area. \nYou are welcome to come half an hour earlier and join in with the “Young Mum’s Bible Study” \nPlease contact Helen McLean on: 0414 216 523 if you are interested in volunteering or would like further information.
URL:https://woden.lutheran.org.au/event/playgroup-9-30am-and-bible-study-for-young-mums-9-00am/2019-11-18/
LOCATION:Immanuel Woden Valley Church Hall\, 37 Burnie St\, Lyons\, ACT\, 2606\, Australia
CATEGORIES:Fellowship
ATTACH;FMTTYPE=image/png:https://woden.lutheran.org.au/wp-content/uploads/2018/08/Playgroup-Logo-for-website-1.png
GEO:-35.343238;149.0813496
X-APPLE-STRUCTURED-LOCATION;VALUE=URI;X-ADDRESS=Immanuel Woden Valley Church Hall 37 Burnie St Lyons ACT 2606 Australia;X-APPLE-RADIUS=500;X-TITLE=37 Burnie St:geo:149.0813496,-35.343238
END:VEVENT
BEGIN:VEVENT
DTSTART;TZID=Australia/Sydney:20191121T120000
DTEND;TZID=Australia/Sydney:20191121T150000
DTSTAMP:20260424T080739
CREATED:20190917T023040Z
LAST-MODIFIED:20191108T002138Z
UID:10000898-1574337600-1574348400@woden.lutheran.org.au
SUMMARY:Seniors Christmas Lunch
DESCRIPTION:Seniors’ Christmas Lunch with Holy Communion Service \nThursday November 21 at 12pm \nPlease RSVP to the Office. \nEveryone is welcome! \n 
URL:https://woden.lutheran.org.au/event/thursday-morning-fellowship-4-2019-11-21/
LOCATION:ACT
CATEGORIES:Fellowship
ATTACH;FMTTYPE=image/jpeg:https://woden.lutheran.org.au/wp-content/uploads/2019/09/2011-11-24-13.30.01.jpg
END:VEVENT
BEGIN:VEVENT
DTSTART;TZID=Australia/Sydney:20191122T063000
DTEND;TZID=Australia/Sydney:20191122T080000
DTSTAMP:20260424T080739
CREATED:20180819T050512Z
LAST-MODIFIED:20201001T022014Z
UID:10001263-1574404200-1574409600@woden.lutheran.org.au
SUMMARY:Blokes Breakfast
DESCRIPTION:Come along and join the blokes from our church for a great breakfast\, (cooked by the men themselves!!)\, and an inspirational study diving into God’s Word\, before heading off to work! \nWhat a great way to start the day!!
URL:https://woden.lutheran.org.au/event/blokes-breakfast/2019-11-22/
LOCATION:Immanuel Woden Valley Church Hall\, 37 Burnie St\, Lyons\, ACT\, 2606\, Australia
CATEGORIES:Fellowship
ATTACH;FMTTYPE=image/jpeg:https://woden.lutheran.org.au/wp-content/uploads/2018/08/p10153031.jpg
ORGANIZER;CN="Contact Office":MAILTO:office@immanuellutheran.org.au
GEO:-35.343238;149.0813496
X-APPLE-STRUCTURED-LOCATION;VALUE=URI;X-ADDRESS=Immanuel Woden Valley Church Hall 37 Burnie St Lyons ACT 2606 Australia;X-APPLE-RADIUS=500;X-TITLE=37 Burnie St:geo:149.0813496,-35.343238
END:VEVENT
BEGIN:VEVENT
DTSTART;TZID=Australia/Sydney:20191122T063000
DTEND;TZID=Australia/Sydney:20191122T200000
DTSTAMP:20260424T080739
CREATED:20180915T094935Z
LAST-MODIFIED:20180915T094935Z
UID:10000063-1574404200-1574452800@woden.lutheran.org.au
SUMMARY:Blokes Breakfast
DESCRIPTION:This is a great way to catch up with the blokes of the congregation.  Enjoy breakfast (cooked by the men themselves!!) and a study lead by Pastor.  What a great way to start your day!
URL:https://woden.lutheran.org.au/event/blokes-breakfast-2/2019-11-22/
LOCATION:Immanuel Woden Valley Church Hall\, 37 Burnie St\, Lyons\, ACT\, 2606\, Australia
CATEGORIES:Fellowship
ATTACH;FMTTYPE=image/jpeg:https://woden.lutheran.org.au/wp-content/uploads/2018/08/p10153031.jpg
GEO:-35.343238;149.0813496
X-APPLE-STRUCTURED-LOCATION;VALUE=URI;X-ADDRESS=Immanuel Woden Valley Church Hall 37 Burnie St Lyons ACT 2606 Australia;X-APPLE-RADIUS=500;X-TITLE=37 Burnie St:geo:149.0813496,-35.343238
END:VEVENT
BEGIN:VEVENT
DTSTART;TZID=Australia/Sydney:20191124T103000
DTEND;TZID=Australia/Sydney:20191124T120000
DTSTAMP:20260424T080739
CREATED:20190526T091946Z
LAST-MODIFIED:20190526T091946Z
UID:10001951-1574591400-1574596800@woden.lutheran.org.au
SUMMARY:Worship Service
DESCRIPTION:
URL:https://woden.lutheran.org.au/event/worship-service-4/2019-11-24/
LOCATION:Immanuel Woden Valley Lutheran Church\, 37 Burnie St\, Lyons\, ACT\, 2606\, Australia
CATEGORIES:Worship
GEO:-35.343238;149.0813496
X-APPLE-STRUCTURED-LOCATION;VALUE=URI;X-ADDRESS=Immanuel Woden Valley Lutheran Church 37 Burnie St Lyons ACT 2606 Australia;X-APPLE-RADIUS=500;X-TITLE=37 Burnie St:geo:149.0813496,-35.343238
END:VEVENT
BEGIN:VEVENT
DTSTART;TZID=Australia/Sydney:20191125T093000
DTEND;TZID=Australia/Sydney:20191125T113000
DTSTAMP:20260424T080739
CREATED:20190211T083425Z
LAST-MODIFIED:20190211T083529Z
UID:10000360-1574674200-1574681400@woden.lutheran.org.au
SUMMARY:Playgroup - 9.30am (and Bible Study for Young Mums - 9.00am)
DESCRIPTION:Playgroup is designed for children 0-5 year\, at 9:30 am in a Safe Area. \nYou are welcome to come half an hour earlier and join in with the “Young Mum’s Bible Study” \nPlease contact Helen McLean on: 0414 216 523 if you are interested in volunteering or would like further information.
URL:https://woden.lutheran.org.au/event/playgroup-9-30am-and-bible-study-for-young-mums-9-00am/2019-11-25/
LOCATION:Immanuel Woden Valley Church Hall\, 37 Burnie St\, Lyons\, ACT\, 2606\, Australia
CATEGORIES:Fellowship
ATTACH;FMTTYPE=image/png:https://woden.lutheran.org.au/wp-content/uploads/2018/08/Playgroup-Logo-for-website-1.png
GEO:-35.343238;149.0813496
X-APPLE-STRUCTURED-LOCATION;VALUE=URI;X-ADDRESS=Immanuel Woden Valley Church Hall 37 Burnie St Lyons ACT 2606 Australia;X-APPLE-RADIUS=500;X-TITLE=37 Burnie St:geo:149.0813496,-35.343238
END:VEVENT
BEGIN:VEVENT
DTSTART;TZID=Australia/Sydney:20191129T063000
DTEND;TZID=Australia/Sydney:20191129T080000
DTSTAMP:20260424T080739
CREATED:20180819T050512Z
LAST-MODIFIED:20201001T022014Z
UID:10001264-1575009000-1575014400@woden.lutheran.org.au
SUMMARY:Blokes Breakfast
DESCRIPTION:Come along and join the blokes from our church for a great breakfast\, (cooked by the men themselves!!)\, and an inspirational study diving into God’s Word\, before heading off to work! \nWhat a great way to start the day!!
URL:https://woden.lutheran.org.au/event/blokes-breakfast/2019-11-29/
LOCATION:Immanuel Woden Valley Church Hall\, 37 Burnie St\, Lyons\, ACT\, 2606\, Australia
CATEGORIES:Fellowship
ATTACH;FMTTYPE=image/jpeg:https://woden.lutheran.org.au/wp-content/uploads/2018/08/p10153031.jpg
ORGANIZER;CN="Contact Office":MAILTO:office@immanuellutheran.org.au
GEO:-35.343238;149.0813496
X-APPLE-STRUCTURED-LOCATION;VALUE=URI;X-ADDRESS=Immanuel Woden Valley Church Hall 37 Burnie St Lyons ACT 2606 Australia;X-APPLE-RADIUS=500;X-TITLE=37 Burnie St:geo:149.0813496,-35.343238
END:VEVENT
BEGIN:VEVENT
DTSTART;TZID=Australia/Sydney:20191129T063000
DTEND;TZID=Australia/Sydney:20191129T200000
DTSTAMP:20260424T080739
CREATED:20180915T094935Z
LAST-MODIFIED:20180915T094935Z
UID:10000064-1575009000-1575057600@woden.lutheran.org.au
SUMMARY:Blokes Breakfast
DESCRIPTION:This is a great way to catch up with the blokes of the congregation.  Enjoy breakfast (cooked by the men themselves!!) and a study lead by Pastor.  What a great way to start your day!
URL:https://woden.lutheran.org.au/event/blokes-breakfast-2/2019-11-29/
LOCATION:Immanuel Woden Valley Church Hall\, 37 Burnie St\, Lyons\, ACT\, 2606\, Australia
CATEGORIES:Fellowship
ATTACH;FMTTYPE=image/jpeg:https://woden.lutheran.org.au/wp-content/uploads/2018/08/p10153031.jpg
GEO:-35.343238;149.0813496
X-APPLE-STRUCTURED-LOCATION;VALUE=URI;X-ADDRESS=Immanuel Woden Valley Church Hall 37 Burnie St Lyons ACT 2606 Australia;X-APPLE-RADIUS=500;X-TITLE=37 Burnie St:geo:149.0813496,-35.343238
END:VEVENT
BEGIN:VEVENT
DTSTART;TZID=Australia/Sydney:20191201T103000
DTEND;TZID=Australia/Sydney:20191201T120000
DTSTAMP:20260424T080739
CREATED:20190526T091946Z
LAST-MODIFIED:20190526T091946Z
UID:10001952-1575196200-1575201600@woden.lutheran.org.au
SUMMARY:Worship Service
DESCRIPTION:
URL:https://woden.lutheran.org.au/event/worship-service-4/2019-12-01/
LOCATION:Immanuel Woden Valley Lutheran Church\, 37 Burnie St\, Lyons\, ACT\, 2606\, Australia
CATEGORIES:Worship
GEO:-35.343238;149.0813496
X-APPLE-STRUCTURED-LOCATION;VALUE=URI;X-ADDRESS=Immanuel Woden Valley Lutheran Church 37 Burnie St Lyons ACT 2606 Australia;X-APPLE-RADIUS=500;X-TITLE=37 Burnie St:geo:149.0813496,-35.343238
END:VEVENT
BEGIN:VEVENT
DTSTART;TZID=Australia/Sydney:20191206T063000
DTEND;TZID=Australia/Sydney:20191206T200000
DTSTAMP:20260424T080739
CREATED:20180915T094935Z
LAST-MODIFIED:20180915T094935Z
UID:10000065-1575613800-1575662400@woden.lutheran.org.au
SUMMARY:Blokes Breakfast
DESCRIPTION:This is a great way to catch up with the blokes of the congregation.  Enjoy breakfast (cooked by the men themselves!!) and a study lead by Pastor.  What a great way to start your day!
URL:https://woden.lutheran.org.au/event/blokes-breakfast-2/2019-12-06/
LOCATION:Immanuel Woden Valley Church Hall\, 37 Burnie St\, Lyons\, ACT\, 2606\, Australia
CATEGORIES:Fellowship
ATTACH;FMTTYPE=image/jpeg:https://woden.lutheran.org.au/wp-content/uploads/2018/08/p10153031.jpg
GEO:-35.343238;149.0813496
X-APPLE-STRUCTURED-LOCATION;VALUE=URI;X-ADDRESS=Immanuel Woden Valley Church Hall 37 Burnie St Lyons ACT 2606 Australia;X-APPLE-RADIUS=500;X-TITLE=37 Burnie St:geo:149.0813496,-35.343238
END:VEVENT
BEGIN:VEVENT
DTSTART;TZID=UTC:20191208T100000
DTEND;TZID=UTC:20191208T113000
DTSTAMP:20260424T080739
CREATED:20191126T155438Z
LAST-MODIFIED:20191127T033430Z
UID:10000917-1575799200-1575804600@woden.lutheran.org.au
SUMMARY:Christmas Service 2019: The Journey
DESCRIPTION:Everyone is welcome to our combined service at 10am to celebrate the many wonderful Christmas journeys in the nativity story. Everyone is encouraged to come wearing Christmas themed outfits and enjoy music\, craft and a wonderful drama production. \nThis is a family event and children will be participating with their families for the service.
URL:https://woden.lutheran.org.au/event/worship-service-2019-12-08/
LOCATION:Immanuel Woden Valley Lutheran Church\, 37 Burnie St\, Lyons\, ACT\, 2606\, Australia
CATEGORIES:Worship
ATTACH;FMTTYPE=image/jpeg:https://woden.lutheran.org.au/wp-content/uploads/2018/06/The-Journey-Christmas-service-2019-1.jpg
ORGANIZER;CN="Jacob Traeger":MAILTO:jacob.traeger@immanuellutheran.org.au
GEO:-35.343238;149.0813496
X-APPLE-STRUCTURED-LOCATION;VALUE=URI;X-ADDRESS=Immanuel Woden Valley Lutheran Church 37 Burnie St Lyons ACT 2606 Australia;X-APPLE-RADIUS=500;X-TITLE=37 Burnie St:geo:149.0813496,-35.343238
END:VEVENT
BEGIN:VEVENT
DTSTART;TZID=Australia/Sydney:20191208T103000
DTEND;TZID=Australia/Sydney:20191208T120000
DTSTAMP:20260424T080739
CREATED:20190526T091946Z
LAST-MODIFIED:20190526T091946Z
UID:10001953-1575801000-1575806400@woden.lutheran.org.au
SUMMARY:Worship Service
DESCRIPTION:
URL:https://woden.lutheran.org.au/event/worship-service-4/2019-12-08/
LOCATION:Immanuel Woden Valley Lutheran Church\, 37 Burnie St\, Lyons\, ACT\, 2606\, Australia
CATEGORIES:Worship
GEO:-35.343238;149.0813496
X-APPLE-STRUCTURED-LOCATION;VALUE=URI;X-ADDRESS=Immanuel Woden Valley Lutheran Church 37 Burnie St Lyons ACT 2606 Australia;X-APPLE-RADIUS=500;X-TITLE=37 Burnie St:geo:149.0813496,-35.343238
END:VEVENT
BEGIN:VEVENT
DTSTART;TZID=Australia/Sydney:20191209T093000
DTEND;TZID=Australia/Sydney:20191209T113000
DTSTAMP:20260424T080739
CREATED:20190211T083425Z
LAST-MODIFIED:20190211T083529Z
UID:10000361-1575883800-1575891000@woden.lutheran.org.au
SUMMARY:Playgroup - 9.30am (and Bible Study for Young Mums - 9.00am)
DESCRIPTION:Playgroup is designed for children 0-5 year\, at 9:30 am in a Safe Area. \nYou are welcome to come half an hour earlier and join in with the “Young Mum’s Bible Study” \nPlease contact Helen McLean on: 0414 216 523 if you are interested in volunteering or would like further information.
URL:https://woden.lutheran.org.au/event/playgroup-9-30am-and-bible-study-for-young-mums-9-00am/2019-12-09/
LOCATION:Immanuel Woden Valley Church Hall\, 37 Burnie St\, Lyons\, ACT\, 2606\, Australia
CATEGORIES:Fellowship
ATTACH;FMTTYPE=image/png:https://woden.lutheran.org.au/wp-content/uploads/2018/08/Playgroup-Logo-for-website-1.png
GEO:-35.343238;149.0813496
X-APPLE-STRUCTURED-LOCATION;VALUE=URI;X-ADDRESS=Immanuel Woden Valley Church Hall 37 Burnie St Lyons ACT 2606 Australia;X-APPLE-RADIUS=500;X-TITLE=37 Burnie St:geo:149.0813496,-35.343238
END:VEVENT
BEGIN:VEVENT
DTSTART;TZID=Australia/Sydney:20191213T063000
DTEND;TZID=Australia/Sydney:20191213T200000
DTSTAMP:20260424T080739
CREATED:20180915T094935Z
LAST-MODIFIED:20180915T094935Z
UID:10000066-1576218600-1576267200@woden.lutheran.org.au
SUMMARY:Blokes Breakfast
DESCRIPTION:This is a great way to catch up with the blokes of the congregation.  Enjoy breakfast (cooked by the men themselves!!) and a study lead by Pastor.  What a great way to start your day!
URL:https://woden.lutheran.org.au/event/blokes-breakfast-2/2019-12-13/
LOCATION:Immanuel Woden Valley Church Hall\, 37 Burnie St\, Lyons\, ACT\, 2606\, Australia
CATEGORIES:Fellowship
ATTACH;FMTTYPE=image/jpeg:https://woden.lutheran.org.au/wp-content/uploads/2018/08/p10153031.jpg
GEO:-35.343238;149.0813496
X-APPLE-STRUCTURED-LOCATION;VALUE=URI;X-ADDRESS=Immanuel Woden Valley Church Hall 37 Burnie St Lyons ACT 2606 Australia;X-APPLE-RADIUS=500;X-TITLE=37 Burnie St:geo:149.0813496,-35.343238
END:VEVENT
BEGIN:VEVENT
DTSTART;TZID=Australia/Sydney:20191215T103000
DTEND;TZID=Australia/Sydney:20191215T120000
DTSTAMP:20260424T080739
CREATED:20190526T091946Z
LAST-MODIFIED:20190526T091946Z
UID:10001954-1576405800-1576411200@woden.lutheran.org.au
SUMMARY:Worship Service
DESCRIPTION:
URL:https://woden.lutheran.org.au/event/worship-service-4/2019-12-15/
LOCATION:Immanuel Woden Valley Lutheran Church\, 37 Burnie St\, Lyons\, ACT\, 2606\, Australia
CATEGORIES:Worship
GEO:-35.343238;149.0813496
X-APPLE-STRUCTURED-LOCATION;VALUE=URI;X-ADDRESS=Immanuel Woden Valley Lutheran Church 37 Burnie St Lyons ACT 2606 Australia;X-APPLE-RADIUS=500;X-TITLE=37 Burnie St:geo:149.0813496,-35.343238
END:VEVENT
BEGIN:VEVENT
DTSTART;TZID=Australia/Sydney:20191220T063000
DTEND;TZID=Australia/Sydney:20191220T200000
DTSTAMP:20260424T080739
CREATED:20180915T094935Z
LAST-MODIFIED:20180915T094935Z
UID:10000067-1576823400-1576872000@woden.lutheran.org.au
SUMMARY:Blokes Breakfast
DESCRIPTION:This is a great way to catch up with the blokes of the congregation.  Enjoy breakfast (cooked by the men themselves!!) and a study lead by Pastor.  What a great way to start your day!
URL:https://woden.lutheran.org.au/event/blokes-breakfast-2/2019-12-20/
LOCATION:Immanuel Woden Valley Church Hall\, 37 Burnie St\, Lyons\, ACT\, 2606\, Australia
CATEGORIES:Fellowship
ATTACH;FMTTYPE=image/jpeg:https://woden.lutheran.org.au/wp-content/uploads/2018/08/p10153031.jpg
GEO:-35.343238;149.0813496
X-APPLE-STRUCTURED-LOCATION;VALUE=URI;X-ADDRESS=Immanuel Woden Valley Church Hall 37 Burnie St Lyons ACT 2606 Australia;X-APPLE-RADIUS=500;X-TITLE=37 Burnie St:geo:149.0813496,-35.343238
END:VEVENT
BEGIN:VEVENT
DTSTART;TZID=Australia/Sydney:20191224T190000
DTEND;TZID=Australia/Sydney:20191224T200000
DTSTAMP:20260424T080739
CREATED:20191214T043116Z
LAST-MODIFIED:20191214T043233Z
UID:10000916-1577214000-1577217600@woden.lutheran.org.au
SUMMARY:Christmas Eve Service
DESCRIPTION:
URL:https://woden.lutheran.org.au/event/christmas-eve-service/
LOCATION:Immanuel Woden Valley Lutheran Church\, 37 Burnie St\, Lyons\, ACT\, 2606\, Australia
CATEGORIES:Worship
GEO:-35.343238;149.0813496
X-APPLE-STRUCTURED-LOCATION;VALUE=URI;X-ADDRESS=Immanuel Woden Valley Lutheran Church 37 Burnie St Lyons ACT 2606 Australia;X-APPLE-RADIUS=500;X-TITLE=37 Burnie St:geo:149.0813496,-35.343238
END:VEVENT
BEGIN:VEVENT
DTSTART;TZID=Australia/Sydney:20191227T063000
DTEND;TZID=Australia/Sydney:20191227T200000
DTSTAMP:20260424T080739
CREATED:20180915T094935Z
LAST-MODIFIED:20180915T094935Z
UID:10000068-1577428200-1577476800@woden.lutheran.org.au
SUMMARY:Blokes Breakfast
DESCRIPTION:This is a great way to catch up with the blokes of the congregation.  Enjoy breakfast (cooked by the men themselves!!) and a study lead by Pastor.  What a great way to start your day!
URL:https://woden.lutheran.org.au/event/blokes-breakfast-2/2019-12-27/
LOCATION:Immanuel Woden Valley Church Hall\, 37 Burnie St\, Lyons\, ACT\, 2606\, Australia
CATEGORIES:Fellowship
ATTACH;FMTTYPE=image/jpeg:https://woden.lutheran.org.au/wp-content/uploads/2018/08/p10153031.jpg
GEO:-35.343238;149.0813496
X-APPLE-STRUCTURED-LOCATION;VALUE=URI;X-ADDRESS=Immanuel Woden Valley Church Hall 37 Burnie St Lyons ACT 2606 Australia;X-APPLE-RADIUS=500;X-TITLE=37 Burnie St:geo:149.0813496,-35.343238
END:VEVENT
END:VCALENDAR