BEGIN:VCALENDAR
VERSION:2.0
PRODID:-//Immanuel Woden Valley Lutheran Church - Lyons, ACT - ECPv6.15.14//NONSGML v1.0//EN
CALSCALE:GREGORIAN
METHOD:PUBLISH
X-WR-CALNAME:Immanuel Woden Valley Lutheran Church - Lyons, ACT
X-ORIGINAL-URL:https://woden.lutheran.org.au
X-WR-CALDESC:Events for Immanuel Woden Valley Lutheran Church - Lyons, ACT
REFRESH-INTERVAL;VALUE=DURATION:PT1H
X-Robots-Tag:noindex
X-PUBLISHED-TTL:PT1H
BEGIN:VTIMEZONE
TZID:Australia/Sydney
BEGIN:STANDARD
TZOFFSETFROM:+1100
TZOFFSETTO:+1000
TZNAME:AEST
DTSTART:20190406T160000
END:STANDARD
BEGIN:DAYLIGHT
TZOFFSETFROM:+1000
TZOFFSETTO:+1100
TZNAME:AEDT
DTSTART:20191005T160000
END:DAYLIGHT
BEGIN:STANDARD
TZOFFSETFROM:+1100
TZOFFSETTO:+1000
TZNAME:AEST
DTSTART:20200404T160000
END:STANDARD
BEGIN:DAYLIGHT
TZOFFSETFROM:+1000
TZOFFSETTO:+1100
TZNAME:AEDT
DTSTART:20201003T160000
END:DAYLIGHT
BEGIN:STANDARD
TZOFFSETFROM:+1100
TZOFFSETTO:+1000
TZNAME:AEST
DTSTART:20210403T160000
END:STANDARD
BEGIN:DAYLIGHT
TZOFFSETFROM:+1000
TZOFFSETTO:+1100
TZNAME:AEDT
DTSTART:20211002T160000
END:DAYLIGHT
END:VTIMEZONE
BEGIN:VTIMEZONE
TZID:UTC
BEGIN:STANDARD
TZOFFSETFROM:+0000
TZOFFSETTO:+0000
TZNAME:UTC
DTSTART:20190101T000000
END:STANDARD
END:VTIMEZONE
BEGIN:VEVENT
DTSTART;TZID=Australia/Sydney:20200209T103000
DTEND;TZID=Australia/Sydney:20200209T120000
DTSTAMP:20260424T144731
CREATED:20191214T042740Z
LAST-MODIFIED:20191231T004358Z
UID:10000275-1581244200-1581249600@woden.lutheran.org.au
SUMMARY:Worship Service
DESCRIPTION:
URL:https://woden.lutheran.org.au/event/worship-service-5/2020-02-09/
LOCATION:Immanuel Woden Valley Lutheran Church\, 37 Burnie St\, Lyons\, ACT\, 2606\, Australia
CATEGORIES:Worship
GEO:-35.343238;149.0813496
X-APPLE-STRUCTURED-LOCATION;VALUE=URI;X-ADDRESS=Immanuel Woden Valley Lutheran Church 37 Burnie St Lyons ACT 2606 Australia;X-APPLE-RADIUS=500;X-TITLE=37 Burnie St:geo:149.0813496,-35.343238
END:VEVENT
BEGIN:VEVENT
DTSTART;TZID=Australia/Sydney:20200214T063000
DTEND;TZID=Australia/Sydney:20200214T200000
DTSTAMP:20260424T144731
CREATED:20180915T094935Z
LAST-MODIFIED:20180915T094935Z
UID:10000075-1581661800-1581710400@woden.lutheran.org.au
SUMMARY:Blokes Breakfast
DESCRIPTION:This is a great way to catch up with the blokes of the congregation.  Enjoy breakfast (cooked by the men themselves!!) and a study lead by Pastor.  What a great way to start your day!
URL:https://woden.lutheran.org.au/event/blokes-breakfast-2/2020-02-14/
LOCATION:Immanuel Woden Valley Church Hall\, 37 Burnie St\, Lyons\, ACT\, 2606\, Australia
CATEGORIES:Fellowship
ATTACH;FMTTYPE=image/jpeg:https://woden.lutheran.org.au/wp-content/uploads/2018/08/p10153031.jpg
GEO:-35.343238;149.0813496
X-APPLE-STRUCTURED-LOCATION;VALUE=URI;X-ADDRESS=Immanuel Woden Valley Church Hall 37 Burnie St Lyons ACT 2606 Australia;X-APPLE-RADIUS=500;X-TITLE=37 Burnie St:geo:149.0813496,-35.343238
END:VEVENT
BEGIN:VEVENT
DTSTART;TZID=Australia/Sydney:20200216T103000
DTEND;TZID=Australia/Sydney:20200216T120000
DTSTAMP:20260424T144731
CREATED:20191214T042740Z
LAST-MODIFIED:20191231T004358Z
UID:10000276-1581849000-1581854400@woden.lutheran.org.au
SUMMARY:Worship Service
DESCRIPTION:
URL:https://woden.lutheran.org.au/event/worship-service-5/2020-02-16/
LOCATION:Immanuel Woden Valley Lutheran Church\, 37 Burnie St\, Lyons\, ACT\, 2606\, Australia
CATEGORIES:Worship
GEO:-35.343238;149.0813496
X-APPLE-STRUCTURED-LOCATION;VALUE=URI;X-ADDRESS=Immanuel Woden Valley Lutheran Church 37 Burnie St Lyons ACT 2606 Australia;X-APPLE-RADIUS=500;X-TITLE=37 Burnie St:geo:149.0813496,-35.343238
END:VEVENT
BEGIN:VEVENT
DTSTART;TZID=Australia/Sydney:20200221T063000
DTEND;TZID=Australia/Sydney:20200221T200000
DTSTAMP:20260424T144731
CREATED:20180915T094935Z
LAST-MODIFIED:20180915T094935Z
UID:10000076-1582266600-1582315200@woden.lutheran.org.au
SUMMARY:Blokes Breakfast
DESCRIPTION:This is a great way to catch up with the blokes of the congregation.  Enjoy breakfast (cooked by the men themselves!!) and a study lead by Pastor.  What a great way to start your day!
URL:https://woden.lutheran.org.au/event/blokes-breakfast-2/2020-02-21/
LOCATION:Immanuel Woden Valley Church Hall\, 37 Burnie St\, Lyons\, ACT\, 2606\, Australia
CATEGORIES:Fellowship
ATTACH;FMTTYPE=image/jpeg:https://woden.lutheran.org.au/wp-content/uploads/2018/08/p10153031.jpg
GEO:-35.343238;149.0813496
X-APPLE-STRUCTURED-LOCATION;VALUE=URI;X-ADDRESS=Immanuel Woden Valley Church Hall 37 Burnie St Lyons ACT 2606 Australia;X-APPLE-RADIUS=500;X-TITLE=37 Burnie St:geo:149.0813496,-35.343238
END:VEVENT
BEGIN:VEVENT
DTSTART;TZID=UTC:20200223T100000
DTEND;TZID=UTC:20200223T120000
DTSTAMP:20260424T144731
CREATED:20200217T232538Z
LAST-MODIFIED:20200217T233001Z
UID:10000919-1582452000-1582459200@woden.lutheran.org.au
SUMMARY:Combined Worship Service
DESCRIPTION:This Sunday\, there will be a combined service at 10am only. \nThis will be followed by a Call Meeting\, AGM and a fellowship lunch. \nPlease remember to bring a plate of finger food to share.
URL:https://woden.lutheran.org.au/event/worship-service-2020-02-23/
LOCATION:Immanuel Woden Valley Lutheran Church\, 37 Burnie St\, Lyons\, ACT\, 2606\, Australia
CATEGORIES:Fellowship,Worship
GEO:-35.343238;149.0813496
X-APPLE-STRUCTURED-LOCATION;VALUE=URI;X-ADDRESS=Immanuel Woden Valley Lutheran Church 37 Burnie St Lyons ACT 2606 Australia;X-APPLE-RADIUS=500;X-TITLE=37 Burnie St:geo:149.0813496,-35.343238
END:VEVENT
BEGIN:VEVENT
DTSTART;TZID=Australia/Sydney:20200228T063000
DTEND;TZID=Australia/Sydney:20200228T200000
DTSTAMP:20260424T144731
CREATED:20201214T233253Z
LAST-MODIFIED:20201215T022915Z
UID:10001969-1582871400-1582920000@woden.lutheran.org.au
SUMMARY:Blokes Breakfast
DESCRIPTION:Come along and join the blokes from our church for a great breakfast\, (cooked by the men themselves!!)\, and an inspirational study diving into God’s Word\, before heading off to work! \nWhat a great way to start the day!! \nResuming in 2021
URL:https://woden.lutheran.org.au/event/blokes-breakfast-4/2020-02-28/
LOCATION:ACT
CATEGORIES:Fellowship
ATTACH;FMTTYPE=image/jpeg:https://woden.lutheran.org.au/wp-content/uploads/2018/08/p10153031.jpg
END:VEVENT
BEGIN:VEVENT
DTSTART;TZID=Australia/Sydney:20200228T063000
DTEND;TZID=Australia/Sydney:20200228T200000
DTSTAMP:20260424T144731
CREATED:20180915T094935Z
LAST-MODIFIED:20180915T094935Z
UID:10000077-1582871400-1582920000@woden.lutheran.org.au
SUMMARY:Blokes Breakfast
DESCRIPTION:This is a great way to catch up with the blokes of the congregation.  Enjoy breakfast (cooked by the men themselves!!) and a study lead by Pastor.  What a great way to start your day!
URL:https://woden.lutheran.org.au/event/blokes-breakfast-2/2020-02-28/
LOCATION:Immanuel Woden Valley Church Hall\, 37 Burnie St\, Lyons\, ACT\, 2606\, Australia
CATEGORIES:Fellowship
ATTACH;FMTTYPE=image/jpeg:https://woden.lutheran.org.au/wp-content/uploads/2018/08/p10153031.jpg
GEO:-35.343238;149.0813496
X-APPLE-STRUCTURED-LOCATION;VALUE=URI;X-ADDRESS=Immanuel Woden Valley Church Hall 37 Burnie St Lyons ACT 2606 Australia;X-APPLE-RADIUS=500;X-TITLE=37 Burnie St:geo:149.0813496,-35.343238
END:VEVENT
BEGIN:VEVENT
DTSTART;TZID=Australia/Sydney:20200301T103000
DTEND;TZID=Australia/Sydney:20200301T120000
DTSTAMP:20260424T144731
CREATED:20191214T042740Z
LAST-MODIFIED:20191231T004358Z
UID:10000277-1583058600-1583064000@woden.lutheran.org.au
SUMMARY:Worship Service
DESCRIPTION:
URL:https://woden.lutheran.org.au/event/worship-service-5/2020-03-01/
LOCATION:Immanuel Woden Valley Lutheran Church\, 37 Burnie St\, Lyons\, ACT\, 2606\, Australia
CATEGORIES:Worship
GEO:-35.343238;149.0813496
X-APPLE-STRUCTURED-LOCATION;VALUE=URI;X-ADDRESS=Immanuel Woden Valley Lutheran Church 37 Burnie St Lyons ACT 2606 Australia;X-APPLE-RADIUS=500;X-TITLE=37 Burnie St:geo:149.0813496,-35.343238
END:VEVENT
BEGIN:VEVENT
DTSTART;TZID=Australia/Sydney:20200305T100000
DTEND;TZID=Australia/Sydney:20200305T123000
DTSTAMP:20260424T144731
CREATED:20180830T032155Z
LAST-MODIFIED:20200303T020805Z
UID:10000526-1583402400-1583411400@woden.lutheran.org.au
SUMMARY:Thursday Morning Fellowship
DESCRIPTION:This is a Study group that is open to all ages of adults.  We feel that the more diverse the ages are\, we learn more about one another through the Word. \nCome and join us for Bible Study\, Fellowship\, and an early shared luncheon.
URL:https://woden.lutheran.org.au/event/thursday-morning-fellowship-2020-03-05/
LOCATION:Immanuel Woden Valley Church Hall\, 37 Burnie St\, Lyons\, ACT\, 2606\, Australia
CATEGORIES:Bible Study Group
ATTACH;FMTTYPE=image/jpeg:https://woden.lutheran.org.au/wp-content/uploads/2018/09/IMG_6632.jpg
GEO:-35.343238;149.0813496
X-APPLE-STRUCTURED-LOCATION;VALUE=URI;X-ADDRESS=Immanuel Woden Valley Church Hall 37 Burnie St Lyons ACT 2606 Australia;X-APPLE-RADIUS=500;X-TITLE=37 Burnie St:geo:149.0813496,-35.343238
END:VEVENT
BEGIN:VEVENT
DTSTART;TZID=Australia/Sydney:20200306T063000
DTEND;TZID=Australia/Sydney:20200306T200000
DTSTAMP:20260424T144731
CREATED:20201214T233253Z
LAST-MODIFIED:20201215T022915Z
UID:10001970-1583476200-1583524800@woden.lutheran.org.au
SUMMARY:Blokes Breakfast
DESCRIPTION:Come along and join the blokes from our church for a great breakfast\, (cooked by the men themselves!!)\, and an inspirational study diving into God’s Word\, before heading off to work! \nWhat a great way to start the day!! \nResuming in 2021
URL:https://woden.lutheran.org.au/event/blokes-breakfast-4/2020-03-06/
LOCATION:ACT
CATEGORIES:Fellowship
ATTACH;FMTTYPE=image/jpeg:https://woden.lutheran.org.au/wp-content/uploads/2018/08/p10153031.jpg
END:VEVENT
BEGIN:VEVENT
DTSTART;TZID=Australia/Sydney:20200306T063000
DTEND;TZID=Australia/Sydney:20200306T200000
DTSTAMP:20260424T144731
CREATED:20180915T094935Z
LAST-MODIFIED:20180915T094935Z
UID:10000078-1583476200-1583524800@woden.lutheran.org.au
SUMMARY:Blokes Breakfast
DESCRIPTION:This is a great way to catch up with the blokes of the congregation.  Enjoy breakfast (cooked by the men themselves!!) and a study lead by Pastor.  What a great way to start your day!
URL:https://woden.lutheran.org.au/event/blokes-breakfast-2/2020-03-06/
LOCATION:Immanuel Woden Valley Church Hall\, 37 Burnie St\, Lyons\, ACT\, 2606\, Australia
CATEGORIES:Fellowship
ATTACH;FMTTYPE=image/jpeg:https://woden.lutheran.org.au/wp-content/uploads/2018/08/p10153031.jpg
GEO:-35.343238;149.0813496
X-APPLE-STRUCTURED-LOCATION;VALUE=URI;X-ADDRESS=Immanuel Woden Valley Church Hall 37 Burnie St Lyons ACT 2606 Australia;X-APPLE-RADIUS=500;X-TITLE=37 Burnie St:geo:149.0813496,-35.343238
END:VEVENT
BEGIN:VEVENT
DTSTART;TZID=Australia/Sydney:20200308T103000
DTEND;TZID=Australia/Sydney:20200308T120000
DTSTAMP:20260424T144731
CREATED:20191214T042740Z
LAST-MODIFIED:20191231T004358Z
UID:10000278-1583663400-1583668800@woden.lutheran.org.au
SUMMARY:Worship Service
DESCRIPTION:
URL:https://woden.lutheran.org.au/event/worship-service-5/2020-03-08/
LOCATION:Immanuel Woden Valley Lutheran Church\, 37 Burnie St\, Lyons\, ACT\, 2606\, Australia
CATEGORIES:Worship
GEO:-35.343238;149.0813496
X-APPLE-STRUCTURED-LOCATION;VALUE=URI;X-ADDRESS=Immanuel Woden Valley Lutheran Church 37 Burnie St Lyons ACT 2606 Australia;X-APPLE-RADIUS=500;X-TITLE=37 Burnie St:geo:149.0813496,-35.343238
END:VEVENT
BEGIN:VEVENT
DTSTART;TZID=Australia/Sydney:20200313T063000
DTEND;TZID=Australia/Sydney:20200313T200000
DTSTAMP:20260424T144731
CREATED:20201214T233253Z
LAST-MODIFIED:20201215T022915Z
UID:10001971-1584081000-1584129600@woden.lutheran.org.au
SUMMARY:Blokes Breakfast
DESCRIPTION:Come along and join the blokes from our church for a great breakfast\, (cooked by the men themselves!!)\, and an inspirational study diving into God’s Word\, before heading off to work! \nWhat a great way to start the day!! \nResuming in 2021
URL:https://woden.lutheran.org.au/event/blokes-breakfast-4/2020-03-13/
LOCATION:ACT
CATEGORIES:Fellowship
ATTACH;FMTTYPE=image/jpeg:https://woden.lutheran.org.au/wp-content/uploads/2018/08/p10153031.jpg
END:VEVENT
BEGIN:VEVENT
DTSTART;TZID=Australia/Sydney:20200313T063000
DTEND;TZID=Australia/Sydney:20200313T200000
DTSTAMP:20260424T144731
CREATED:20180915T094935Z
LAST-MODIFIED:20180915T094935Z
UID:10000079-1584081000-1584129600@woden.lutheran.org.au
SUMMARY:Blokes Breakfast
DESCRIPTION:This is a great way to catch up with the blokes of the congregation.  Enjoy breakfast (cooked by the men themselves!!) and a study lead by Pastor.  What a great way to start your day!
URL:https://woden.lutheran.org.au/event/blokes-breakfast-2/2020-03-13/
LOCATION:Immanuel Woden Valley Church Hall\, 37 Burnie St\, Lyons\, ACT\, 2606\, Australia
CATEGORIES:Fellowship
ATTACH;FMTTYPE=image/jpeg:https://woden.lutheran.org.au/wp-content/uploads/2018/08/p10153031.jpg
GEO:-35.343238;149.0813496
X-APPLE-STRUCTURED-LOCATION;VALUE=URI;X-ADDRESS=Immanuel Woden Valley Church Hall 37 Burnie St Lyons ACT 2606 Australia;X-APPLE-RADIUS=500;X-TITLE=37 Burnie St:geo:149.0813496,-35.343238
END:VEVENT
BEGIN:VEVENT
DTSTART;TZID=Australia/Sydney:20200315T103000
DTEND;TZID=Australia/Sydney:20200315T120000
DTSTAMP:20260424T144731
CREATED:20191214T042740Z
LAST-MODIFIED:20191231T004358Z
UID:10000279-1584268200-1584273600@woden.lutheran.org.au
SUMMARY:Worship Service
DESCRIPTION:
URL:https://woden.lutheran.org.au/event/worship-service-5/2020-03-15/
LOCATION:Immanuel Woden Valley Lutheran Church\, 37 Burnie St\, Lyons\, ACT\, 2606\, Australia
CATEGORIES:Worship
GEO:-35.343238;149.0813496
X-APPLE-STRUCTURED-LOCATION;VALUE=URI;X-ADDRESS=Immanuel Woden Valley Lutheran Church 37 Burnie St Lyons ACT 2606 Australia;X-APPLE-RADIUS=500;X-TITLE=37 Burnie St:geo:149.0813496,-35.343238
END:VEVENT
BEGIN:VEVENT
DTSTART;TZID=Australia/Sydney:20200320T063000
DTEND;TZID=Australia/Sydney:20200320T200000
DTSTAMP:20260424T144731
CREATED:20201214T233253Z
LAST-MODIFIED:20201215T022915Z
UID:10001972-1584685800-1584734400@woden.lutheran.org.au
SUMMARY:Blokes Breakfast
DESCRIPTION:Come along and join the blokes from our church for a great breakfast\, (cooked by the men themselves!!)\, and an inspirational study diving into God’s Word\, before heading off to work! \nWhat a great way to start the day!! \nResuming in 2021
URL:https://woden.lutheran.org.au/event/blokes-breakfast-4/2020-03-20/
LOCATION:ACT
CATEGORIES:Fellowship
ATTACH;FMTTYPE=image/jpeg:https://woden.lutheran.org.au/wp-content/uploads/2018/08/p10153031.jpg
END:VEVENT
BEGIN:VEVENT
DTSTART;TZID=Australia/Sydney:20200320T063000
DTEND;TZID=Australia/Sydney:20200320T200000
DTSTAMP:20260424T144731
CREATED:20180915T094935Z
LAST-MODIFIED:20180915T094935Z
UID:10000080-1584685800-1584734400@woden.lutheran.org.au
SUMMARY:Blokes Breakfast
DESCRIPTION:This is a great way to catch up with the blokes of the congregation.  Enjoy breakfast (cooked by the men themselves!!) and a study lead by Pastor.  What a great way to start your day!
URL:https://woden.lutheran.org.au/event/blokes-breakfast-2/2020-03-20/
LOCATION:Immanuel Woden Valley Church Hall\, 37 Burnie St\, Lyons\, ACT\, 2606\, Australia
CATEGORIES:Fellowship
ATTACH;FMTTYPE=image/jpeg:https://woden.lutheran.org.au/wp-content/uploads/2018/08/p10153031.jpg
GEO:-35.343238;149.0813496
X-APPLE-STRUCTURED-LOCATION;VALUE=URI;X-ADDRESS=Immanuel Woden Valley Church Hall 37 Burnie St Lyons ACT 2606 Australia;X-APPLE-RADIUS=500;X-TITLE=37 Burnie St:geo:149.0813496,-35.343238
END:VEVENT
BEGIN:VEVENT
DTSTART;TZID=Australia/Sydney:20200322T103000
DTEND;TZID=Australia/Sydney:20200322T120000
DTSTAMP:20260424T144731
CREATED:20191214T042740Z
LAST-MODIFIED:20191231T004358Z
UID:10000280-1584873000-1584878400@woden.lutheran.org.au
SUMMARY:Worship Service
DESCRIPTION:
URL:https://woden.lutheran.org.au/event/worship-service-5/2020-03-22/
LOCATION:Immanuel Woden Valley Lutheran Church\, 37 Burnie St\, Lyons\, ACT\, 2606\, Australia
CATEGORIES:Worship
GEO:-35.343238;149.0813496
X-APPLE-STRUCTURED-LOCATION;VALUE=URI;X-ADDRESS=Immanuel Woden Valley Lutheran Church 37 Burnie St Lyons ACT 2606 Australia;X-APPLE-RADIUS=500;X-TITLE=37 Burnie St:geo:149.0813496,-35.343238
END:VEVENT
BEGIN:VEVENT
DTSTART;TZID=Australia/Sydney:20200326T120000
DTEND;TZID=Australia/Sydney:20200326T160000
DTSTAMP:20260424T144731
CREATED:20200318T003059Z
LAST-MODIFIED:20200318T003119Z
UID:10002016-1585224000-1585238400@woden.lutheran.org.au
SUMMARY:Seniors Lunch - Cancelled
DESCRIPTION:Due to the COVID-19\, our Seniors Lunch that was to be held on the 26th of March has been cancelled.
URL:https://woden.lutheran.org.au/event/no-seniors-lunch/
LOCATION:ACT
CATEGORIES:Fellowship,Worship
ATTACH;FMTTYPE=image/jpeg:https://woden.lutheran.org.au/wp-content/uploads/2018/11/IMG_6627.jpg
END:VEVENT
BEGIN:VEVENT
DTSTART;TZID=Australia/Sydney:20200327T063000
DTEND;TZID=Australia/Sydney:20200327T200000
DTSTAMP:20260424T144731
CREATED:20201214T233253Z
LAST-MODIFIED:20201215T022915Z
UID:10001973-1585290600-1585339200@woden.lutheran.org.au
SUMMARY:Blokes Breakfast
DESCRIPTION:Come along and join the blokes from our church for a great breakfast\, (cooked by the men themselves!!)\, and an inspirational study diving into God’s Word\, before heading off to work! \nWhat a great way to start the day!! \nResuming in 2021
URL:https://woden.lutheran.org.au/event/blokes-breakfast-4/2020-03-27/
LOCATION:ACT
CATEGORIES:Fellowship
ATTACH;FMTTYPE=image/jpeg:https://woden.lutheran.org.au/wp-content/uploads/2018/08/p10153031.jpg
END:VEVENT
BEGIN:VEVENT
DTSTART;TZID=Australia/Sydney:20200327T063000
DTEND;TZID=Australia/Sydney:20200327T200000
DTSTAMP:20260424T144731
CREATED:20180915T094935Z
LAST-MODIFIED:20180915T094935Z
UID:10000081-1585290600-1585339200@woden.lutheran.org.au
SUMMARY:Blokes Breakfast
DESCRIPTION:This is a great way to catch up with the blokes of the congregation.  Enjoy breakfast (cooked by the men themselves!!) and a study lead by Pastor.  What a great way to start your day!
URL:https://woden.lutheran.org.au/event/blokes-breakfast-2/2020-03-27/
LOCATION:Immanuel Woden Valley Church Hall\, 37 Burnie St\, Lyons\, ACT\, 2606\, Australia
CATEGORIES:Fellowship
ATTACH;FMTTYPE=image/jpeg:https://woden.lutheran.org.au/wp-content/uploads/2018/08/p10153031.jpg
GEO:-35.343238;149.0813496
X-APPLE-STRUCTURED-LOCATION;VALUE=URI;X-ADDRESS=Immanuel Woden Valley Church Hall 37 Burnie St Lyons ACT 2606 Australia;X-APPLE-RADIUS=500;X-TITLE=37 Burnie St:geo:149.0813496,-35.343238
END:VEVENT
BEGIN:VEVENT
DTSTART;TZID=Australia/Sydney:20200329T103000
DTEND;TZID=Australia/Sydney:20200329T120000
DTSTAMP:20260424T144731
CREATED:20191214T042740Z
LAST-MODIFIED:20191231T004358Z
UID:10000281-1585477800-1585483200@woden.lutheran.org.au
SUMMARY:Worship Service
DESCRIPTION:
URL:https://woden.lutheran.org.au/event/worship-service-5/2020-03-29/
LOCATION:Immanuel Woden Valley Lutheran Church\, 37 Burnie St\, Lyons\, ACT\, 2606\, Australia
CATEGORIES:Worship
GEO:-35.343238;149.0813496
X-APPLE-STRUCTURED-LOCATION;VALUE=URI;X-ADDRESS=Immanuel Woden Valley Lutheran Church 37 Burnie St Lyons ACT 2606 Australia;X-APPLE-RADIUS=500;X-TITLE=37 Burnie St:geo:149.0813496,-35.343238
END:VEVENT
BEGIN:VEVENT
DTSTART;TZID=Australia/Sydney:20200403T063000
DTEND;TZID=Australia/Sydney:20200403T200000
DTSTAMP:20260424T144731
CREATED:20201214T233253Z
LAST-MODIFIED:20201215T022915Z
UID:10001974-1585895400-1585944000@woden.lutheran.org.au
SUMMARY:Blokes Breakfast
DESCRIPTION:Come along and join the blokes from our church for a great breakfast\, (cooked by the men themselves!!)\, and an inspirational study diving into God’s Word\, before heading off to work! \nWhat a great way to start the day!! \nResuming in 2021
URL:https://woden.lutheran.org.au/event/blokes-breakfast-4/2020-04-03/
LOCATION:ACT
CATEGORIES:Fellowship
ATTACH;FMTTYPE=image/jpeg:https://woden.lutheran.org.au/wp-content/uploads/2018/08/p10153031.jpg
END:VEVENT
BEGIN:VEVENT
DTSTART;TZID=Australia/Sydney:20200403T063000
DTEND;TZID=Australia/Sydney:20200403T200000
DTSTAMP:20260424T144731
CREATED:20180915T094935Z
LAST-MODIFIED:20180915T094935Z
UID:10000082-1585895400-1585944000@woden.lutheran.org.au
SUMMARY:Blokes Breakfast
DESCRIPTION:This is a great way to catch up with the blokes of the congregation.  Enjoy breakfast (cooked by the men themselves!!) and a study lead by Pastor.  What a great way to start your day!
URL:https://woden.lutheran.org.au/event/blokes-breakfast-2/2020-04-03/
LOCATION:Immanuel Woden Valley Church Hall\, 37 Burnie St\, Lyons\, ACT\, 2606\, Australia
CATEGORIES:Fellowship
ATTACH;FMTTYPE=image/jpeg:https://woden.lutheran.org.au/wp-content/uploads/2018/08/p10153031.jpg
GEO:-35.343238;149.0813496
X-APPLE-STRUCTURED-LOCATION;VALUE=URI;X-ADDRESS=Immanuel Woden Valley Church Hall 37 Burnie St Lyons ACT 2606 Australia;X-APPLE-RADIUS=500;X-TITLE=37 Burnie St:geo:149.0813496,-35.343238
END:VEVENT
BEGIN:VEVENT
DTSTART;TZID=UTC:20200405T090000
DTEND;TZID=UTC:20200405T101500
DTSTAMP:20260424T144731
CREATED:20200317T235438Z
LAST-MODIFIED:20200318T001334Z
UID:10000921-1586077200-1586081700@woden.lutheran.org.au
SUMMARY:Palm Sunday Worship Service
DESCRIPTION:
URL:https://woden.lutheran.org.au/event/worship-service-2020-04-05/
LOCATION:Immanuel Woden Valley Lutheran Church\, 37 Burnie St\, Lyons\, ACT\, 2606\, Australia
CATEGORIES:Worship
GEO:-35.343238;149.0813496
X-APPLE-STRUCTURED-LOCATION;VALUE=URI;X-ADDRESS=Immanuel Woden Valley Lutheran Church 37 Burnie St Lyons ACT 2606 Australia;X-APPLE-RADIUS=500;X-TITLE=37 Burnie St:geo:149.0813496,-35.343238
END:VEVENT
BEGIN:VEVENT
DTSTART;TZID=Australia/Sydney:20200405T103000
DTEND;TZID=Australia/Sydney:20200405T120000
DTSTAMP:20260424T144731
CREATED:20200317T232740Z
LAST-MODIFIED:20200318T001427Z
UID:10000915-1586082600-1586088000@woden.lutheran.org.au
SUMMARY:Palm Sunday Worship Service
DESCRIPTION:
URL:https://woden.lutheran.org.au/event/worship-service-5-2020-04-05/
LOCATION:Immanuel Woden Valley Lutheran Church\, 37 Burnie St\, Lyons\, ACT\, 2606\, Australia
CATEGORIES:Worship
GEO:-35.343238;149.0813496
X-APPLE-STRUCTURED-LOCATION;VALUE=URI;X-ADDRESS=Immanuel Woden Valley Lutheran Church 37 Burnie St Lyons ACT 2606 Australia;X-APPLE-RADIUS=500;X-TITLE=37 Burnie St:geo:149.0813496,-35.343238
END:VEVENT
BEGIN:VEVENT
DTSTART;TZID=Australia/Sydney:20200409T193000
DTEND;TZID=Australia/Sydney:20200409T203000
DTSTAMP:20260424T144731
CREATED:20200317T235842Z
LAST-MODIFIED:20200318T000255Z
UID:10002013-1586460600-1586464200@woden.lutheran.org.au
SUMMARY:Maundy Thursday Worship Service
DESCRIPTION:
URL:https://woden.lutheran.org.au/event/maundy-thursday-worship-service/
LOCATION:ACT
CATEGORIES:Worship
END:VEVENT
BEGIN:VEVENT
DTSTART;TZID=Australia/Sydney:20200410T063000
DTEND;TZID=Australia/Sydney:20200410T200000
DTSTAMP:20260424T144731
CREATED:20201214T233253Z
LAST-MODIFIED:20201215T022915Z
UID:10001975-1586500200-1586548800@woden.lutheran.org.au
SUMMARY:Blokes Breakfast
DESCRIPTION:Come along and join the blokes from our church for a great breakfast\, (cooked by the men themselves!!)\, and an inspirational study diving into God’s Word\, before heading off to work! \nWhat a great way to start the day!! \nResuming in 2021
URL:https://woden.lutheran.org.au/event/blokes-breakfast-4/2020-04-10/
LOCATION:ACT
CATEGORIES:Fellowship
ATTACH;FMTTYPE=image/jpeg:https://woden.lutheran.org.au/wp-content/uploads/2018/08/p10153031.jpg
END:VEVENT
BEGIN:VEVENT
DTSTART;TZID=Australia/Sydney:20200410T063000
DTEND;TZID=Australia/Sydney:20200410T200000
DTSTAMP:20260424T144731
CREATED:20180915T094935Z
LAST-MODIFIED:20180915T094935Z
UID:10000083-1586500200-1586548800@woden.lutheran.org.au
SUMMARY:Blokes Breakfast
DESCRIPTION:This is a great way to catch up with the blokes of the congregation.  Enjoy breakfast (cooked by the men themselves!!) and a study lead by Pastor.  What a great way to start your day!
URL:https://woden.lutheran.org.au/event/blokes-breakfast-2/2020-04-10/
LOCATION:Immanuel Woden Valley Church Hall\, 37 Burnie St\, Lyons\, ACT\, 2606\, Australia
CATEGORIES:Fellowship
ATTACH;FMTTYPE=image/jpeg:https://woden.lutheran.org.au/wp-content/uploads/2018/08/p10153031.jpg
GEO:-35.343238;149.0813496
X-APPLE-STRUCTURED-LOCATION;VALUE=URI;X-ADDRESS=Immanuel Woden Valley Church Hall 37 Burnie St Lyons ACT 2606 Australia;X-APPLE-RADIUS=500;X-TITLE=37 Burnie St:geo:149.0813496,-35.343238
END:VEVENT
BEGIN:VEVENT
DTSTART;TZID=Australia/Sydney:20200410T090000
DTEND;TZID=Australia/Sydney:20200410T100000
DTSTAMP:20260424T144731
CREATED:20200317T235945Z
LAST-MODIFIED:20200318T001209Z
UID:10002014-1586509200-1586512800@woden.lutheran.org.au
SUMMARY:Good Friday Worship Service
DESCRIPTION:
URL:https://woden.lutheran.org.au/event/good-friday-worship-service/
LOCATION:ACT
CATEGORIES:Worship
END:VEVENT
END:VCALENDAR