BEGIN:VCALENDAR
VERSION:2.0
PRODID:-//Immanuel Woden Valley Lutheran Church - Lyons, ACT - ECPv6.15.14//NONSGML v1.0//EN
CALSCALE:GREGORIAN
METHOD:PUBLISH
X-WR-CALNAME:Immanuel Woden Valley Lutheran Church - Lyons, ACT
X-ORIGINAL-URL:https://woden.lutheran.org.au
X-WR-CALDESC:Events for Immanuel Woden Valley Lutheran Church - Lyons, ACT
REFRESH-INTERVAL;VALUE=DURATION:PT1H
X-Robots-Tag:noindex
X-PUBLISHED-TTL:PT1H
BEGIN:VTIMEZONE
TZID:UTC
BEGIN:STANDARD
TZOFFSETFROM:+0000
TZOFFSETTO:+0000
TZNAME:UTC
DTSTART:20190101T000000
END:STANDARD
END:VTIMEZONE
BEGIN:VTIMEZONE
TZID:Australia/Sydney
BEGIN:STANDARD
TZOFFSETFROM:+1100
TZOFFSETTO:+1000
TZNAME:AEST
DTSTART:20190406T160000
END:STANDARD
BEGIN:DAYLIGHT
TZOFFSETFROM:+1000
TZOFFSETTO:+1100
TZNAME:AEDT
DTSTART:20191005T160000
END:DAYLIGHT
BEGIN:STANDARD
TZOFFSETFROM:+1100
TZOFFSETTO:+1000
TZNAME:AEST
DTSTART:20200404T160000
END:STANDARD
BEGIN:DAYLIGHT
TZOFFSETFROM:+1000
TZOFFSETTO:+1100
TZNAME:AEDT
DTSTART:20201003T160000
END:DAYLIGHT
BEGIN:STANDARD
TZOFFSETFROM:+1100
TZOFFSETTO:+1000
TZNAME:AEST
DTSTART:20210403T160000
END:STANDARD
BEGIN:DAYLIGHT
TZOFFSETFROM:+1000
TZOFFSETTO:+1100
TZNAME:AEDT
DTSTART:20211002T160000
END:DAYLIGHT
END:VTIMEZONE
BEGIN:VEVENT
DTSTART;TZID=UTC:20200412T090000
DTEND;TZID=UTC:20200412T101500
DTSTAMP:20260424T193713
CREATED:20200317T230038Z
LAST-MODIFIED:20200317T235529Z
UID:10000957-1586682000-1586686500@woden.lutheran.org.au
SUMMARY:Easter Day Worship Service
DESCRIPTION:
URL:https://woden.lutheran.org.au/event/worship-service-2020-04-12/
LOCATION:Immanuel Woden Valley Lutheran Church\, 37 Burnie St\, Lyons\, ACT\, 2606\, Australia
CATEGORIES:Worship
GEO:-35.343238;149.0813496
X-APPLE-STRUCTURED-LOCATION;VALUE=URI;X-ADDRESS=Immanuel Woden Valley Lutheran Church 37 Burnie St Lyons ACT 2606 Australia;X-APPLE-RADIUS=500;X-TITLE=37 Burnie St:geo:149.0813496,-35.343238
END:VEVENT
BEGIN:VEVENT
DTSTART;TZID=Australia/Sydney:20200412T103000
DTEND;TZID=Australia/Sydney:20200412T120000
DTSTAMP:20260424T193713
CREATED:20200317T232740Z
LAST-MODIFIED:20200317T235659Z
UID:10000920-1586687400-1586692800@woden.lutheran.org.au
SUMMARY:Easter Day Worship Service
DESCRIPTION:
URL:https://woden.lutheran.org.au/event/worship-service-5-2020-04-12/
LOCATION:Immanuel Woden Valley Lutheran Church\, 37 Burnie St\, Lyons\, ACT\, 2606\, Australia
CATEGORIES:Worship
GEO:-35.343238;149.0813496
X-APPLE-STRUCTURED-LOCATION;VALUE=URI;X-ADDRESS=Immanuel Woden Valley Lutheran Church 37 Burnie St Lyons ACT 2606 Australia;X-APPLE-RADIUS=500;X-TITLE=37 Burnie St:geo:149.0813496,-35.343238
END:VEVENT
BEGIN:VEVENT
DTSTART;TZID=Australia/Sydney:20200414T100000
DTEND;TZID=Australia/Sydney:20200414T130000
DTSTAMP:20260424T193713
CREATED:20200318T001814Z
LAST-MODIFIED:20200318T001814Z
UID:10001968-1586858400-1586869200@woden.lutheran.org.au
SUMMARY:Women's Fellowship
DESCRIPTION:
URL:https://woden.lutheran.org.au/event/2020-04-14/
LOCATION:ACT
CATEGORIES:Fellowship
ATTACH;FMTTYPE=image/jpeg:https://woden.lutheran.org.au/wp-content/uploads/2018/08/IMG_6597-2.jpg
END:VEVENT
BEGIN:VEVENT
DTSTART;TZID=Australia/Sydney:20200417T063000
DTEND;TZID=Australia/Sydney:20200417T200000
DTSTAMP:20260424T193713
CREATED:20201214T233253Z
LAST-MODIFIED:20201215T022915Z
UID:10001976-1587105000-1587153600@woden.lutheran.org.au
SUMMARY:Blokes Breakfast
DESCRIPTION:Come along and join the blokes from our church for a great breakfast\, (cooked by the men themselves!!)\, and an inspirational study diving into God’s Word\, before heading off to work! \nWhat a great way to start the day!! \nResuming in 2021
URL:https://woden.lutheran.org.au/event/blokes-breakfast-4/2020-04-17/
LOCATION:ACT
CATEGORIES:Fellowship
ATTACH;FMTTYPE=image/jpeg:https://woden.lutheran.org.au/wp-content/uploads/2018/08/p10153031.jpg
END:VEVENT
BEGIN:VEVENT
DTSTART;TZID=Australia/Sydney:20200417T063000
DTEND;TZID=Australia/Sydney:20200417T200000
DTSTAMP:20260424T193713
CREATED:20180915T094935Z
LAST-MODIFIED:20180915T094935Z
UID:10000084-1587105000-1587153600@woden.lutheran.org.au
SUMMARY:Blokes Breakfast
DESCRIPTION:This is a great way to catch up with the blokes of the congregation.  Enjoy breakfast (cooked by the men themselves!!) and a study lead by Pastor.  What a great way to start your day!
URL:https://woden.lutheran.org.au/event/blokes-breakfast-2/2020-04-17/
LOCATION:Immanuel Woden Valley Church Hall\, 37 Burnie St\, Lyons\, ACT\, 2606\, Australia
CATEGORIES:Fellowship
ATTACH;FMTTYPE=image/jpeg:https://woden.lutheran.org.au/wp-content/uploads/2018/08/p10153031.jpg
GEO:-35.343238;149.0813496
X-APPLE-STRUCTURED-LOCATION;VALUE=URI;X-ADDRESS=Immanuel Woden Valley Church Hall 37 Burnie St Lyons ACT 2606 Australia;X-APPLE-RADIUS=500;X-TITLE=37 Burnie St:geo:149.0813496,-35.343238
END:VEVENT
BEGIN:VEVENT
DTSTART;TZID=Australia/Sydney:20200419T103000
DTEND;TZID=Australia/Sydney:20200419T120000
DTSTAMP:20260424T193713
CREATED:20191214T042740Z
LAST-MODIFIED:20191231T004358Z
UID:10000282-1587292200-1587297600@woden.lutheran.org.au
SUMMARY:Worship Service
DESCRIPTION:
URL:https://woden.lutheran.org.au/event/worship-service-5/2020-04-19/
LOCATION:Immanuel Woden Valley Lutheran Church\, 37 Burnie St\, Lyons\, ACT\, 2606\, Australia
CATEGORIES:Worship
GEO:-35.343238;149.0813496
X-APPLE-STRUCTURED-LOCATION;VALUE=URI;X-ADDRESS=Immanuel Woden Valley Lutheran Church 37 Burnie St Lyons ACT 2606 Australia;X-APPLE-RADIUS=500;X-TITLE=37 Burnie St:geo:149.0813496,-35.343238
END:VEVENT
BEGIN:VEVENT
DTSTART;TZID=Australia/Sydney:20200424T063000
DTEND;TZID=Australia/Sydney:20200424T200000
DTSTAMP:20260424T193713
CREATED:20201214T233253Z
LAST-MODIFIED:20201215T022915Z
UID:10001977-1587709800-1587758400@woden.lutheran.org.au
SUMMARY:Blokes Breakfast
DESCRIPTION:Come along and join the blokes from our church for a great breakfast\, (cooked by the men themselves!!)\, and an inspirational study diving into God’s Word\, before heading off to work! \nWhat a great way to start the day!! \nResuming in 2021
URL:https://woden.lutheran.org.au/event/blokes-breakfast-4/2020-04-24/
LOCATION:ACT
CATEGORIES:Fellowship
ATTACH;FMTTYPE=image/jpeg:https://woden.lutheran.org.au/wp-content/uploads/2018/08/p10153031.jpg
END:VEVENT
BEGIN:VEVENT
DTSTART;TZID=Australia/Sydney:20200424T063000
DTEND;TZID=Australia/Sydney:20200424T200000
DTSTAMP:20260424T193713
CREATED:20180915T094935Z
LAST-MODIFIED:20180915T094935Z
UID:10000085-1587709800-1587758400@woden.lutheran.org.au
SUMMARY:Blokes Breakfast
DESCRIPTION:This is a great way to catch up with the blokes of the congregation.  Enjoy breakfast (cooked by the men themselves!!) and a study lead by Pastor.  What a great way to start your day!
URL:https://woden.lutheran.org.au/event/blokes-breakfast-2/2020-04-24/
LOCATION:Immanuel Woden Valley Church Hall\, 37 Burnie St\, Lyons\, ACT\, 2606\, Australia
CATEGORIES:Fellowship
ATTACH;FMTTYPE=image/jpeg:https://woden.lutheran.org.au/wp-content/uploads/2018/08/p10153031.jpg
GEO:-35.343238;149.0813496
X-APPLE-STRUCTURED-LOCATION;VALUE=URI;X-ADDRESS=Immanuel Woden Valley Church Hall 37 Burnie St Lyons ACT 2606 Australia;X-APPLE-RADIUS=500;X-TITLE=37 Burnie St:geo:149.0813496,-35.343238
END:VEVENT
BEGIN:VEVENT
DTSTART;TZID=Australia/Sydney:20200426T103000
DTEND;TZID=Australia/Sydney:20200426T120000
DTSTAMP:20260424T193713
CREATED:20191214T042740Z
LAST-MODIFIED:20191231T004358Z
UID:10000283-1587897000-1587902400@woden.lutheran.org.au
SUMMARY:Worship Service
DESCRIPTION:
URL:https://woden.lutheran.org.au/event/worship-service-5/2020-04-26/
LOCATION:Immanuel Woden Valley Lutheran Church\, 37 Burnie St\, Lyons\, ACT\, 2606\, Australia
CATEGORIES:Worship
GEO:-35.343238;149.0813496
X-APPLE-STRUCTURED-LOCATION;VALUE=URI;X-ADDRESS=Immanuel Woden Valley Lutheran Church 37 Burnie St Lyons ACT 2606 Australia;X-APPLE-RADIUS=500;X-TITLE=37 Burnie St:geo:149.0813496,-35.343238
END:VEVENT
BEGIN:VEVENT
DTSTART;TZID=Australia/Sydney:20200501T063000
DTEND;TZID=Australia/Sydney:20200501T200000
DTSTAMP:20260424T193713
CREATED:20201214T233253Z
LAST-MODIFIED:20201215T022915Z
UID:10001978-1588314600-1588363200@woden.lutheran.org.au
SUMMARY:Blokes Breakfast
DESCRIPTION:Come along and join the blokes from our church for a great breakfast\, (cooked by the men themselves!!)\, and an inspirational study diving into God’s Word\, before heading off to work! \nWhat a great way to start the day!! \nResuming in 2021
URL:https://woden.lutheran.org.au/event/blokes-breakfast-4/2020-05-01/
LOCATION:ACT
CATEGORIES:Fellowship
ATTACH;FMTTYPE=image/jpeg:https://woden.lutheran.org.au/wp-content/uploads/2018/08/p10153031.jpg
END:VEVENT
BEGIN:VEVENT
DTSTART;TZID=Australia/Sydney:20200501T063000
DTEND;TZID=Australia/Sydney:20200501T200000
DTSTAMP:20260424T193713
CREATED:20180915T094935Z
LAST-MODIFIED:20180915T094935Z
UID:10000086-1588314600-1588363200@woden.lutheran.org.au
SUMMARY:Blokes Breakfast
DESCRIPTION:This is a great way to catch up with the blokes of the congregation.  Enjoy breakfast (cooked by the men themselves!!) and a study lead by Pastor.  What a great way to start your day!
URL:https://woden.lutheran.org.au/event/blokes-breakfast-2/2020-05-01/
LOCATION:Immanuel Woden Valley Church Hall\, 37 Burnie St\, Lyons\, ACT\, 2606\, Australia
CATEGORIES:Fellowship
ATTACH;FMTTYPE=image/jpeg:https://woden.lutheran.org.au/wp-content/uploads/2018/08/p10153031.jpg
GEO:-35.343238;149.0813496
X-APPLE-STRUCTURED-LOCATION;VALUE=URI;X-ADDRESS=Immanuel Woden Valley Church Hall 37 Burnie St Lyons ACT 2606 Australia;X-APPLE-RADIUS=500;X-TITLE=37 Burnie St:geo:149.0813496,-35.343238
END:VEVENT
BEGIN:VEVENT
DTSTART;TZID=Australia/Sydney:20200503T103000
DTEND;TZID=Australia/Sydney:20200503T120000
DTSTAMP:20260424T193713
CREATED:20191214T042740Z
LAST-MODIFIED:20191231T004358Z
UID:10000284-1588501800-1588507200@woden.lutheran.org.au
SUMMARY:Worship Service
DESCRIPTION:
URL:https://woden.lutheran.org.au/event/worship-service-5/2020-05-03/
LOCATION:Immanuel Woden Valley Lutheran Church\, 37 Burnie St\, Lyons\, ACT\, 2606\, Australia
CATEGORIES:Worship
GEO:-35.343238;149.0813496
X-APPLE-STRUCTURED-LOCATION;VALUE=URI;X-ADDRESS=Immanuel Woden Valley Lutheran Church 37 Burnie St Lyons ACT 2606 Australia;X-APPLE-RADIUS=500;X-TITLE=37 Burnie St:geo:149.0813496,-35.343238
END:VEVENT
BEGIN:VEVENT
DTSTART;TZID=Australia/Sydney:20200508T063000
DTEND;TZID=Australia/Sydney:20200508T200000
DTSTAMP:20260424T193713
CREATED:20201214T233253Z
LAST-MODIFIED:20201215T022915Z
UID:10001979-1588919400-1588968000@woden.lutheran.org.au
SUMMARY:Blokes Breakfast
DESCRIPTION:Come along and join the blokes from our church for a great breakfast\, (cooked by the men themselves!!)\, and an inspirational study diving into God’s Word\, before heading off to work! \nWhat a great way to start the day!! \nResuming in 2021
URL:https://woden.lutheran.org.au/event/blokes-breakfast-4/2020-05-08/
LOCATION:ACT
CATEGORIES:Fellowship
ATTACH;FMTTYPE=image/jpeg:https://woden.lutheran.org.au/wp-content/uploads/2018/08/p10153031.jpg
END:VEVENT
BEGIN:VEVENT
DTSTART;TZID=Australia/Sydney:20200508T063000
DTEND;TZID=Australia/Sydney:20200508T200000
DTSTAMP:20260424T193713
CREATED:20180915T094935Z
LAST-MODIFIED:20180915T094935Z
UID:10000087-1588919400-1588968000@woden.lutheran.org.au
SUMMARY:Blokes Breakfast
DESCRIPTION:This is a great way to catch up with the blokes of the congregation.  Enjoy breakfast (cooked by the men themselves!!) and a study lead by Pastor.  What a great way to start your day!
URL:https://woden.lutheran.org.au/event/blokes-breakfast-2/2020-05-08/
LOCATION:Immanuel Woden Valley Church Hall\, 37 Burnie St\, Lyons\, ACT\, 2606\, Australia
CATEGORIES:Fellowship
ATTACH;FMTTYPE=image/jpeg:https://woden.lutheran.org.au/wp-content/uploads/2018/08/p10153031.jpg
GEO:-35.343238;149.0813496
X-APPLE-STRUCTURED-LOCATION;VALUE=URI;X-ADDRESS=Immanuel Woden Valley Church Hall 37 Burnie St Lyons ACT 2606 Australia;X-APPLE-RADIUS=500;X-TITLE=37 Burnie St:geo:149.0813496,-35.343238
END:VEVENT
BEGIN:VEVENT
DTSTART;TZID=Australia/Sydney:20200515T063000
DTEND;TZID=Australia/Sydney:20200515T200000
DTSTAMP:20260424T193713
CREATED:20201214T233253Z
LAST-MODIFIED:20201215T022915Z
UID:10001980-1589524200-1589572800@woden.lutheran.org.au
SUMMARY:Blokes Breakfast
DESCRIPTION:Come along and join the blokes from our church for a great breakfast\, (cooked by the men themselves!!)\, and an inspirational study diving into God’s Word\, before heading off to work! \nWhat a great way to start the day!! \nResuming in 2021
URL:https://woden.lutheran.org.au/event/blokes-breakfast-4/2020-05-15/
LOCATION:ACT
CATEGORIES:Fellowship
ATTACH;FMTTYPE=image/jpeg:https://woden.lutheran.org.au/wp-content/uploads/2018/08/p10153031.jpg
END:VEVENT
BEGIN:VEVENT
DTSTART;TZID=Australia/Sydney:20200515T063000
DTEND;TZID=Australia/Sydney:20200515T200000
DTSTAMP:20260424T193713
CREATED:20180915T094935Z
LAST-MODIFIED:20180915T094935Z
UID:10000088-1589524200-1589572800@woden.lutheran.org.au
SUMMARY:Blokes Breakfast
DESCRIPTION:This is a great way to catch up with the blokes of the congregation.  Enjoy breakfast (cooked by the men themselves!!) and a study lead by Pastor.  What a great way to start your day!
URL:https://woden.lutheran.org.au/event/blokes-breakfast-2/2020-05-15/
LOCATION:Immanuel Woden Valley Church Hall\, 37 Burnie St\, Lyons\, ACT\, 2606\, Australia
CATEGORIES:Fellowship
ATTACH;FMTTYPE=image/jpeg:https://woden.lutheran.org.au/wp-content/uploads/2018/08/p10153031.jpg
GEO:-35.343238;149.0813496
X-APPLE-STRUCTURED-LOCATION;VALUE=URI;X-ADDRESS=Immanuel Woden Valley Church Hall 37 Burnie St Lyons ACT 2606 Australia;X-APPLE-RADIUS=500;X-TITLE=37 Burnie St:geo:149.0813496,-35.343238
END:VEVENT
BEGIN:VEVENT
DTSTART;TZID=Australia/Sydney:20200522T063000
DTEND;TZID=Australia/Sydney:20200522T200000
DTSTAMP:20260424T193713
CREATED:20201214T233253Z
LAST-MODIFIED:20201215T022915Z
UID:10001981-1590129000-1590177600@woden.lutheran.org.au
SUMMARY:Blokes Breakfast
DESCRIPTION:Come along and join the blokes from our church for a great breakfast\, (cooked by the men themselves!!)\, and an inspirational study diving into God’s Word\, before heading off to work! \nWhat a great way to start the day!! \nResuming in 2021
URL:https://woden.lutheran.org.au/event/blokes-breakfast-4/2020-05-22/
LOCATION:ACT
CATEGORIES:Fellowship
ATTACH;FMTTYPE=image/jpeg:https://woden.lutheran.org.au/wp-content/uploads/2018/08/p10153031.jpg
END:VEVENT
BEGIN:VEVENT
DTSTART;TZID=Australia/Sydney:20200522T063000
DTEND;TZID=Australia/Sydney:20200522T200000
DTSTAMP:20260424T193713
CREATED:20180915T094935Z
LAST-MODIFIED:20180915T094935Z
UID:10000089-1590129000-1590177600@woden.lutheran.org.au
SUMMARY:Blokes Breakfast
DESCRIPTION:This is a great way to catch up with the blokes of the congregation.  Enjoy breakfast (cooked by the men themselves!!) and a study lead by Pastor.  What a great way to start your day!
URL:https://woden.lutheran.org.au/event/blokes-breakfast-2/2020-05-22/
LOCATION:Immanuel Woden Valley Church Hall\, 37 Burnie St\, Lyons\, ACT\, 2606\, Australia
CATEGORIES:Fellowship
ATTACH;FMTTYPE=image/jpeg:https://woden.lutheran.org.au/wp-content/uploads/2018/08/p10153031.jpg
GEO:-35.343238;149.0813496
X-APPLE-STRUCTURED-LOCATION;VALUE=URI;X-ADDRESS=Immanuel Woden Valley Church Hall 37 Burnie St Lyons ACT 2606 Australia;X-APPLE-RADIUS=500;X-TITLE=37 Burnie St:geo:149.0813496,-35.343238
END:VEVENT
BEGIN:VEVENT
DTSTART;TZID=Australia/Sydney:20200529T063000
DTEND;TZID=Australia/Sydney:20200529T200000
DTSTAMP:20260424T193713
CREATED:20201214T233253Z
LAST-MODIFIED:20201215T022915Z
UID:10001982-1590733800-1590782400@woden.lutheran.org.au
SUMMARY:Blokes Breakfast
DESCRIPTION:Come along and join the blokes from our church for a great breakfast\, (cooked by the men themselves!!)\, and an inspirational study diving into God’s Word\, before heading off to work! \nWhat a great way to start the day!! \nResuming in 2021
URL:https://woden.lutheran.org.au/event/blokes-breakfast-4/2020-05-29/
LOCATION:ACT
CATEGORIES:Fellowship
ATTACH;FMTTYPE=image/jpeg:https://woden.lutheran.org.au/wp-content/uploads/2018/08/p10153031.jpg
END:VEVENT
BEGIN:VEVENT
DTSTART;TZID=Australia/Sydney:20200529T063000
DTEND;TZID=Australia/Sydney:20200529T200000
DTSTAMP:20260424T193713
CREATED:20180915T094935Z
LAST-MODIFIED:20180915T094935Z
UID:10000090-1590733800-1590782400@woden.lutheran.org.au
SUMMARY:Blokes Breakfast
DESCRIPTION:This is a great way to catch up with the blokes of the congregation.  Enjoy breakfast (cooked by the men themselves!!) and a study lead by Pastor.  What a great way to start your day!
URL:https://woden.lutheran.org.au/event/blokes-breakfast-2/2020-05-29/
LOCATION:Immanuel Woden Valley Church Hall\, 37 Burnie St\, Lyons\, ACT\, 2606\, Australia
CATEGORIES:Fellowship
ATTACH;FMTTYPE=image/jpeg:https://woden.lutheran.org.au/wp-content/uploads/2018/08/p10153031.jpg
GEO:-35.343238;149.0813496
X-APPLE-STRUCTURED-LOCATION;VALUE=URI;X-ADDRESS=Immanuel Woden Valley Church Hall 37 Burnie St Lyons ACT 2606 Australia;X-APPLE-RADIUS=500;X-TITLE=37 Burnie St:geo:149.0813496,-35.343238
END:VEVENT
BEGIN:VEVENT
DTSTART;TZID=Australia/Sydney:20200605T063000
DTEND;TZID=Australia/Sydney:20200605T200000
DTSTAMP:20260424T193713
CREATED:20201214T233253Z
LAST-MODIFIED:20201215T022915Z
UID:10001983-1591338600-1591387200@woden.lutheran.org.au
SUMMARY:Blokes Breakfast
DESCRIPTION:Come along and join the blokes from our church for a great breakfast\, (cooked by the men themselves!!)\, and an inspirational study diving into God’s Word\, before heading off to work! \nWhat a great way to start the day!! \nResuming in 2021
URL:https://woden.lutheran.org.au/event/blokes-breakfast-4/2020-06-05/
LOCATION:ACT
CATEGORIES:Fellowship
ATTACH;FMTTYPE=image/jpeg:https://woden.lutheran.org.au/wp-content/uploads/2018/08/p10153031.jpg
END:VEVENT
BEGIN:VEVENT
DTSTART;TZID=Australia/Sydney:20200605T063000
DTEND;TZID=Australia/Sydney:20200605T200000
DTSTAMP:20260424T193713
CREATED:20180915T094935Z
LAST-MODIFIED:20180915T094935Z
UID:10000091-1591338600-1591387200@woden.lutheran.org.au
SUMMARY:Blokes Breakfast
DESCRIPTION:This is a great way to catch up with the blokes of the congregation.  Enjoy breakfast (cooked by the men themselves!!) and a study lead by Pastor.  What a great way to start your day!
URL:https://woden.lutheran.org.au/event/blokes-breakfast-2/2020-06-05/
LOCATION:Immanuel Woden Valley Church Hall\, 37 Burnie St\, Lyons\, ACT\, 2606\, Australia
CATEGORIES:Fellowship
ATTACH;FMTTYPE=image/jpeg:https://woden.lutheran.org.au/wp-content/uploads/2018/08/p10153031.jpg
GEO:-35.343238;149.0813496
X-APPLE-STRUCTURED-LOCATION;VALUE=URI;X-ADDRESS=Immanuel Woden Valley Church Hall 37 Burnie St Lyons ACT 2606 Australia;X-APPLE-RADIUS=500;X-TITLE=37 Burnie St:geo:149.0813496,-35.343238
END:VEVENT
BEGIN:VEVENT
DTSTART;TZID=Australia/Sydney:20200612T063000
DTEND;TZID=Australia/Sydney:20200612T200000
DTSTAMP:20260424T193713
CREATED:20201214T233253Z
LAST-MODIFIED:20201215T022915Z
UID:10001984-1591943400-1591992000@woden.lutheran.org.au
SUMMARY:Blokes Breakfast
DESCRIPTION:Come along and join the blokes from our church for a great breakfast\, (cooked by the men themselves!!)\, and an inspirational study diving into God’s Word\, before heading off to work! \nWhat a great way to start the day!! \nResuming in 2021
URL:https://woden.lutheran.org.au/event/blokes-breakfast-4/2020-06-12/
LOCATION:ACT
CATEGORIES:Fellowship
ATTACH;FMTTYPE=image/jpeg:https://woden.lutheran.org.au/wp-content/uploads/2018/08/p10153031.jpg
END:VEVENT
BEGIN:VEVENT
DTSTART;TZID=Australia/Sydney:20200612T063000
DTEND;TZID=Australia/Sydney:20200612T200000
DTSTAMP:20260424T193713
CREATED:20180915T094935Z
LAST-MODIFIED:20180915T094935Z
UID:10000092-1591943400-1591992000@woden.lutheran.org.au
SUMMARY:Blokes Breakfast
DESCRIPTION:This is a great way to catch up with the blokes of the congregation.  Enjoy breakfast (cooked by the men themselves!!) and a study lead by Pastor.  What a great way to start your day!
URL:https://woden.lutheran.org.au/event/blokes-breakfast-2/2020-06-12/
LOCATION:Immanuel Woden Valley Church Hall\, 37 Burnie St\, Lyons\, ACT\, 2606\, Australia
CATEGORIES:Fellowship
ATTACH;FMTTYPE=image/jpeg:https://woden.lutheran.org.au/wp-content/uploads/2018/08/p10153031.jpg
GEO:-35.343238;149.0813496
X-APPLE-STRUCTURED-LOCATION;VALUE=URI;X-ADDRESS=Immanuel Woden Valley Church Hall 37 Burnie St Lyons ACT 2606 Australia;X-APPLE-RADIUS=500;X-TITLE=37 Burnie St:geo:149.0813496,-35.343238
END:VEVENT
BEGIN:VEVENT
DTSTART;TZID=Australia/Sydney:20200619T063000
DTEND;TZID=Australia/Sydney:20200619T200000
DTSTAMP:20260424T193713
CREATED:20201214T233253Z
LAST-MODIFIED:20201215T022915Z
UID:10001985-1592548200-1592596800@woden.lutheran.org.au
SUMMARY:Blokes Breakfast
DESCRIPTION:Come along and join the blokes from our church for a great breakfast\, (cooked by the men themselves!!)\, and an inspirational study diving into God’s Word\, before heading off to work! \nWhat a great way to start the day!! \nResuming in 2021
URL:https://woden.lutheran.org.au/event/blokes-breakfast-4/2020-06-19/
LOCATION:ACT
CATEGORIES:Fellowship
ATTACH;FMTTYPE=image/jpeg:https://woden.lutheran.org.au/wp-content/uploads/2018/08/p10153031.jpg
END:VEVENT
BEGIN:VEVENT
DTSTART;TZID=Australia/Sydney:20200619T063000
DTEND;TZID=Australia/Sydney:20200619T200000
DTSTAMP:20260424T193713
CREATED:20180915T094935Z
LAST-MODIFIED:20180915T094935Z
UID:10000093-1592548200-1592596800@woden.lutheran.org.au
SUMMARY:Blokes Breakfast
DESCRIPTION:This is a great way to catch up with the blokes of the congregation.  Enjoy breakfast (cooked by the men themselves!!) and a study lead by Pastor.  What a great way to start your day!
URL:https://woden.lutheran.org.au/event/blokes-breakfast-2/2020-06-19/
LOCATION:Immanuel Woden Valley Church Hall\, 37 Burnie St\, Lyons\, ACT\, 2606\, Australia
CATEGORIES:Fellowship
ATTACH;FMTTYPE=image/jpeg:https://woden.lutheran.org.au/wp-content/uploads/2018/08/p10153031.jpg
GEO:-35.343238;149.0813496
X-APPLE-STRUCTURED-LOCATION;VALUE=URI;X-ADDRESS=Immanuel Woden Valley Church Hall 37 Burnie St Lyons ACT 2606 Australia;X-APPLE-RADIUS=500;X-TITLE=37 Burnie St:geo:149.0813496,-35.343238
END:VEVENT
BEGIN:VEVENT
DTSTART;TZID=Australia/Sydney:20200626T063000
DTEND;TZID=Australia/Sydney:20200626T200000
DTSTAMP:20260424T193713
CREATED:20201214T233253Z
LAST-MODIFIED:20201215T022915Z
UID:10001986-1593153000-1593201600@woden.lutheran.org.au
SUMMARY:Blokes Breakfast
DESCRIPTION:Come along and join the blokes from our church for a great breakfast\, (cooked by the men themselves!!)\, and an inspirational study diving into God’s Word\, before heading off to work! \nWhat a great way to start the day!! \nResuming in 2021
URL:https://woden.lutheran.org.au/event/blokes-breakfast-4/2020-06-26/
LOCATION:ACT
CATEGORIES:Fellowship
ATTACH;FMTTYPE=image/jpeg:https://woden.lutheran.org.au/wp-content/uploads/2018/08/p10153031.jpg
END:VEVENT
BEGIN:VEVENT
DTSTART;TZID=Australia/Sydney:20200626T063000
DTEND;TZID=Australia/Sydney:20200626T200000
DTSTAMP:20260424T193713
CREATED:20180915T094935Z
LAST-MODIFIED:20180915T094935Z
UID:10000094-1593153000-1593201600@woden.lutheran.org.au
SUMMARY:Blokes Breakfast
DESCRIPTION:This is a great way to catch up with the blokes of the congregation.  Enjoy breakfast (cooked by the men themselves!!) and a study lead by Pastor.  What a great way to start your day!
URL:https://woden.lutheran.org.au/event/blokes-breakfast-2/2020-06-26/
LOCATION:Immanuel Woden Valley Church Hall\, 37 Burnie St\, Lyons\, ACT\, 2606\, Australia
CATEGORIES:Fellowship
ATTACH;FMTTYPE=image/jpeg:https://woden.lutheran.org.au/wp-content/uploads/2018/08/p10153031.jpg
GEO:-35.343238;149.0813496
X-APPLE-STRUCTURED-LOCATION;VALUE=URI;X-ADDRESS=Immanuel Woden Valley Church Hall 37 Burnie St Lyons ACT 2606 Australia;X-APPLE-RADIUS=500;X-TITLE=37 Burnie St:geo:149.0813496,-35.343238
END:VEVENT
BEGIN:VEVENT
DTSTART;TZID=Australia/Sydney:20200703T063000
DTEND;TZID=Australia/Sydney:20200703T200000
DTSTAMP:20260424T193713
CREATED:20201214T233253Z
LAST-MODIFIED:20201215T022915Z
UID:10001987-1593757800-1593806400@woden.lutheran.org.au
SUMMARY:Blokes Breakfast
DESCRIPTION:Come along and join the blokes from our church for a great breakfast\, (cooked by the men themselves!!)\, and an inspirational study diving into God’s Word\, before heading off to work! \nWhat a great way to start the day!! \nResuming in 2021
URL:https://woden.lutheran.org.au/event/blokes-breakfast-4/2020-07-03/
LOCATION:ACT
CATEGORIES:Fellowship
ATTACH;FMTTYPE=image/jpeg:https://woden.lutheran.org.au/wp-content/uploads/2018/08/p10153031.jpg
END:VEVENT
BEGIN:VEVENT
DTSTART;TZID=Australia/Sydney:20200703T063000
DTEND;TZID=Australia/Sydney:20200703T200000
DTSTAMP:20260424T193713
CREATED:20180915T094935Z
LAST-MODIFIED:20180915T094935Z
UID:10000095-1593757800-1593806400@woden.lutheran.org.au
SUMMARY:Blokes Breakfast
DESCRIPTION:This is a great way to catch up with the blokes of the congregation.  Enjoy breakfast (cooked by the men themselves!!) and a study lead by Pastor.  What a great way to start your day!
URL:https://woden.lutheran.org.au/event/blokes-breakfast-2/2020-07-03/
LOCATION:Immanuel Woden Valley Church Hall\, 37 Burnie St\, Lyons\, ACT\, 2606\, Australia
CATEGORIES:Fellowship
ATTACH;FMTTYPE=image/jpeg:https://woden.lutheran.org.au/wp-content/uploads/2018/08/p10153031.jpg
GEO:-35.343238;149.0813496
X-APPLE-STRUCTURED-LOCATION;VALUE=URI;X-ADDRESS=Immanuel Woden Valley Church Hall 37 Burnie St Lyons ACT 2606 Australia;X-APPLE-RADIUS=500;X-TITLE=37 Burnie St:geo:149.0813496,-35.343238
END:VEVENT
END:VCALENDAR