BEGIN:VCALENDAR
VERSION:2.0
PRODID:-//Immanuel Woden Valley Lutheran Church - Lyons, ACT - ECPv6.15.14//NONSGML v1.0//EN
CALSCALE:GREGORIAN
METHOD:PUBLISH
X-WR-CALNAME:Immanuel Woden Valley Lutheran Church - Lyons, ACT
X-ORIGINAL-URL:https://woden.lutheran.org.au
X-WR-CALDESC:Events for Immanuel Woden Valley Lutheran Church - Lyons, ACT
REFRESH-INTERVAL;VALUE=DURATION:PT1H
X-Robots-Tag:noindex
X-PUBLISHED-TTL:PT1H
BEGIN:VTIMEZONE
TZID:Australia/Sydney
BEGIN:STANDARD
TZOFFSETFROM:+1100
TZOFFSETTO:+1000
TZNAME:AEST
DTSTART:20190406T160000
END:STANDARD
BEGIN:DAYLIGHT
TZOFFSETFROM:+1000
TZOFFSETTO:+1100
TZNAME:AEDT
DTSTART:20191005T160000
END:DAYLIGHT
BEGIN:STANDARD
TZOFFSETFROM:+1100
TZOFFSETTO:+1000
TZNAME:AEST
DTSTART:20200404T160000
END:STANDARD
BEGIN:DAYLIGHT
TZOFFSETFROM:+1000
TZOFFSETTO:+1100
TZNAME:AEDT
DTSTART:20201003T160000
END:DAYLIGHT
BEGIN:STANDARD
TZOFFSETFROM:+1100
TZOFFSETTO:+1000
TZNAME:AEST
DTSTART:20210403T160000
END:STANDARD
BEGIN:DAYLIGHT
TZOFFSETFROM:+1000
TZOFFSETTO:+1100
TZNAME:AEDT
DTSTART:20211002T160000
END:DAYLIGHT
END:VTIMEZONE
BEGIN:VEVENT
DTSTART;TZID=Australia/Sydney:20200710T063000
DTEND;TZID=Australia/Sydney:20200710T200000
DTSTAMP:20260425T001904
CREATED:20201214T233253Z
LAST-MODIFIED:20201215T022915Z
UID:10001988-1594362600-1594411200@woden.lutheran.org.au
SUMMARY:Blokes Breakfast
DESCRIPTION:Come along and join the blokes from our church for a great breakfast\, (cooked by the men themselves!!)\, and an inspirational study diving into God’s Word\, before heading off to work! \nWhat a great way to start the day!! \nResuming in 2021
URL:https://woden.lutheran.org.au/event/blokes-breakfast-4/2020-07-10/
LOCATION:ACT
CATEGORIES:Fellowship
ATTACH;FMTTYPE=image/jpeg:https://woden.lutheran.org.au/wp-content/uploads/2018/08/p10153031.jpg
END:VEVENT
BEGIN:VEVENT
DTSTART;TZID=Australia/Sydney:20200710T063000
DTEND;TZID=Australia/Sydney:20200710T200000
DTSTAMP:20260425T001904
CREATED:20180915T094935Z
LAST-MODIFIED:20180915T094935Z
UID:10000096-1594362600-1594411200@woden.lutheran.org.au
SUMMARY:Blokes Breakfast
DESCRIPTION:This is a great way to catch up with the blokes of the congregation.  Enjoy breakfast (cooked by the men themselves!!) and a study lead by Pastor.  What a great way to start your day!
URL:https://woden.lutheran.org.au/event/blokes-breakfast-2/2020-07-10/
LOCATION:Immanuel Woden Valley Church Hall\, 37 Burnie St\, Lyons\, ACT\, 2606\, Australia
CATEGORIES:Fellowship
ATTACH;FMTTYPE=image/jpeg:https://woden.lutheran.org.au/wp-content/uploads/2018/08/p10153031.jpg
GEO:-35.343238;149.0813496
X-APPLE-STRUCTURED-LOCATION;VALUE=URI;X-ADDRESS=Immanuel Woden Valley Church Hall 37 Burnie St Lyons ACT 2606 Australia;X-APPLE-RADIUS=500;X-TITLE=37 Burnie St:geo:149.0813496,-35.343238
END:VEVENT
BEGIN:VEVENT
DTSTART;TZID=Australia/Sydney:20200717T063000
DTEND;TZID=Australia/Sydney:20200717T200000
DTSTAMP:20260425T001904
CREATED:20201214T233253Z
LAST-MODIFIED:20201215T022915Z
UID:10001989-1594967400-1595016000@woden.lutheran.org.au
SUMMARY:Blokes Breakfast
DESCRIPTION:Come along and join the blokes from our church for a great breakfast\, (cooked by the men themselves!!)\, and an inspirational study diving into God’s Word\, before heading off to work! \nWhat a great way to start the day!! \nResuming in 2021
URL:https://woden.lutheran.org.au/event/blokes-breakfast-4/2020-07-17/
LOCATION:ACT
CATEGORIES:Fellowship
ATTACH;FMTTYPE=image/jpeg:https://woden.lutheran.org.au/wp-content/uploads/2018/08/p10153031.jpg
END:VEVENT
BEGIN:VEVENT
DTSTART;TZID=Australia/Sydney:20200717T063000
DTEND;TZID=Australia/Sydney:20200717T200000
DTSTAMP:20260425T001904
CREATED:20180915T094935Z
LAST-MODIFIED:20180915T094935Z
UID:10000097-1594967400-1595016000@woden.lutheran.org.au
SUMMARY:Blokes Breakfast
DESCRIPTION:This is a great way to catch up with the blokes of the congregation.  Enjoy breakfast (cooked by the men themselves!!) and a study lead by Pastor.  What a great way to start your day!
URL:https://woden.lutheran.org.au/event/blokes-breakfast-2/2020-07-17/
LOCATION:Immanuel Woden Valley Church Hall\, 37 Burnie St\, Lyons\, ACT\, 2606\, Australia
CATEGORIES:Fellowship
ATTACH;FMTTYPE=image/jpeg:https://woden.lutheran.org.au/wp-content/uploads/2018/08/p10153031.jpg
GEO:-35.343238;149.0813496
X-APPLE-STRUCTURED-LOCATION;VALUE=URI;X-ADDRESS=Immanuel Woden Valley Church Hall 37 Burnie St Lyons ACT 2606 Australia;X-APPLE-RADIUS=500;X-TITLE=37 Burnie St:geo:149.0813496,-35.343238
END:VEVENT
BEGIN:VEVENT
DTSTART;TZID=Australia/Sydney:20200724T063000
DTEND;TZID=Australia/Sydney:20200724T200000
DTSTAMP:20260425T001904
CREATED:20201214T233253Z
LAST-MODIFIED:20201215T022915Z
UID:10001990-1595572200-1595620800@woden.lutheran.org.au
SUMMARY:Blokes Breakfast
DESCRIPTION:Come along and join the blokes from our church for a great breakfast\, (cooked by the men themselves!!)\, and an inspirational study diving into God’s Word\, before heading off to work! \nWhat a great way to start the day!! \nResuming in 2021
URL:https://woden.lutheran.org.au/event/blokes-breakfast-4/2020-07-24/
LOCATION:ACT
CATEGORIES:Fellowship
ATTACH;FMTTYPE=image/jpeg:https://woden.lutheran.org.au/wp-content/uploads/2018/08/p10153031.jpg
END:VEVENT
BEGIN:VEVENT
DTSTART;TZID=Australia/Sydney:20200724T063000
DTEND;TZID=Australia/Sydney:20200724T200000
DTSTAMP:20260425T001904
CREATED:20180915T094935Z
LAST-MODIFIED:20180915T094935Z
UID:10000098-1595572200-1595620800@woden.lutheran.org.au
SUMMARY:Blokes Breakfast
DESCRIPTION:This is a great way to catch up with the blokes of the congregation.  Enjoy breakfast (cooked by the men themselves!!) and a study lead by Pastor.  What a great way to start your day!
URL:https://woden.lutheran.org.au/event/blokes-breakfast-2/2020-07-24/
LOCATION:Immanuel Woden Valley Church Hall\, 37 Burnie St\, Lyons\, ACT\, 2606\, Australia
CATEGORIES:Fellowship
ATTACH;FMTTYPE=image/jpeg:https://woden.lutheran.org.au/wp-content/uploads/2018/08/p10153031.jpg
GEO:-35.343238;149.0813496
X-APPLE-STRUCTURED-LOCATION;VALUE=URI;X-ADDRESS=Immanuel Woden Valley Church Hall 37 Burnie St Lyons ACT 2606 Australia;X-APPLE-RADIUS=500;X-TITLE=37 Burnie St:geo:149.0813496,-35.343238
END:VEVENT
BEGIN:VEVENT
DTSTART;TZID=Australia/Sydney:20200731T063000
DTEND;TZID=Australia/Sydney:20200731T200000
DTSTAMP:20260425T001904
CREATED:20201214T233253Z
LAST-MODIFIED:20201215T022915Z
UID:10001991-1596177000-1596225600@woden.lutheran.org.au
SUMMARY:Blokes Breakfast
DESCRIPTION:Come along and join the blokes from our church for a great breakfast\, (cooked by the men themselves!!)\, and an inspirational study diving into God’s Word\, before heading off to work! \nWhat a great way to start the day!! \nResuming in 2021
URL:https://woden.lutheran.org.au/event/blokes-breakfast-4/2020-07-31/
LOCATION:ACT
CATEGORIES:Fellowship
ATTACH;FMTTYPE=image/jpeg:https://woden.lutheran.org.au/wp-content/uploads/2018/08/p10153031.jpg
END:VEVENT
BEGIN:VEVENT
DTSTART;TZID=Australia/Sydney:20200731T063000
DTEND;TZID=Australia/Sydney:20200731T200000
DTSTAMP:20260425T001904
CREATED:20180915T094935Z
LAST-MODIFIED:20180915T094935Z
UID:10000099-1596177000-1596225600@woden.lutheran.org.au
SUMMARY:Blokes Breakfast
DESCRIPTION:This is a great way to catch up with the blokes of the congregation.  Enjoy breakfast (cooked by the men themselves!!) and a study lead by Pastor.  What a great way to start your day!
URL:https://woden.lutheran.org.au/event/blokes-breakfast-2/2020-07-31/
LOCATION:Immanuel Woden Valley Church Hall\, 37 Burnie St\, Lyons\, ACT\, 2606\, Australia
CATEGORIES:Fellowship
ATTACH;FMTTYPE=image/jpeg:https://woden.lutheran.org.au/wp-content/uploads/2018/08/p10153031.jpg
GEO:-35.343238;149.0813496
X-APPLE-STRUCTURED-LOCATION;VALUE=URI;X-ADDRESS=Immanuel Woden Valley Church Hall 37 Burnie St Lyons ACT 2606 Australia;X-APPLE-RADIUS=500;X-TITLE=37 Burnie St:geo:149.0813496,-35.343238
END:VEVENT
BEGIN:VEVENT
DTSTART;TZID=Australia/Sydney:20200807T063000
DTEND;TZID=Australia/Sydney:20200807T200000
DTSTAMP:20260425T001904
CREATED:20201214T233253Z
LAST-MODIFIED:20201215T022915Z
UID:10001992-1596781800-1596830400@woden.lutheran.org.au
SUMMARY:Blokes Breakfast
DESCRIPTION:Come along and join the blokes from our church for a great breakfast\, (cooked by the men themselves!!)\, and an inspirational study diving into God’s Word\, before heading off to work! \nWhat a great way to start the day!! \nResuming in 2021
URL:https://woden.lutheran.org.au/event/blokes-breakfast-4/2020-08-07/
LOCATION:ACT
CATEGORIES:Fellowship
ATTACH;FMTTYPE=image/jpeg:https://woden.lutheran.org.au/wp-content/uploads/2018/08/p10153031.jpg
END:VEVENT
BEGIN:VEVENT
DTSTART;TZID=Australia/Sydney:20200807T063000
DTEND;TZID=Australia/Sydney:20200807T200000
DTSTAMP:20260425T001904
CREATED:20180915T094935Z
LAST-MODIFIED:20180915T094935Z
UID:10000100-1596781800-1596830400@woden.lutheran.org.au
SUMMARY:Blokes Breakfast
DESCRIPTION:This is a great way to catch up with the blokes of the congregation.  Enjoy breakfast (cooked by the men themselves!!) and a study lead by Pastor.  What a great way to start your day!
URL:https://woden.lutheran.org.au/event/blokes-breakfast-2/2020-08-07/
LOCATION:Immanuel Woden Valley Church Hall\, 37 Burnie St\, Lyons\, ACT\, 2606\, Australia
CATEGORIES:Fellowship
ATTACH;FMTTYPE=image/jpeg:https://woden.lutheran.org.au/wp-content/uploads/2018/08/p10153031.jpg
GEO:-35.343238;149.0813496
X-APPLE-STRUCTURED-LOCATION;VALUE=URI;X-ADDRESS=Immanuel Woden Valley Church Hall 37 Burnie St Lyons ACT 2606 Australia;X-APPLE-RADIUS=500;X-TITLE=37 Burnie St:geo:149.0813496,-35.343238
END:VEVENT
BEGIN:VEVENT
DTSTART;TZID=Australia/Sydney:20200814T063000
DTEND;TZID=Australia/Sydney:20200814T200000
DTSTAMP:20260425T001904
CREATED:20201214T233253Z
LAST-MODIFIED:20201215T022915Z
UID:10001993-1597386600-1597435200@woden.lutheran.org.au
SUMMARY:Blokes Breakfast
DESCRIPTION:Come along and join the blokes from our church for a great breakfast\, (cooked by the men themselves!!)\, and an inspirational study diving into God’s Word\, before heading off to work! \nWhat a great way to start the day!! \nResuming in 2021
URL:https://woden.lutheran.org.au/event/blokes-breakfast-4/2020-08-14/
LOCATION:ACT
CATEGORIES:Fellowship
ATTACH;FMTTYPE=image/jpeg:https://woden.lutheran.org.au/wp-content/uploads/2018/08/p10153031.jpg
END:VEVENT
BEGIN:VEVENT
DTSTART;TZID=Australia/Sydney:20200814T063000
DTEND;TZID=Australia/Sydney:20200814T200000
DTSTAMP:20260425T001904
CREATED:20180915T094935Z
LAST-MODIFIED:20180915T094935Z
UID:10000101-1597386600-1597435200@woden.lutheran.org.au
SUMMARY:Blokes Breakfast
DESCRIPTION:This is a great way to catch up with the blokes of the congregation.  Enjoy breakfast (cooked by the men themselves!!) and a study lead by Pastor.  What a great way to start your day!
URL:https://woden.lutheran.org.au/event/blokes-breakfast-2/2020-08-14/
LOCATION:Immanuel Woden Valley Church Hall\, 37 Burnie St\, Lyons\, ACT\, 2606\, Australia
CATEGORIES:Fellowship
ATTACH;FMTTYPE=image/jpeg:https://woden.lutheran.org.au/wp-content/uploads/2018/08/p10153031.jpg
GEO:-35.343238;149.0813496
X-APPLE-STRUCTURED-LOCATION;VALUE=URI;X-ADDRESS=Immanuel Woden Valley Church Hall 37 Burnie St Lyons ACT 2606 Australia;X-APPLE-RADIUS=500;X-TITLE=37 Burnie St:geo:149.0813496,-35.343238
END:VEVENT
BEGIN:VEVENT
DTSTART;TZID=Australia/Sydney:20200821T063000
DTEND;TZID=Australia/Sydney:20200821T200000
DTSTAMP:20260425T001904
CREATED:20201214T233253Z
LAST-MODIFIED:20201215T022915Z
UID:10001994-1597991400-1598040000@woden.lutheran.org.au
SUMMARY:Blokes Breakfast
DESCRIPTION:Come along and join the blokes from our church for a great breakfast\, (cooked by the men themselves!!)\, and an inspirational study diving into God’s Word\, before heading off to work! \nWhat a great way to start the day!! \nResuming in 2021
URL:https://woden.lutheran.org.au/event/blokes-breakfast-4/2020-08-21/
LOCATION:ACT
CATEGORIES:Fellowship
ATTACH;FMTTYPE=image/jpeg:https://woden.lutheran.org.au/wp-content/uploads/2018/08/p10153031.jpg
END:VEVENT
BEGIN:VEVENT
DTSTART;TZID=Australia/Sydney:20200821T063000
DTEND;TZID=Australia/Sydney:20200821T200000
DTSTAMP:20260425T001904
CREATED:20180915T094935Z
LAST-MODIFIED:20180915T094935Z
UID:10000102-1597991400-1598040000@woden.lutheran.org.au
SUMMARY:Blokes Breakfast
DESCRIPTION:This is a great way to catch up with the blokes of the congregation.  Enjoy breakfast (cooked by the men themselves!!) and a study lead by Pastor.  What a great way to start your day!
URL:https://woden.lutheran.org.au/event/blokes-breakfast-2/2020-08-21/
LOCATION:Immanuel Woden Valley Church Hall\, 37 Burnie St\, Lyons\, ACT\, 2606\, Australia
CATEGORIES:Fellowship
ATTACH;FMTTYPE=image/jpeg:https://woden.lutheran.org.au/wp-content/uploads/2018/08/p10153031.jpg
GEO:-35.343238;149.0813496
X-APPLE-STRUCTURED-LOCATION;VALUE=URI;X-ADDRESS=Immanuel Woden Valley Church Hall 37 Burnie St Lyons ACT 2606 Australia;X-APPLE-RADIUS=500;X-TITLE=37 Burnie St:geo:149.0813496,-35.343238
END:VEVENT
BEGIN:VEVENT
DTSTART;TZID=Australia/Sydney:20200828T063000
DTEND;TZID=Australia/Sydney:20200828T200000
DTSTAMP:20260425T001904
CREATED:20201214T233253Z
LAST-MODIFIED:20201215T022915Z
UID:10001995-1598596200-1598644800@woden.lutheran.org.au
SUMMARY:Blokes Breakfast
DESCRIPTION:Come along and join the blokes from our church for a great breakfast\, (cooked by the men themselves!!)\, and an inspirational study diving into God’s Word\, before heading off to work! \nWhat a great way to start the day!! \nResuming in 2021
URL:https://woden.lutheran.org.au/event/blokes-breakfast-4/2020-08-28/
LOCATION:ACT
CATEGORIES:Fellowship
ATTACH;FMTTYPE=image/jpeg:https://woden.lutheran.org.au/wp-content/uploads/2018/08/p10153031.jpg
END:VEVENT
BEGIN:VEVENT
DTSTART;TZID=Australia/Sydney:20200828T063000
DTEND;TZID=Australia/Sydney:20200828T200000
DTSTAMP:20260425T001904
CREATED:20180915T094935Z
LAST-MODIFIED:20180915T094935Z
UID:10000103-1598596200-1598644800@woden.lutheran.org.au
SUMMARY:Blokes Breakfast
DESCRIPTION:This is a great way to catch up with the blokes of the congregation.  Enjoy breakfast (cooked by the men themselves!!) and a study lead by Pastor.  What a great way to start your day!
URL:https://woden.lutheran.org.au/event/blokes-breakfast-2/2020-08-28/
LOCATION:Immanuel Woden Valley Church Hall\, 37 Burnie St\, Lyons\, ACT\, 2606\, Australia
CATEGORIES:Fellowship
ATTACH;FMTTYPE=image/jpeg:https://woden.lutheran.org.au/wp-content/uploads/2018/08/p10153031.jpg
GEO:-35.343238;149.0813496
X-APPLE-STRUCTURED-LOCATION;VALUE=URI;X-ADDRESS=Immanuel Woden Valley Church Hall 37 Burnie St Lyons ACT 2606 Australia;X-APPLE-RADIUS=500;X-TITLE=37 Burnie St:geo:149.0813496,-35.343238
END:VEVENT
BEGIN:VEVENT
DTSTART;TZID=Australia/Sydney:20200904T063000
DTEND;TZID=Australia/Sydney:20200904T200000
DTSTAMP:20260425T001904
CREATED:20201214T233253Z
LAST-MODIFIED:20201215T022915Z
UID:10001996-1599201000-1599249600@woden.lutheran.org.au
SUMMARY:Blokes Breakfast
DESCRIPTION:Come along and join the blokes from our church for a great breakfast\, (cooked by the men themselves!!)\, and an inspirational study diving into God’s Word\, before heading off to work! \nWhat a great way to start the day!! \nResuming in 2021
URL:https://woden.lutheran.org.au/event/blokes-breakfast-4/2020-09-04/
LOCATION:ACT
CATEGORIES:Fellowship
ATTACH;FMTTYPE=image/jpeg:https://woden.lutheran.org.au/wp-content/uploads/2018/08/p10153031.jpg
END:VEVENT
BEGIN:VEVENT
DTSTART;TZID=Australia/Sydney:20200904T063000
DTEND;TZID=Australia/Sydney:20200904T200000
DTSTAMP:20260425T001904
CREATED:20180915T094935Z
LAST-MODIFIED:20180915T094935Z
UID:10000104-1599201000-1599249600@woden.lutheran.org.au
SUMMARY:Blokes Breakfast
DESCRIPTION:This is a great way to catch up with the blokes of the congregation.  Enjoy breakfast (cooked by the men themselves!!) and a study lead by Pastor.  What a great way to start your day!
URL:https://woden.lutheran.org.au/event/blokes-breakfast-2/2020-09-04/
LOCATION:Immanuel Woden Valley Church Hall\, 37 Burnie St\, Lyons\, ACT\, 2606\, Australia
CATEGORIES:Fellowship
ATTACH;FMTTYPE=image/jpeg:https://woden.lutheran.org.au/wp-content/uploads/2018/08/p10153031.jpg
GEO:-35.343238;149.0813496
X-APPLE-STRUCTURED-LOCATION;VALUE=URI;X-ADDRESS=Immanuel Woden Valley Church Hall 37 Burnie St Lyons ACT 2606 Australia;X-APPLE-RADIUS=500;X-TITLE=37 Burnie St:geo:149.0813496,-35.343238
END:VEVENT
BEGIN:VEVENT
DTSTART;TZID=Australia/Sydney:20200911T063000
DTEND;TZID=Australia/Sydney:20200911T200000
DTSTAMP:20260425T001904
CREATED:20201214T233253Z
LAST-MODIFIED:20201215T022915Z
UID:10001997-1599805800-1599854400@woden.lutheran.org.au
SUMMARY:Blokes Breakfast
DESCRIPTION:Come along and join the blokes from our church for a great breakfast\, (cooked by the men themselves!!)\, and an inspirational study diving into God’s Word\, before heading off to work! \nWhat a great way to start the day!! \nResuming in 2021
URL:https://woden.lutheran.org.au/event/blokes-breakfast-4/2020-09-11/
LOCATION:ACT
CATEGORIES:Fellowship
ATTACH;FMTTYPE=image/jpeg:https://woden.lutheran.org.au/wp-content/uploads/2018/08/p10153031.jpg
END:VEVENT
BEGIN:VEVENT
DTSTART;TZID=Australia/Sydney:20200911T063000
DTEND;TZID=Australia/Sydney:20200911T200000
DTSTAMP:20260425T001904
CREATED:20180915T094935Z
LAST-MODIFIED:20180915T094935Z
UID:10000105-1599805800-1599854400@woden.lutheran.org.au
SUMMARY:Blokes Breakfast
DESCRIPTION:This is a great way to catch up with the blokes of the congregation.  Enjoy breakfast (cooked by the men themselves!!) and a study lead by Pastor.  What a great way to start your day!
URL:https://woden.lutheran.org.au/event/blokes-breakfast-2/2020-09-11/
LOCATION:Immanuel Woden Valley Church Hall\, 37 Burnie St\, Lyons\, ACT\, 2606\, Australia
CATEGORIES:Fellowship
ATTACH;FMTTYPE=image/jpeg:https://woden.lutheran.org.au/wp-content/uploads/2018/08/p10153031.jpg
GEO:-35.343238;149.0813496
X-APPLE-STRUCTURED-LOCATION;VALUE=URI;X-ADDRESS=Immanuel Woden Valley Church Hall 37 Burnie St Lyons ACT 2606 Australia;X-APPLE-RADIUS=500;X-TITLE=37 Burnie St:geo:149.0813496,-35.343238
END:VEVENT
BEGIN:VEVENT
DTSTART;TZID=Australia/Sydney:20200917T120000
DTEND;TZID=Australia/Sydney:20200917T160000
DTSTAMP:20260425T001904
CREATED:20200318T003238Z
LAST-MODIFIED:20200318T003238Z
UID:10002017-1600344000-1600358400@woden.lutheran.org.au
SUMMARY:Seniors Lunch
DESCRIPTION:
URL:https://woden.lutheran.org.au/event/seniors-lunch-2/
LOCATION:ACT
CATEGORIES:Fellowship,Worship
ATTACH;FMTTYPE=image/jpeg:https://woden.lutheran.org.au/wp-content/uploads/2018/11/IMG_6627.jpg
END:VEVENT
BEGIN:VEVENT
DTSTART;TZID=Australia/Sydney:20200918T063000
DTEND;TZID=Australia/Sydney:20200918T200000
DTSTAMP:20260425T001904
CREATED:20201214T233253Z
LAST-MODIFIED:20201215T022915Z
UID:10001998-1600410600-1600459200@woden.lutheran.org.au
SUMMARY:Blokes Breakfast
DESCRIPTION:Come along and join the blokes from our church for a great breakfast\, (cooked by the men themselves!!)\, and an inspirational study diving into God’s Word\, before heading off to work! \nWhat a great way to start the day!! \nResuming in 2021
URL:https://woden.lutheran.org.au/event/blokes-breakfast-4/2020-09-18/
LOCATION:ACT
CATEGORIES:Fellowship
ATTACH;FMTTYPE=image/jpeg:https://woden.lutheran.org.au/wp-content/uploads/2018/08/p10153031.jpg
END:VEVENT
BEGIN:VEVENT
DTSTART;TZID=Australia/Sydney:20200918T063000
DTEND;TZID=Australia/Sydney:20200918T200000
DTSTAMP:20260425T001904
CREATED:20180915T094935Z
LAST-MODIFIED:20180915T094935Z
UID:10000106-1600410600-1600459200@woden.lutheran.org.au
SUMMARY:Blokes Breakfast
DESCRIPTION:This is a great way to catch up with the blokes of the congregation.  Enjoy breakfast (cooked by the men themselves!!) and a study lead by Pastor.  What a great way to start your day!
URL:https://woden.lutheran.org.au/event/blokes-breakfast-2/2020-09-18/
LOCATION:Immanuel Woden Valley Church Hall\, 37 Burnie St\, Lyons\, ACT\, 2606\, Australia
CATEGORIES:Fellowship
ATTACH;FMTTYPE=image/jpeg:https://woden.lutheran.org.au/wp-content/uploads/2018/08/p10153031.jpg
GEO:-35.343238;149.0813496
X-APPLE-STRUCTURED-LOCATION;VALUE=URI;X-ADDRESS=Immanuel Woden Valley Church Hall 37 Burnie St Lyons ACT 2606 Australia;X-APPLE-RADIUS=500;X-TITLE=37 Burnie St:geo:149.0813496,-35.343238
END:VEVENT
BEGIN:VEVENT
DTSTART;TZID=Australia/Sydney:20200925T063000
DTEND;TZID=Australia/Sydney:20200925T200000
DTSTAMP:20260425T001904
CREATED:20201214T233253Z
LAST-MODIFIED:20201215T022915Z
UID:10001999-1601015400-1601064000@woden.lutheran.org.au
SUMMARY:Blokes Breakfast
DESCRIPTION:Come along and join the blokes from our church for a great breakfast\, (cooked by the men themselves!!)\, and an inspirational study diving into God’s Word\, before heading off to work! \nWhat a great way to start the day!! \nResuming in 2021
URL:https://woden.lutheran.org.au/event/blokes-breakfast-4/2020-09-25/
LOCATION:ACT
CATEGORIES:Fellowship
ATTACH;FMTTYPE=image/jpeg:https://woden.lutheran.org.au/wp-content/uploads/2018/08/p10153031.jpg
END:VEVENT
BEGIN:VEVENT
DTSTART;TZID=Australia/Sydney:20200925T063000
DTEND;TZID=Australia/Sydney:20200925T200000
DTSTAMP:20260425T001904
CREATED:20180915T094935Z
LAST-MODIFIED:20180915T094935Z
UID:10000107-1601015400-1601064000@woden.lutheran.org.au
SUMMARY:Blokes Breakfast
DESCRIPTION:This is a great way to catch up with the blokes of the congregation.  Enjoy breakfast (cooked by the men themselves!!) and a study lead by Pastor.  What a great way to start your day!
URL:https://woden.lutheran.org.au/event/blokes-breakfast-2/2020-09-25/
LOCATION:Immanuel Woden Valley Church Hall\, 37 Burnie St\, Lyons\, ACT\, 2606\, Australia
CATEGORIES:Fellowship
ATTACH;FMTTYPE=image/jpeg:https://woden.lutheran.org.au/wp-content/uploads/2018/08/p10153031.jpg
GEO:-35.343238;149.0813496
X-APPLE-STRUCTURED-LOCATION;VALUE=URI;X-ADDRESS=Immanuel Woden Valley Church Hall 37 Burnie St Lyons ACT 2606 Australia;X-APPLE-RADIUS=500;X-TITLE=37 Burnie St:geo:149.0813496,-35.343238
END:VEVENT
BEGIN:VEVENT
DTSTART;TZID=Australia/Sydney:20201002T063000
DTEND;TZID=Australia/Sydney:20201002T200000
DTSTAMP:20260425T001904
CREATED:20201214T233253Z
LAST-MODIFIED:20201215T022915Z
UID:10002000-1601620200-1601668800@woden.lutheran.org.au
SUMMARY:Blokes Breakfast
DESCRIPTION:Come along and join the blokes from our church for a great breakfast\, (cooked by the men themselves!!)\, and an inspirational study diving into God’s Word\, before heading off to work! \nWhat a great way to start the day!! \nResuming in 2021
URL:https://woden.lutheran.org.au/event/blokes-breakfast-4/2020-10-02/
LOCATION:ACT
CATEGORIES:Fellowship
ATTACH;FMTTYPE=image/jpeg:https://woden.lutheran.org.au/wp-content/uploads/2018/08/p10153031.jpg
END:VEVENT
BEGIN:VEVENT
DTSTART;TZID=Australia/Sydney:20201002T063000
DTEND;TZID=Australia/Sydney:20201002T200000
DTSTAMP:20260425T001904
CREATED:20180915T094935Z
LAST-MODIFIED:20180915T094935Z
UID:10000108-1601620200-1601668800@woden.lutheran.org.au
SUMMARY:Blokes Breakfast
DESCRIPTION:This is a great way to catch up with the blokes of the congregation.  Enjoy breakfast (cooked by the men themselves!!) and a study lead by Pastor.  What a great way to start your day!
URL:https://woden.lutheran.org.au/event/blokes-breakfast-2/2020-10-02/
LOCATION:Immanuel Woden Valley Church Hall\, 37 Burnie St\, Lyons\, ACT\, 2606\, Australia
CATEGORIES:Fellowship
ATTACH;FMTTYPE=image/jpeg:https://woden.lutheran.org.au/wp-content/uploads/2018/08/p10153031.jpg
GEO:-35.343238;149.0813496
X-APPLE-STRUCTURED-LOCATION;VALUE=URI;X-ADDRESS=Immanuel Woden Valley Church Hall 37 Burnie St Lyons ACT 2606 Australia;X-APPLE-RADIUS=500;X-TITLE=37 Burnie St:geo:149.0813496,-35.343238
END:VEVENT
BEGIN:VEVENT
DTSTART;TZID=Australia/Sydney:20201009T063000
DTEND;TZID=Australia/Sydney:20201009T200000
DTSTAMP:20260425T001904
CREATED:20201214T233253Z
LAST-MODIFIED:20201215T022915Z
UID:10002001-1602225000-1602273600@woden.lutheran.org.au
SUMMARY:Blokes Breakfast
DESCRIPTION:Come along and join the blokes from our church for a great breakfast\, (cooked by the men themselves!!)\, and an inspirational study diving into God’s Word\, before heading off to work! \nWhat a great way to start the day!! \nResuming in 2021
URL:https://woden.lutheran.org.au/event/blokes-breakfast-4/2020-10-09/
LOCATION:ACT
CATEGORIES:Fellowship
ATTACH;FMTTYPE=image/jpeg:https://woden.lutheran.org.au/wp-content/uploads/2018/08/p10153031.jpg
END:VEVENT
BEGIN:VEVENT
DTSTART;TZID=Australia/Sydney:20201009T063000
DTEND;TZID=Australia/Sydney:20201009T200000
DTSTAMP:20260425T001904
CREATED:20180915T094935Z
LAST-MODIFIED:20180915T094935Z
UID:10000109-1602225000-1602273600@woden.lutheran.org.au
SUMMARY:Blokes Breakfast
DESCRIPTION:This is a great way to catch up with the blokes of the congregation.  Enjoy breakfast (cooked by the men themselves!!) and a study lead by Pastor.  What a great way to start your day!
URL:https://woden.lutheran.org.au/event/blokes-breakfast-2/2020-10-09/
LOCATION:Immanuel Woden Valley Church Hall\, 37 Burnie St\, Lyons\, ACT\, 2606\, Australia
CATEGORIES:Fellowship
ATTACH;FMTTYPE=image/jpeg:https://woden.lutheran.org.au/wp-content/uploads/2018/08/p10153031.jpg
GEO:-35.343238;149.0813496
X-APPLE-STRUCTURED-LOCATION;VALUE=URI;X-ADDRESS=Immanuel Woden Valley Church Hall 37 Burnie St Lyons ACT 2606 Australia;X-APPLE-RADIUS=500;X-TITLE=37 Burnie St:geo:149.0813496,-35.343238
END:VEVENT
BEGIN:VEVENT
DTSTART;TZID=Australia/Sydney:20201011T090000
DTEND;TZID=Australia/Sydney:20201011T100000
DTSTAMP:20260425T001904
CREATED:20201001T022608Z
LAST-MODIFIED:20201001T022608Z
UID:10002018-1602406800-1602410400@woden.lutheran.org.au
SUMMARY:Worship Service
DESCRIPTION:
URL:https://woden.lutheran.org.au/event/worship-service-6/2020-10-11/
LOCATION:Immanuel Woden Valley Lutheran Church\, 37 Burnie St\, Lyons\, ACT\, 2606\, Australia
CATEGORIES:Worship
GEO:-35.343238;149.0813496
X-APPLE-STRUCTURED-LOCATION;VALUE=URI;X-ADDRESS=Immanuel Woden Valley Lutheran Church 37 Burnie St Lyons ACT 2606 Australia;X-APPLE-RADIUS=500;X-TITLE=37 Burnie St:geo:149.0813496,-35.343238
END:VEVENT
END:VCALENDAR