BEGIN:VCALENDAR
VERSION:2.0
PRODID:-//Immanuel Woden Valley Lutheran Church - Lyons, ACT - ECPv6.15.14//NONSGML v1.0//EN
CALSCALE:GREGORIAN
METHOD:PUBLISH
X-WR-CALNAME:Immanuel Woden Valley Lutheran Church - Lyons, ACT
X-ORIGINAL-URL:https://woden.lutheran.org.au
X-WR-CALDESC:Events for Immanuel Woden Valley Lutheran Church - Lyons, ACT
REFRESH-INTERVAL;VALUE=DURATION:PT1H
X-Robots-Tag:noindex
X-PUBLISHED-TTL:PT1H
BEGIN:VTIMEZONE
TZID:Australia/Sydney
BEGIN:STANDARD
TZOFFSETFROM:+1100
TZOFFSETTO:+1000
TZNAME:AEST
DTSTART:20300406T160000
END:STANDARD
BEGIN:DAYLIGHT
TZOFFSETFROM:+1000
TZOFFSETTO:+1100
TZNAME:AEDT
DTSTART:20301005T160000
END:DAYLIGHT
BEGIN:STANDARD
TZOFFSETFROM:+1100
TZOFFSETTO:+1000
TZNAME:AEST
DTSTART:20310405T160000
END:STANDARD
BEGIN:DAYLIGHT
TZOFFSETFROM:+1000
TZOFFSETTO:+1100
TZNAME:AEDT
DTSTART:20311004T160000
END:DAYLIGHT
BEGIN:STANDARD
TZOFFSETFROM:+1100
TZOFFSETTO:+1000
TZNAME:AEST
DTSTART:20320403T160000
END:STANDARD
BEGIN:DAYLIGHT
TZOFFSETFROM:+1000
TZOFFSETTO:+1100
TZNAME:AEDT
DTSTART:20321002T160000
END:DAYLIGHT
END:VTIMEZONE
BEGIN:VEVENT
DTSTART;TZID=Australia/Sydney:20310119T103000
DTEND;TZID=Australia/Sydney:20310119T113000
DTSTAMP:20260421T124542
CREATED:20260317T014646Z
LAST-MODIFIED:20260414T093121Z
UID:10004871-1926585000-1926588600@woden.lutheran.org.au
SUMMARY:Contemporary Service with Livestream
DESCRIPTION:The 10.30am service is a more relaxed\, contemporary style. The music is led by a band and singers.
URL:https://woden.lutheran.org.au/event/contemporary-service-with-livestream-6-2-2-2/2031-01-19/
LOCATION:Immanuel Woden Valley Lutheran Church\, 37 Burnie St\, Lyons\, ACT\, 2606\, Australia
CATEGORIES:Fellowship,Worship
ATTACH;FMTTYPE=image/jpeg:https://woden.lutheran.org.au/wp-content/uploads/2021/10/2dd0bab5d85664f86920adae085a5466_-australian-capital-territory-lyons-immanuel-woden-valley-lutheran-church-02-6282-1195html-e1657854624415.jpg
GEO:-35.343238;149.0813496
X-APPLE-STRUCTURED-LOCATION;VALUE=URI;X-ADDRESS=Immanuel Woden Valley Lutheran Church 37 Burnie St Lyons ACT 2606 Australia;X-APPLE-RADIUS=500;X-TITLE=37 Burnie St:geo:149.0813496,-35.343238
END:VEVENT
BEGIN:VEVENT
DTSTART;TZID=Australia/Sydney:20310126T090000
DTEND;TZID=Australia/Sydney:20310126T100000
DTSTAMP:20260421T124542
CREATED:20260317T014720Z
LAST-MODIFIED:20260414T093035Z
UID:10004881-1927184400-1927188000@woden.lutheran.org.au
SUMMARY:Traditional Service with Livestream
DESCRIPTION:The 9.00am service is more traditional liturgical service with a spoken or sung liturgy. Hymns and songs are accompanied by an organist or pianist.
URL:https://woden.lutheran.org.au/event/traditional-service-with-livestream-7-2-2-2/2031-01-26/
LOCATION:Immanuel Woden Valley Lutheran Church\, 37 Burnie St\, Lyons\, ACT\, 2606\, Australia
CATEGORIES:Fellowship,Worship
ATTACH;FMTTYPE=image/jpeg:https://woden.lutheran.org.au/wp-content/uploads/2021/10/2dd0bab5d85664f86920adae085a5466_-australian-capital-territory-lyons-immanuel-woden-valley-lutheran-church-02-6282-1195html-e1657854624415.jpg
GEO:-35.343238;149.0813496
X-APPLE-STRUCTURED-LOCATION;VALUE=URI;X-ADDRESS=Immanuel Woden Valley Lutheran Church 37 Burnie St Lyons ACT 2606 Australia;X-APPLE-RADIUS=500;X-TITLE=37 Burnie St:geo:149.0813496,-35.343238
END:VEVENT
BEGIN:VEVENT
DTSTART;TZID=Australia/Sydney:20310126T103000
DTEND;TZID=Australia/Sydney:20310126T113000
DTSTAMP:20260421T124542
CREATED:20260317T014646Z
LAST-MODIFIED:20260414T093121Z
UID:10004872-1927189800-1927193400@woden.lutheran.org.au
SUMMARY:Contemporary Service with Livestream
DESCRIPTION:The 10.30am service is a more relaxed\, contemporary style. The music is led by a band and singers.
URL:https://woden.lutheran.org.au/event/contemporary-service-with-livestream-6-2-2-2/2031-01-26/
LOCATION:Immanuel Woden Valley Lutheran Church\, 37 Burnie St\, Lyons\, ACT\, 2606\, Australia
CATEGORIES:Fellowship,Worship
ATTACH;FMTTYPE=image/jpeg:https://woden.lutheran.org.au/wp-content/uploads/2021/10/2dd0bab5d85664f86920adae085a5466_-australian-capital-territory-lyons-immanuel-woden-valley-lutheran-church-02-6282-1195html-e1657854624415.jpg
GEO:-35.343238;149.0813496
X-APPLE-STRUCTURED-LOCATION;VALUE=URI;X-ADDRESS=Immanuel Woden Valley Lutheran Church 37 Burnie St Lyons ACT 2606 Australia;X-APPLE-RADIUS=500;X-TITLE=37 Burnie St:geo:149.0813496,-35.343238
END:VEVENT
BEGIN:VEVENT
DTSTART;TZID=Australia/Sydney:20310202T090000
DTEND;TZID=Australia/Sydney:20310202T100000
DTSTAMP:20260421T124542
CREATED:20260317T014720Z
LAST-MODIFIED:20260414T093035Z
UID:10004882-1927789200-1927792800@woden.lutheran.org.au
SUMMARY:Traditional Service with Livestream
DESCRIPTION:The 9.00am service is more traditional liturgical service with a spoken or sung liturgy. Hymns and songs are accompanied by an organist or pianist.
URL:https://woden.lutheran.org.au/event/traditional-service-with-livestream-7-2-2-2/2031-02-02/
LOCATION:Immanuel Woden Valley Lutheran Church\, 37 Burnie St\, Lyons\, ACT\, 2606\, Australia
CATEGORIES:Fellowship,Worship
ATTACH;FMTTYPE=image/jpeg:https://woden.lutheran.org.au/wp-content/uploads/2021/10/2dd0bab5d85664f86920adae085a5466_-australian-capital-territory-lyons-immanuel-woden-valley-lutheran-church-02-6282-1195html-e1657854624415.jpg
GEO:-35.343238;149.0813496
X-APPLE-STRUCTURED-LOCATION;VALUE=URI;X-ADDRESS=Immanuel Woden Valley Lutheran Church 37 Burnie St Lyons ACT 2606 Australia;X-APPLE-RADIUS=500;X-TITLE=37 Burnie St:geo:149.0813496,-35.343238
END:VEVENT
BEGIN:VEVENT
DTSTART;TZID=Australia/Sydney:20310202T103000
DTEND;TZID=Australia/Sydney:20310202T113000
DTSTAMP:20260421T124542
CREATED:20260317T014646Z
LAST-MODIFIED:20260414T093121Z
UID:10004873-1927794600-1927798200@woden.lutheran.org.au
SUMMARY:Contemporary Service with Livestream
DESCRIPTION:The 10.30am service is a more relaxed\, contemporary style. The music is led by a band and singers.
URL:https://woden.lutheran.org.au/event/contemporary-service-with-livestream-6-2-2-2/2031-02-02/
LOCATION:Immanuel Woden Valley Lutheran Church\, 37 Burnie St\, Lyons\, ACT\, 2606\, Australia
CATEGORIES:Fellowship,Worship
ATTACH;FMTTYPE=image/jpeg:https://woden.lutheran.org.au/wp-content/uploads/2021/10/2dd0bab5d85664f86920adae085a5466_-australian-capital-territory-lyons-immanuel-woden-valley-lutheran-church-02-6282-1195html-e1657854624415.jpg
GEO:-35.343238;149.0813496
X-APPLE-STRUCTURED-LOCATION;VALUE=URI;X-ADDRESS=Immanuel Woden Valley Lutheran Church 37 Burnie St Lyons ACT 2606 Australia;X-APPLE-RADIUS=500;X-TITLE=37 Burnie St:geo:149.0813496,-35.343238
END:VEVENT
BEGIN:VEVENT
DTSTART;TZID=Australia/Sydney:20310209T090000
DTEND;TZID=Australia/Sydney:20310209T100000
DTSTAMP:20260421T124542
CREATED:20260317T014720Z
LAST-MODIFIED:20260414T093035Z
UID:10004883-1928394000-1928397600@woden.lutheran.org.au
SUMMARY:Traditional Service with Livestream
DESCRIPTION:The 9.00am service is more traditional liturgical service with a spoken or sung liturgy. Hymns and songs are accompanied by an organist or pianist.
URL:https://woden.lutheran.org.au/event/traditional-service-with-livestream-7-2-2-2/2031-02-09/
LOCATION:Immanuel Woden Valley Lutheran Church\, 37 Burnie St\, Lyons\, ACT\, 2606\, Australia
CATEGORIES:Fellowship,Worship
ATTACH;FMTTYPE=image/jpeg:https://woden.lutheran.org.au/wp-content/uploads/2021/10/2dd0bab5d85664f86920adae085a5466_-australian-capital-territory-lyons-immanuel-woden-valley-lutheran-church-02-6282-1195html-e1657854624415.jpg
GEO:-35.343238;149.0813496
X-APPLE-STRUCTURED-LOCATION;VALUE=URI;X-ADDRESS=Immanuel Woden Valley Lutheran Church 37 Burnie St Lyons ACT 2606 Australia;X-APPLE-RADIUS=500;X-TITLE=37 Burnie St:geo:149.0813496,-35.343238
END:VEVENT
BEGIN:VEVENT
DTSTART;TZID=Australia/Sydney:20310209T103000
DTEND;TZID=Australia/Sydney:20310209T113000
DTSTAMP:20260421T124542
CREATED:20260317T014646Z
LAST-MODIFIED:20260414T093121Z
UID:10004874-1928399400-1928403000@woden.lutheran.org.au
SUMMARY:Contemporary Service with Livestream
DESCRIPTION:The 10.30am service is a more relaxed\, contemporary style. The music is led by a band and singers.
URL:https://woden.lutheran.org.au/event/contemporary-service-with-livestream-6-2-2-2/2031-02-09/
LOCATION:Immanuel Woden Valley Lutheran Church\, 37 Burnie St\, Lyons\, ACT\, 2606\, Australia
CATEGORIES:Fellowship,Worship
ATTACH;FMTTYPE=image/jpeg:https://woden.lutheran.org.au/wp-content/uploads/2021/10/2dd0bab5d85664f86920adae085a5466_-australian-capital-territory-lyons-immanuel-woden-valley-lutheran-church-02-6282-1195html-e1657854624415.jpg
GEO:-35.343238;149.0813496
X-APPLE-STRUCTURED-LOCATION;VALUE=URI;X-ADDRESS=Immanuel Woden Valley Lutheran Church 37 Burnie St Lyons ACT 2606 Australia;X-APPLE-RADIUS=500;X-TITLE=37 Burnie St:geo:149.0813496,-35.343238
END:VEVENT
BEGIN:VEVENT
DTSTART;TZID=Australia/Sydney:20310216T090000
DTEND;TZID=Australia/Sydney:20310216T100000
DTSTAMP:20260421T124542
CREATED:20260317T014720Z
LAST-MODIFIED:20260414T093035Z
UID:10004884-1928998800-1929002400@woden.lutheran.org.au
SUMMARY:Traditional Service with Livestream
DESCRIPTION:The 9.00am service is more traditional liturgical service with a spoken or sung liturgy. Hymns and songs are accompanied by an organist or pianist.
URL:https://woden.lutheran.org.au/event/traditional-service-with-livestream-7-2-2-2/2031-02-16/
LOCATION:Immanuel Woden Valley Lutheran Church\, 37 Burnie St\, Lyons\, ACT\, 2606\, Australia
CATEGORIES:Fellowship,Worship
ATTACH;FMTTYPE=image/jpeg:https://woden.lutheran.org.au/wp-content/uploads/2021/10/2dd0bab5d85664f86920adae085a5466_-australian-capital-territory-lyons-immanuel-woden-valley-lutheran-church-02-6282-1195html-e1657854624415.jpg
GEO:-35.343238;149.0813496
X-APPLE-STRUCTURED-LOCATION;VALUE=URI;X-ADDRESS=Immanuel Woden Valley Lutheran Church 37 Burnie St Lyons ACT 2606 Australia;X-APPLE-RADIUS=500;X-TITLE=37 Burnie St:geo:149.0813496,-35.343238
END:VEVENT
BEGIN:VEVENT
DTSTART;TZID=Australia/Sydney:20310216T103000
DTEND;TZID=Australia/Sydney:20310216T113000
DTSTAMP:20260421T124542
CREATED:20260317T014646Z
LAST-MODIFIED:20260414T093121Z
UID:10004875-1929004200-1929007800@woden.lutheran.org.au
SUMMARY:Contemporary Service with Livestream
DESCRIPTION:The 10.30am service is a more relaxed\, contemporary style. The music is led by a band and singers.
URL:https://woden.lutheran.org.au/event/contemporary-service-with-livestream-6-2-2-2/2031-02-16/
LOCATION:Immanuel Woden Valley Lutheran Church\, 37 Burnie St\, Lyons\, ACT\, 2606\, Australia
CATEGORIES:Fellowship,Worship
ATTACH;FMTTYPE=image/jpeg:https://woden.lutheran.org.au/wp-content/uploads/2021/10/2dd0bab5d85664f86920adae085a5466_-australian-capital-territory-lyons-immanuel-woden-valley-lutheran-church-02-6282-1195html-e1657854624415.jpg
GEO:-35.343238;149.0813496
X-APPLE-STRUCTURED-LOCATION;VALUE=URI;X-ADDRESS=Immanuel Woden Valley Lutheran Church 37 Burnie St Lyons ACT 2606 Australia;X-APPLE-RADIUS=500;X-TITLE=37 Burnie St:geo:149.0813496,-35.343238
END:VEVENT
BEGIN:VEVENT
DTSTART;TZID=Australia/Sydney:20310223T090000
DTEND;TZID=Australia/Sydney:20310223T100000
DTSTAMP:20260421T124542
CREATED:20260317T014720Z
LAST-MODIFIED:20260414T093035Z
UID:10004885-1929603600-1929607200@woden.lutheran.org.au
SUMMARY:Traditional Service with Livestream
DESCRIPTION:The 9.00am service is more traditional liturgical service with a spoken or sung liturgy. Hymns and songs are accompanied by an organist or pianist.
URL:https://woden.lutheran.org.au/event/traditional-service-with-livestream-7-2-2-2/2031-02-23/
LOCATION:Immanuel Woden Valley Lutheran Church\, 37 Burnie St\, Lyons\, ACT\, 2606\, Australia
CATEGORIES:Fellowship,Worship
ATTACH;FMTTYPE=image/jpeg:https://woden.lutheran.org.au/wp-content/uploads/2021/10/2dd0bab5d85664f86920adae085a5466_-australian-capital-territory-lyons-immanuel-woden-valley-lutheran-church-02-6282-1195html-e1657854624415.jpg
GEO:-35.343238;149.0813496
X-APPLE-STRUCTURED-LOCATION;VALUE=URI;X-ADDRESS=Immanuel Woden Valley Lutheran Church 37 Burnie St Lyons ACT 2606 Australia;X-APPLE-RADIUS=500;X-TITLE=37 Burnie St:geo:149.0813496,-35.343238
END:VEVENT
BEGIN:VEVENT
DTSTART;TZID=Australia/Sydney:20310223T103000
DTEND;TZID=Australia/Sydney:20310223T113000
DTSTAMP:20260421T124542
CREATED:20260317T014646Z
LAST-MODIFIED:20260414T093121Z
UID:10004876-1929609000-1929612600@woden.lutheran.org.au
SUMMARY:Contemporary Service with Livestream
DESCRIPTION:The 10.30am service is a more relaxed\, contemporary style. The music is led by a band and singers.
URL:https://woden.lutheran.org.au/event/contemporary-service-with-livestream-6-2-2-2/2031-02-23/
LOCATION:Immanuel Woden Valley Lutheran Church\, 37 Burnie St\, Lyons\, ACT\, 2606\, Australia
CATEGORIES:Fellowship,Worship
ATTACH;FMTTYPE=image/jpeg:https://woden.lutheran.org.au/wp-content/uploads/2021/10/2dd0bab5d85664f86920adae085a5466_-australian-capital-territory-lyons-immanuel-woden-valley-lutheran-church-02-6282-1195html-e1657854624415.jpg
GEO:-35.343238;149.0813496
X-APPLE-STRUCTURED-LOCATION;VALUE=URI;X-ADDRESS=Immanuel Woden Valley Lutheran Church 37 Burnie St Lyons ACT 2606 Australia;X-APPLE-RADIUS=500;X-TITLE=37 Burnie St:geo:149.0813496,-35.343238
END:VEVENT
BEGIN:VEVENT
DTSTART;TZID=Australia/Sydney:20310302T090000
DTEND;TZID=Australia/Sydney:20310302T100000
DTSTAMP:20260421T124542
CREATED:20260317T014720Z
LAST-MODIFIED:20260414T093035Z
UID:10004886-1930208400-1930212000@woden.lutheran.org.au
SUMMARY:Traditional Service with Livestream
DESCRIPTION:The 9.00am service is more traditional liturgical service with a spoken or sung liturgy. Hymns and songs are accompanied by an organist or pianist.
URL:https://woden.lutheran.org.au/event/traditional-service-with-livestream-7-2-2-2/2031-03-02/
LOCATION:Immanuel Woden Valley Lutheran Church\, 37 Burnie St\, Lyons\, ACT\, 2606\, Australia
CATEGORIES:Fellowship,Worship
ATTACH;FMTTYPE=image/jpeg:https://woden.lutheran.org.au/wp-content/uploads/2021/10/2dd0bab5d85664f86920adae085a5466_-australian-capital-territory-lyons-immanuel-woden-valley-lutheran-church-02-6282-1195html-e1657854624415.jpg
GEO:-35.343238;149.0813496
X-APPLE-STRUCTURED-LOCATION;VALUE=URI;X-ADDRESS=Immanuel Woden Valley Lutheran Church 37 Burnie St Lyons ACT 2606 Australia;X-APPLE-RADIUS=500;X-TITLE=37 Burnie St:geo:149.0813496,-35.343238
END:VEVENT
BEGIN:VEVENT
DTSTART;TZID=Australia/Sydney:20310302T103000
DTEND;TZID=Australia/Sydney:20310302T113000
DTSTAMP:20260421T124542
CREATED:20260317T014646Z
LAST-MODIFIED:20260414T093121Z
UID:10004877-1930213800-1930217400@woden.lutheran.org.au
SUMMARY:Contemporary Service with Livestream
DESCRIPTION:The 10.30am service is a more relaxed\, contemporary style. The music is led by a band and singers.
URL:https://woden.lutheran.org.au/event/contemporary-service-with-livestream-6-2-2-2/2031-03-02/
LOCATION:Immanuel Woden Valley Lutheran Church\, 37 Burnie St\, Lyons\, ACT\, 2606\, Australia
CATEGORIES:Fellowship,Worship
ATTACH;FMTTYPE=image/jpeg:https://woden.lutheran.org.au/wp-content/uploads/2021/10/2dd0bab5d85664f86920adae085a5466_-australian-capital-territory-lyons-immanuel-woden-valley-lutheran-church-02-6282-1195html-e1657854624415.jpg
GEO:-35.343238;149.0813496
X-APPLE-STRUCTURED-LOCATION;VALUE=URI;X-ADDRESS=Immanuel Woden Valley Lutheran Church 37 Burnie St Lyons ACT 2606 Australia;X-APPLE-RADIUS=500;X-TITLE=37 Burnie St:geo:149.0813496,-35.343238
END:VEVENT
BEGIN:VEVENT
DTSTART;TZID=Australia/Sydney:20310309T090000
DTEND;TZID=Australia/Sydney:20310309T100000
DTSTAMP:20260421T124542
CREATED:20260317T014720Z
LAST-MODIFIED:20260414T093035Z
UID:10004887-1930813200-1930816800@woden.lutheran.org.au
SUMMARY:Traditional Service with Livestream
DESCRIPTION:The 9.00am service is more traditional liturgical service with a spoken or sung liturgy. Hymns and songs are accompanied by an organist or pianist.
URL:https://woden.lutheran.org.au/event/traditional-service-with-livestream-7-2-2-2/2031-03-09/
LOCATION:Immanuel Woden Valley Lutheran Church\, 37 Burnie St\, Lyons\, ACT\, 2606\, Australia
CATEGORIES:Fellowship,Worship
ATTACH;FMTTYPE=image/jpeg:https://woden.lutheran.org.au/wp-content/uploads/2021/10/2dd0bab5d85664f86920adae085a5466_-australian-capital-territory-lyons-immanuel-woden-valley-lutheran-church-02-6282-1195html-e1657854624415.jpg
GEO:-35.343238;149.0813496
X-APPLE-STRUCTURED-LOCATION;VALUE=URI;X-ADDRESS=Immanuel Woden Valley Lutheran Church 37 Burnie St Lyons ACT 2606 Australia;X-APPLE-RADIUS=500;X-TITLE=37 Burnie St:geo:149.0813496,-35.343238
END:VEVENT
BEGIN:VEVENT
DTSTART;TZID=Australia/Sydney:20310309T103000
DTEND;TZID=Australia/Sydney:20310309T113000
DTSTAMP:20260421T124542
CREATED:20260317T014646Z
LAST-MODIFIED:20260414T093121Z
UID:10004878-1930818600-1930822200@woden.lutheran.org.au
SUMMARY:Contemporary Service with Livestream
DESCRIPTION:The 10.30am service is a more relaxed\, contemporary style. The music is led by a band and singers.
URL:https://woden.lutheran.org.au/event/contemporary-service-with-livestream-6-2-2-2/2031-03-09/
LOCATION:Immanuel Woden Valley Lutheran Church\, 37 Burnie St\, Lyons\, ACT\, 2606\, Australia
CATEGORIES:Fellowship,Worship
ATTACH;FMTTYPE=image/jpeg:https://woden.lutheran.org.au/wp-content/uploads/2021/10/2dd0bab5d85664f86920adae085a5466_-australian-capital-territory-lyons-immanuel-woden-valley-lutheran-church-02-6282-1195html-e1657854624415.jpg
GEO:-35.343238;149.0813496
X-APPLE-STRUCTURED-LOCATION;VALUE=URI;X-ADDRESS=Immanuel Woden Valley Lutheran Church 37 Burnie St Lyons ACT 2606 Australia;X-APPLE-RADIUS=500;X-TITLE=37 Burnie St:geo:149.0813496,-35.343238
END:VEVENT
BEGIN:VEVENT
DTSTART;TZID=Australia/Sydney:20310316T090000
DTEND;TZID=Australia/Sydney:20310316T100000
DTSTAMP:20260421T124542
CREATED:20260317T014720Z
LAST-MODIFIED:20260414T093035Z
UID:10004888-1931418000-1931421600@woden.lutheran.org.au
SUMMARY:Traditional Service with Livestream
DESCRIPTION:The 9.00am service is more traditional liturgical service with a spoken or sung liturgy. Hymns and songs are accompanied by an organist or pianist.
URL:https://woden.lutheran.org.au/event/traditional-service-with-livestream-7-2-2-2/2031-03-16/
LOCATION:Immanuel Woden Valley Lutheran Church\, 37 Burnie St\, Lyons\, ACT\, 2606\, Australia
CATEGORIES:Fellowship,Worship
ATTACH;FMTTYPE=image/jpeg:https://woden.lutheran.org.au/wp-content/uploads/2021/10/2dd0bab5d85664f86920adae085a5466_-australian-capital-territory-lyons-immanuel-woden-valley-lutheran-church-02-6282-1195html-e1657854624415.jpg
GEO:-35.343238;149.0813496
X-APPLE-STRUCTURED-LOCATION;VALUE=URI;X-ADDRESS=Immanuel Woden Valley Lutheran Church 37 Burnie St Lyons ACT 2606 Australia;X-APPLE-RADIUS=500;X-TITLE=37 Burnie St:geo:149.0813496,-35.343238
END:VEVENT
BEGIN:VEVENT
DTSTART;TZID=Australia/Sydney:20310316T103000
DTEND;TZID=Australia/Sydney:20310316T113000
DTSTAMP:20260421T124542
CREATED:20260317T014646Z
LAST-MODIFIED:20260414T093121Z
UID:10004879-1931423400-1931427000@woden.lutheran.org.au
SUMMARY:Contemporary Service with Livestream
DESCRIPTION:The 10.30am service is a more relaxed\, contemporary style. The music is led by a band and singers.
URL:https://woden.lutheran.org.au/event/contemporary-service-with-livestream-6-2-2-2/2031-03-16/
LOCATION:Immanuel Woden Valley Lutheran Church\, 37 Burnie St\, Lyons\, ACT\, 2606\, Australia
CATEGORIES:Fellowship,Worship
ATTACH;FMTTYPE=image/jpeg:https://woden.lutheran.org.au/wp-content/uploads/2021/10/2dd0bab5d85664f86920adae085a5466_-australian-capital-territory-lyons-immanuel-woden-valley-lutheran-church-02-6282-1195html-e1657854624415.jpg
GEO:-35.343238;149.0813496
X-APPLE-STRUCTURED-LOCATION;VALUE=URI;X-ADDRESS=Immanuel Woden Valley Lutheran Church 37 Burnie St Lyons ACT 2606 Australia;X-APPLE-RADIUS=500;X-TITLE=37 Burnie St:geo:149.0813496,-35.343238
END:VEVENT
BEGIN:VEVENT
DTSTART;TZID=Australia/Sydney:20310323T090000
DTEND;TZID=Australia/Sydney:20310323T100000
DTSTAMP:20260421T124542
CREATED:20260317T014720Z
LAST-MODIFIED:20260414T093035Z
UID:10004912-1932022800-1932026400@woden.lutheran.org.au
SUMMARY:Traditional Service with Livestream
DESCRIPTION:The 9.00am service is more traditional liturgical service with a spoken or sung liturgy. Hymns and songs are accompanied by an organist or pianist.
URL:https://woden.lutheran.org.au/event/traditional-service-with-livestream-7-2-2-2/2031-03-23/
LOCATION:Immanuel Woden Valley Lutheran Church\, 37 Burnie St\, Lyons\, ACT\, 2606\, Australia
CATEGORIES:Fellowship,Worship
ATTACH;FMTTYPE=image/jpeg:https://woden.lutheran.org.au/wp-content/uploads/2021/10/2dd0bab5d85664f86920adae085a5466_-australian-capital-territory-lyons-immanuel-woden-valley-lutheran-church-02-6282-1195html-e1657854624415.jpg
GEO:-35.343238;149.0813496
X-APPLE-STRUCTURED-LOCATION;VALUE=URI;X-ADDRESS=Immanuel Woden Valley Lutheran Church 37 Burnie St Lyons ACT 2606 Australia;X-APPLE-RADIUS=500;X-TITLE=37 Burnie St:geo:149.0813496,-35.343238
END:VEVENT
BEGIN:VEVENT
DTSTART;TZID=Australia/Sydney:20310323T103000
DTEND;TZID=Australia/Sydney:20310323T113000
DTSTAMP:20260421T124542
CREATED:20260317T014646Z
LAST-MODIFIED:20260414T093121Z
UID:10004889-1932028200-1932031800@woden.lutheran.org.au
SUMMARY:Contemporary Service with Livestream
DESCRIPTION:The 10.30am service is a more relaxed\, contemporary style. The music is led by a band and singers.
URL:https://woden.lutheran.org.au/event/contemporary-service-with-livestream-6-2-2-2/2031-03-23/
LOCATION:Immanuel Woden Valley Lutheran Church\, 37 Burnie St\, Lyons\, ACT\, 2606\, Australia
CATEGORIES:Fellowship,Worship
ATTACH;FMTTYPE=image/jpeg:https://woden.lutheran.org.au/wp-content/uploads/2021/10/2dd0bab5d85664f86920adae085a5466_-australian-capital-territory-lyons-immanuel-woden-valley-lutheran-church-02-6282-1195html-e1657854624415.jpg
GEO:-35.343238;149.0813496
X-APPLE-STRUCTURED-LOCATION;VALUE=URI;X-ADDRESS=Immanuel Woden Valley Lutheran Church 37 Burnie St Lyons ACT 2606 Australia;X-APPLE-RADIUS=500;X-TITLE=37 Burnie St:geo:149.0813496,-35.343238
END:VEVENT
BEGIN:VEVENT
DTSTART;TZID=Australia/Sydney:20310330T090000
DTEND;TZID=Australia/Sydney:20310330T100000
DTSTAMP:20260421T124542
CREATED:20260317T014720Z
LAST-MODIFIED:20260414T093035Z
UID:10004913-1932627600-1932631200@woden.lutheran.org.au
SUMMARY:Traditional Service with Livestream
DESCRIPTION:The 9.00am service is more traditional liturgical service with a spoken or sung liturgy. Hymns and songs are accompanied by an organist or pianist.
URL:https://woden.lutheran.org.au/event/traditional-service-with-livestream-7-2-2-2/2031-03-30/
LOCATION:Immanuel Woden Valley Lutheran Church\, 37 Burnie St\, Lyons\, ACT\, 2606\, Australia
CATEGORIES:Fellowship,Worship
ATTACH;FMTTYPE=image/jpeg:https://woden.lutheran.org.au/wp-content/uploads/2021/10/2dd0bab5d85664f86920adae085a5466_-australian-capital-territory-lyons-immanuel-woden-valley-lutheran-church-02-6282-1195html-e1657854624415.jpg
GEO:-35.343238;149.0813496
X-APPLE-STRUCTURED-LOCATION;VALUE=URI;X-ADDRESS=Immanuel Woden Valley Lutheran Church 37 Burnie St Lyons ACT 2606 Australia;X-APPLE-RADIUS=500;X-TITLE=37 Burnie St:geo:149.0813496,-35.343238
END:VEVENT
BEGIN:VEVENT
DTSTART;TZID=Australia/Sydney:20310330T103000
DTEND;TZID=Australia/Sydney:20310330T113000
DTSTAMP:20260421T124542
CREATED:20260317T014646Z
LAST-MODIFIED:20260414T093121Z
UID:10004890-1932633000-1932636600@woden.lutheran.org.au
SUMMARY:Contemporary Service with Livestream
DESCRIPTION:The 10.30am service is a more relaxed\, contemporary style. The music is led by a band and singers.
URL:https://woden.lutheran.org.au/event/contemporary-service-with-livestream-6-2-2-2/2031-03-30/
LOCATION:Immanuel Woden Valley Lutheran Church\, 37 Burnie St\, Lyons\, ACT\, 2606\, Australia
CATEGORIES:Fellowship,Worship
ATTACH;FMTTYPE=image/jpeg:https://woden.lutheran.org.au/wp-content/uploads/2021/10/2dd0bab5d85664f86920adae085a5466_-australian-capital-territory-lyons-immanuel-woden-valley-lutheran-church-02-6282-1195html-e1657854624415.jpg
GEO:-35.343238;149.0813496
X-APPLE-STRUCTURED-LOCATION;VALUE=URI;X-ADDRESS=Immanuel Woden Valley Lutheran Church 37 Burnie St Lyons ACT 2606 Australia;X-APPLE-RADIUS=500;X-TITLE=37 Burnie St:geo:149.0813496,-35.343238
END:VEVENT
BEGIN:VEVENT
DTSTART;TZID=Australia/Sydney:20310406T090000
DTEND;TZID=Australia/Sydney:20310406T100000
DTSTAMP:20260421T124542
CREATED:20260317T014720Z
LAST-MODIFIED:20260414T093035Z
UID:10004914-1933232400-1933236000@woden.lutheran.org.au
SUMMARY:Traditional Service with Livestream
DESCRIPTION:The 9.00am service is more traditional liturgical service with a spoken or sung liturgy. Hymns and songs are accompanied by an organist or pianist.
URL:https://woden.lutheran.org.au/event/traditional-service-with-livestream-7-2-2-2/2031-04-06/
LOCATION:Immanuel Woden Valley Lutheran Church\, 37 Burnie St\, Lyons\, ACT\, 2606\, Australia
CATEGORIES:Fellowship,Worship
ATTACH;FMTTYPE=image/jpeg:https://woden.lutheran.org.au/wp-content/uploads/2021/10/2dd0bab5d85664f86920adae085a5466_-australian-capital-territory-lyons-immanuel-woden-valley-lutheran-church-02-6282-1195html-e1657854624415.jpg
GEO:-35.343238;149.0813496
X-APPLE-STRUCTURED-LOCATION;VALUE=URI;X-ADDRESS=Immanuel Woden Valley Lutheran Church 37 Burnie St Lyons ACT 2606 Australia;X-APPLE-RADIUS=500;X-TITLE=37 Burnie St:geo:149.0813496,-35.343238
END:VEVENT
BEGIN:VEVENT
DTSTART;TZID=Australia/Sydney:20310406T103000
DTEND;TZID=Australia/Sydney:20310406T113000
DTSTAMP:20260421T124542
CREATED:20260317T014646Z
LAST-MODIFIED:20260414T093121Z
UID:10004916-1933237800-1933241400@woden.lutheran.org.au
SUMMARY:Contemporary Service with Livestream
DESCRIPTION:The 10.30am service is a more relaxed\, contemporary style. The music is led by a band and singers.
URL:https://woden.lutheran.org.au/event/contemporary-service-with-livestream-6-2-2-2/2031-04-06/
LOCATION:Immanuel Woden Valley Lutheran Church\, 37 Burnie St\, Lyons\, ACT\, 2606\, Australia
CATEGORIES:Fellowship,Worship
ATTACH;FMTTYPE=image/jpeg:https://woden.lutheran.org.au/wp-content/uploads/2021/10/2dd0bab5d85664f86920adae085a5466_-australian-capital-territory-lyons-immanuel-woden-valley-lutheran-church-02-6282-1195html-e1657854624415.jpg
GEO:-35.343238;149.0813496
X-APPLE-STRUCTURED-LOCATION;VALUE=URI;X-ADDRESS=Immanuel Woden Valley Lutheran Church 37 Burnie St Lyons ACT 2606 Australia;X-APPLE-RADIUS=500;X-TITLE=37 Burnie St:geo:149.0813496,-35.343238
END:VEVENT
BEGIN:VEVENT
DTSTART;TZID=Australia/Sydney:20310413T090000
DTEND;TZID=Australia/Sydney:20310413T100000
DTSTAMP:20260421T124542
CREATED:20260317T014720Z
LAST-MODIFIED:20260414T093035Z
UID:10004915-1933837200-1933840800@woden.lutheran.org.au
SUMMARY:Traditional Service with Livestream
DESCRIPTION:The 9.00am service is more traditional liturgical service with a spoken or sung liturgy. Hymns and songs are accompanied by an organist or pianist.
URL:https://woden.lutheran.org.au/event/traditional-service-with-livestream-7-2-2-2/2031-04-13/
LOCATION:Immanuel Woden Valley Lutheran Church\, 37 Burnie St\, Lyons\, ACT\, 2606\, Australia
CATEGORIES:Fellowship,Worship
ATTACH;FMTTYPE=image/jpeg:https://woden.lutheran.org.au/wp-content/uploads/2021/10/2dd0bab5d85664f86920adae085a5466_-australian-capital-territory-lyons-immanuel-woden-valley-lutheran-church-02-6282-1195html-e1657854624415.jpg
GEO:-35.343238;149.0813496
X-APPLE-STRUCTURED-LOCATION;VALUE=URI;X-ADDRESS=Immanuel Woden Valley Lutheran Church 37 Burnie St Lyons ACT 2606 Australia;X-APPLE-RADIUS=500;X-TITLE=37 Burnie St:geo:149.0813496,-35.343238
END:VEVENT
BEGIN:VEVENT
DTSTART;TZID=Australia/Sydney:20310413T103000
DTEND;TZID=Australia/Sydney:20310413T113000
DTSTAMP:20260421T124542
CREATED:20260317T014646Z
LAST-MODIFIED:20260414T093121Z
UID:10004917-1933842600-1933846200@woden.lutheran.org.au
SUMMARY:Contemporary Service with Livestream
DESCRIPTION:The 10.30am service is a more relaxed\, contemporary style. The music is led by a band and singers.
URL:https://woden.lutheran.org.au/event/contemporary-service-with-livestream-6-2-2-2/2031-04-13/
LOCATION:Immanuel Woden Valley Lutheran Church\, 37 Burnie St\, Lyons\, ACT\, 2606\, Australia
CATEGORIES:Fellowship,Worship
ATTACH;FMTTYPE=image/jpeg:https://woden.lutheran.org.au/wp-content/uploads/2021/10/2dd0bab5d85664f86920adae085a5466_-australian-capital-territory-lyons-immanuel-woden-valley-lutheran-church-02-6282-1195html-e1657854624415.jpg
GEO:-35.343238;149.0813496
X-APPLE-STRUCTURED-LOCATION;VALUE=URI;X-ADDRESS=Immanuel Woden Valley Lutheran Church 37 Burnie St Lyons ACT 2606 Australia;X-APPLE-RADIUS=500;X-TITLE=37 Burnie St:geo:149.0813496,-35.343238
END:VEVENT
END:VCALENDAR